
BEGIN:VCALENDAR
VERSION:2.0
PRODID:-//National Farmers Union - ECPv6.15.20//NONSGML v1.0//EN
CALSCALE:GREGORIAN
METHOD:PUBLISH
X-WR-CALNAME:National Farmers Union
X-ORIGINAL-URL:https://www.nfu.ca
X-WR-CALDESC:Events for National Farmers Union
REFRESH-INTERVAL;VALUE=DURATION:PT1H
X-Robots-Tag:noindex
X-PUBLISHED-TTL:PT1H
BEGIN:VTIMEZONE
TZID:America/Edmonton
BEGIN:DAYLIGHT
TZOFFSETFROM:-0700
TZOFFSETTO:-0600
TZNAME:MDT
DTSTART:20210314T090000
END:DAYLIGHT
BEGIN:STANDARD
TZOFFSETFROM:-0600
TZOFFSETTO:-0700
TZNAME:MST
DTSTART:20211107T080000
END:STANDARD
BEGIN:DAYLIGHT
TZOFFSETFROM:-0700
TZOFFSETTO:-0600
TZNAME:MDT
DTSTART:20220313T090000
END:DAYLIGHT
BEGIN:STANDARD
TZOFFSETFROM:-0600
TZOFFSETTO:-0700
TZNAME:MST
DTSTART:20221106T080000
END:STANDARD
BEGIN:DAYLIGHT
TZOFFSETFROM:-0700
TZOFFSETTO:-0600
TZNAME:MDT
DTSTART:20230312T090000
END:DAYLIGHT
BEGIN:STANDARD
TZOFFSETFROM:-0600
TZOFFSETTO:-0700
TZNAME:MST
DTSTART:20231105T080000
END:STANDARD
END:VTIMEZONE
BEGIN:VTIMEZONE
TZID:America/Toronto
BEGIN:DAYLIGHT
TZOFFSETFROM:-0500
TZOFFSETTO:-0400
TZNAME:EDT
DTSTART:20210314T070000
END:DAYLIGHT
BEGIN:STANDARD
TZOFFSETFROM:-0400
TZOFFSETTO:-0500
TZNAME:EST
DTSTART:20211107T060000
END:STANDARD
BEGIN:DAYLIGHT
TZOFFSETFROM:-0500
TZOFFSETTO:-0400
TZNAME:EDT
DTSTART:20220313T070000
END:DAYLIGHT
BEGIN:STANDARD
TZOFFSETFROM:-0400
TZOFFSETTO:-0500
TZNAME:EST
DTSTART:20221106T060000
END:STANDARD
BEGIN:DAYLIGHT
TZOFFSETFROM:-0500
TZOFFSETTO:-0400
TZNAME:EDT
DTSTART:20230312T070000
END:DAYLIGHT
BEGIN:STANDARD
TZOFFSETFROM:-0400
TZOFFSETTO:-0500
TZNAME:EST
DTSTART:20231105T060000
END:STANDARD
END:VTIMEZONE
BEGIN:VTIMEZONE
TZID:America/Vancouver
BEGIN:DAYLIGHT
TZOFFSETFROM:-0800
TZOFFSETTO:-0700
TZNAME:PDT
DTSTART:20210314T100000
END:DAYLIGHT
BEGIN:STANDARD
TZOFFSETFROM:-0700
TZOFFSETTO:-0800
TZNAME:PST
DTSTART:20211107T090000
END:STANDARD
BEGIN:DAYLIGHT
TZOFFSETFROM:-0800
TZOFFSETTO:-0700
TZNAME:PDT
DTSTART:20220313T100000
END:DAYLIGHT
BEGIN:STANDARD
TZOFFSETFROM:-0700
TZOFFSETTO:-0800
TZNAME:PST
DTSTART:20221106T090000
END:STANDARD
BEGIN:DAYLIGHT
TZOFFSETFROM:-0800
TZOFFSETTO:-0700
TZNAME:PDT
DTSTART:20230312T100000
END:DAYLIGHT
BEGIN:STANDARD
TZOFFSETFROM:-0700
TZOFFSETTO:-0800
TZNAME:PST
DTSTART:20231105T090000
END:STANDARD
END:VTIMEZONE
BEGIN:VEVENT
DTSTART;TZID=America/Edmonton:20220307T180000
DTEND;TZID=America/Edmonton:20220307T193000
DTSTAMP:20260425T171226
CREATED:20220302T171139Z
LAST-MODIFIED:20220302T173631Z
UID:10000011-1646676000-1646681400@www.nfu.ca
SUMMARY:Alberta Regional Meeting
DESCRIPTION:Come and connect with fellow farmers\, discuss regional challenges\, and share insights about the future of the National Farmers Union. All Alberta members\, new or seasoned\, welcome to join in for this informal kitchen table conversation!  \nHope to see you all on March 7 at 6pm MDT. \nRegister here and for any additional questions\, please email macinnins@nfu.ca!
URL:https://www.nfu.ca/event/alberta-regional-meeting/
LOCATION:Zoom
END:VEVENT
BEGIN:VEVENT
DTSTART;TZID=America/Toronto:20220303T120000
DTEND;TZID=America/Toronto:20220304T160000
DTSTAMP:20260425T171226
CREATED:20220218T190905Z
LAST-MODIFIED:20220218T191650Z
UID:10000073-1646308800-1646409600@www.nfu.ca
SUMMARY:NFU-O Convention and AGM
DESCRIPTION:This year’s theme\, “Deeply Rooted”\, reflects the structural forces at play which prevent swift and meaningful action to counter and mitigate the effects of climate change. Yet “Deeply Rooted” also celebrates the agroecological solutions to climate mitigation: deep roots sequester more carbon in the soil and are more resilient to extreme weather conditions. Our AGM & Convention panels\, including our keynote address from Dr. Priscilla Settee\, will fill the space in between these two ideas. \nNFU-O’s Regional Convention and AGM is coming up on March 3-4. To learn more and to register click here.
URL:https://www.nfu.ca/event/14989/
LOCATION:Zoom
CATEGORIES:NFU Convention
ORGANIZER;CN="NFU-Ontario":MAILTO:office@nfuontario.ca
END:VEVENT
BEGIN:VEVENT
DTSTART;TZID=America/Vancouver:20220224T120000
DTEND;TZID=America/Vancouver:20220224T133000
DTSTAMP:20260425T171226
CREATED:20220218T185909Z
LAST-MODIFIED:20240428T195056Z
UID:10000072-1645704000-1645709400@www.nfu.ca
SUMMARY:NFUniversity: The Canadian Grain Commission—How Does it Help Farmers?
DESCRIPTION:For more information and to sign-up: click here.
URL:https://www.nfu.ca/event/nfuniversity-the-canadian-grain-commission-how-does-it-help-farmers/
LOCATION:Zoom
CATEGORIES:NFUniversity
END:VEVENT
BEGIN:VEVENT
DTSTART;TZID=America/Vancouver:20220217T100000
DTEND;TZID=America/Vancouver:20220217T113000
DTSTAMP:20260425T171226
CREATED:20220210T152250Z
LAST-MODIFIED:20220217T152159Z
UID:10000008-1645092000-1645097400@www.nfu.ca
SUMMARY:Alternative Forms of Farmland Tenure
DESCRIPTION:On Thursday\, February 17th NFU’s Farmland Committee will host Ian McSweeny Organizational Director of Agrarian Trust to discuss the principles of the organization\, its history and structure\, the work it does creating individual agrarian commons and the commons alliance\, and some context on US agriculture and land trusts. \nAbout Ian McSweeny: Ian’s work has focused on the human connection to soil and food.  To that end\, he has founded a brokerage and consulting company\, acted as Executive Director of the Russel Foundation\, and served on many Boards and Commissions. Recognized as a “40 under 40” leader in New Hampshire\, he was also selected for the Leadership Institute at Food Solutions New England.  Presently he is Organizational Director of Agrarian Trust\, a nationally-supported\, community-held land and agrarian property that supports sustainable food production\, ecological stewardship\, community vitality\, and equitable land access for the next generation of American farmers.He lives with his wife and family on a small New Hampshire farm that uses ecological management practises and is protected by a conservation easement. \nJoin us for an inspiring session on agriculture\, land trusts and community. To register\, please click here. \nAfter registering\, you will receive a confirmation email containing information about joining the meeting.
URL:https://www.nfu.ca/event/alternative-forms-of-farmland-tenure/
LOCATION:Zoom
ORGANIZER;CN="NFU Farmland Committee":MAILTO:holtslander@nfu.ca
END:VEVENT
BEGIN:VEVENT
DTSTART;TZID=America/Vancouver:20220209T160000
DTEND;TZID=America/Vancouver:20220209T173000
DTSTAMP:20260425T171226
CREATED:20220201T140751Z
LAST-MODIFIED:20220201T185136Z
UID:10000004-1644422400-1644427800@www.nfu.ca
SUMMARY:Farmworker Gathering
DESCRIPTION:The National Farmers Union voted in favor of offering a new membership type for farm workers which offers all the benefits and voting privileges of farmers at a 50% off the family membership rate. \nWe want to celebrate this exciting shift by gathering farm workers from coast to coast to coast together in an open discussion space. It’s time we add farm worker voices to the NFU in a substantial way. \nLet’s talk – what are the needs of farm workers\, what are the challenges farm workers face\, what are all the untold\, unheard stories of this work\, what do we want to see happen for the betterment of farm worker conditions\, what value do we contribute to a strong\, progressive farm community? \nCome connect with like-minded farm workers in this welcoming space. \nWhen: February 9\, 2022 \n4 – 5:30 PST\n5 – 6:30 PM MST\, YST\n6 – 7:30 PM CST\n7 – 8:30 PM EST\n8 – 930 PM AST
URL:https://www.nfu.ca/event/farmworker-gathering/
LOCATION:Zoom
ORGANIZER;CN="National Farmers Union":MAILTO:nfu@nfu.ca
END:VEVENT
BEGIN:VEVENT
DTSTART;TZID=America/Vancouver:20220202T140000
DTEND;TZID=America/Vancouver:20220202T150000
DTSTAMP:20260425T171226
CREATED:20220201T135323Z
LAST-MODIFIED:20220201T185236Z
UID:10000003-1643810400-1643814000@www.nfu.ca
SUMMARY:Youth Caucus
DESCRIPTION:Help the NFU Youth create a strategic plan for the year while connecting with young farmers across the country. Join us on Wednesday February 2\, 2022\n6pmAST\, 5pmEST 4pmCST\, 3pmMST\, 2pmPS. Email macinnis@nfu.ca for more information.
URL:https://www.nfu.ca/event/youth-caucus/
LOCATION:Zoom
ORGANIZER;CN="National Farmers Union":MAILTO:nfu@nfu.ca
END:VEVENT
END:VCALENDAR