
BEGIN:VCALENDAR
VERSION:2.0
PRODID:-//National Farmers Union - ECPv6.15.20//NONSGML v1.0//EN
CALSCALE:GREGORIAN
METHOD:PUBLISH
X-ORIGINAL-URL:https://www.nfu.ca
X-WR-CALDESC:Events for National Farmers Union
REFRESH-INTERVAL;VALUE=DURATION:PT1H
X-Robots-Tag:noindex
X-PUBLISHED-TTL:PT1H
BEGIN:VTIMEZONE
TZID:America/Regina
BEGIN:STANDARD
TZOFFSETFROM:-0600
TZOFFSETTO:-0600
TZNAME:CST
DTSTART:20230101T000000
END:STANDARD
END:VTIMEZONE
BEGIN:VTIMEZONE
TZID:America/Halifax
BEGIN:DAYLIGHT
TZOFFSETFROM:-0400
TZOFFSETTO:-0300
TZNAME:ADT
DTSTART:20210314T060000
END:DAYLIGHT
BEGIN:STANDARD
TZOFFSETFROM:-0300
TZOFFSETTO:-0400
TZNAME:AST
DTSTART:20211107T050000
END:STANDARD
BEGIN:DAYLIGHT
TZOFFSETFROM:-0400
TZOFFSETTO:-0300
TZNAME:ADT
DTSTART:20220313T060000
END:DAYLIGHT
BEGIN:STANDARD
TZOFFSETFROM:-0300
TZOFFSETTO:-0400
TZNAME:AST
DTSTART:20221106T050000
END:STANDARD
BEGIN:DAYLIGHT
TZOFFSETFROM:-0400
TZOFFSETTO:-0300
TZNAME:ADT
DTSTART:20230312T060000
END:DAYLIGHT
BEGIN:STANDARD
TZOFFSETFROM:-0300
TZOFFSETTO:-0400
TZNAME:AST
DTSTART:20231105T050000
END:STANDARD
END:VTIMEZONE
BEGIN:VEVENT
DTSTART;VALUE=DATE:20240502
DTEND;VALUE=DATE:20240504
DTSTAMP:20260424T054231
CREATED:20240412T205740Z
LAST-MODIFIED:20241019T140407Z
UID:10000224-1714622400-1714708799@www.nfu.ca
SUMMARY:Democracy and the Land: PEI 2024 Convention
DESCRIPTION:Join us at the District 1\, Region 1 Convention on Thursday\, May 2\, at the Milton Community Hall in North Milton\, P.E.I. Our theme\, “Democracy and the Land\,” sets the stage for a day of meaningful discussion and action. \nRegistration starts at 9:30 a.m.\, followed by the meeting at 10:00 a.m. \nA buffet meal will be served at noon and the cost of registration is $20 which includes the meal. \nChild care assistance is available; contact Edith Ling at 902-368-1262 for details. \nParticipate in shaping our community’s future through resolutions and elections for District positions. Stay tuned for updates on guest speakers. Let’s come together to make a difference! \n 
URL:https://www.nfu.ca/event/r1-d1-pei-2024-convention/
LOCATION:Milton Community Hall\, 7 New Glasgow Rd\, Rte 224\, Milton\, PEI\, C1E 0S7\, Canada
CATEGORIES:Regional Convention
END:VEVENT
BEGIN:VEVENT
DTSTART;TZID=America/Halifax:20220420T093000
DTEND;TZID=America/Halifax:20220420T163000
DTSTAMP:20260424T054231
CREATED:20220322T212017Z
LAST-MODIFIED:20220322T222342Z
UID:10000087-1650447000-1650472200@www.nfu.ca
SUMMARY:District 1 Region 1 (PEI) 2022 Regional Convention
DESCRIPTION:The National Farmers Union District 1\, Region 1 Convention will be held at the Milton Community Hall in North Milton\, PEI on Wednesday\, April 20.  Registration will begin at 9:30 a.m. and the cost will be $20 per person which includes a noon meal.  For more information\, please call Edith Ling at 902-368-1262.
URL:https://www.nfu.ca/event/district-1-region-1-pei-2022-regional-convention/
LOCATION:Milton Community Hall\, 7 New Glasgow Rd\, Rte 224\, Milton\, PEI\, C1E 0S7\, Canada
CATEGORIES:District Convention
ATTACH;FMTTYPE=image/jpeg:https://www.nfu.ca/wp-content/uploads/2018/07/PEI-1.jpg
END:VEVENT
END:VCALENDAR