
BEGIN:VCALENDAR
VERSION:2.0
PRODID:-//National Farmers Union - ECPv6.15.20//NONSGML v1.0//EN
CALSCALE:GREGORIAN
METHOD:PUBLISH
X-ORIGINAL-URL:https://www.nfu.ca/fr/
X-WR-CALDESC:Évènements pour National Farmers Union
REFRESH-INTERVAL;VALUE=DURATION:PT1H
X-Robots-Tag:noindex
X-PUBLISHED-TTL:PT1H
BEGIN:VTIMEZONE
TZID:America/Toronto
BEGIN:DAYLIGHT
TZOFFSETFROM:-0500
TZOFFSETTO:-0400
TZNAME:EDT
DTSTART:20220313T070000
END:DAYLIGHT
BEGIN:STANDARD
TZOFFSETFROM:-0400
TZOFFSETTO:-0500
TZNAME:EST
DTSTART:20221106T060000
END:STANDARD
BEGIN:DAYLIGHT
TZOFFSETFROM:-0500
TZOFFSETTO:-0400
TZNAME:EDT
DTSTART:20230312T070000
END:DAYLIGHT
BEGIN:STANDARD
TZOFFSETFROM:-0400
TZOFFSETTO:-0500
TZNAME:EST
DTSTART:20231105T060000
END:STANDARD
BEGIN:DAYLIGHT
TZOFFSETFROM:-0500
TZOFFSETTO:-0400
TZNAME:EDT
DTSTART:20240310T070000
END:DAYLIGHT
BEGIN:STANDARD
TZOFFSETFROM:-0400
TZOFFSETTO:-0500
TZNAME:EST
DTSTART:20241103T060000
END:STANDARD
END:VTIMEZONE
BEGIN:VTIMEZONE
TZID:America/Regina
BEGIN:STANDARD
TZOFFSETFROM:-0600
TZOFFSETTO:-0600
TZNAME:CST
DTSTART:20220101T000000
END:STANDARD
END:VTIMEZONE
BEGIN:VEVENT
DTSTART;TZID=America/Toronto:20231011T120000
DTEND;TZID=America/Toronto:20231011T133000
DTSTAMP:20260421T053414
CREATED:20230829T200342Z
LAST-MODIFIED:20230829T200342Z
UID:10000384-1697025600-1697031000@www.nfu.ca
SUMMARY:Déclaration des Nations unies sur les droits des paysans et des autres personnes travaillant dans les zones rurales - de quoi s'agit-il et comment peut-elle contribuer à transformer le système alimentaire mondial ?
DESCRIPTION:Le mercredi 11 octobre à midi\, heure de l’Est\, le Comité des Programmes Internationaux (IPC) de l’UNF organisera un événement en ligne sur la Déclaration des Nations Unies sur les droits des paysans et des autres peuples travaillant dans les zones rurales (UNDROP). Parmi les intervenants figurent Paula Gioia (apicultrice et membre d’une organisation de petits fermiers en Allemagne)\, Jessie MacInnis (président de la jeunesse de l’UNF) et Nadia Lambek (professeur de droit à l’université de Western Ontario). Venez découvrir l’importance de ce document historique\, ses utilisations stratégiques dans le contexte canadien et les possibilités de transformation qu’il peut inspirer. \nInscrivez-vous ici !
URL:https://www.nfu.ca/fr/event/undrop-webinaire-2023/
LOCATION:Zoom
CATEGORIES:Comité du programme international
ATTACH;FMTTYPE=image/jpeg:https://www.nfu.ca/wp-content/uploads/2023/08/EN-Cover-Image-LVC-UNDROP.jpeg
END:VEVENT
BEGIN:VEVENT
DTSTART;TZID=America/Regina:20231012T140000
DTEND;TZID=America/Regina:20231012T153000
DTSTAMP:20260421T053414
CREATED:20231001T204700Z
LAST-MODIFIED:20240712T194401Z
UID:10000386-1697119200-1697124600@www.nfu.ca
SUMMARY:Capacité des gouvernements en matière de politique agricole : Tirer les leçons de l'ARAP\, construire une ARFC
DESCRIPTION:Qu’est-ce que l’Agence canadienne de résilience agricole (ACRA) proposée par l’UNF ? Comment fonctionnera-t-il ? Pourquoi la crise climatique nécessite-t-elle ce type de réponse tous azimuts ? Comment la CFRA s’inspire-t-elle et actualise-t-elle le modèle de l’ARAP (Administration du rétablissement agricole des Prairies) mis en place dans les années 1930 ? Rejoignez-nous pour une rétrospective de l’ARAP et du Dust Bowl des années 1930 et pour une réflexion sur l’ARFC en tant que réponse aux défis des années 2030 et au-delà. \n\nInformations sur le présentateur\n\nCarl Neggers\, ancien directeur général de l’ARAP \n\nAnn Slater\, ancienne vice-présidente de l’UNF et membre de notre groupe de travail sur la CFRA \n\nSessions enregistrées
URL:https://www.nfu.ca/fr/event/gouvernement-ag-politique-capacite-apprentissage-de-la-pfra-construction-dune-cfra/
END:VEVENT
BEGIN:VEVENT
DTSTART;TZID=America/Regina:20231026T160000
DTEND;TZID=America/Regina:20231026T173000
DTSTAMP:20260421T053414
CREATED:20231020T201500Z
LAST-MODIFIED:20240712T194401Z
UID:10000389-1698336000-1698341400@www.nfu.ca
SUMMARY:Résister à l'accaparement des terres pour les plantations d'eucalyptus au Brésil
DESCRIPTION:Résistance au broyage des terres pour les plantations d’eucalyptus au Brésil\n\n\n\nRejoignez-nous pour écouter les dirigeants de la communauté de Quilombola\, dans la biozone de la forêt atlantique du Brésil\, qui se battent pour cultiver de la nourriture pour leurs familles et leurs communautés en s’opposant directement à l’expansion des plantations destructrices d’eucalyptus contrôlées par la grande entreprise de pâte à papier Suzano.   \n\n\n\nLes territoires indigènes et les terres colonisées par Quilombola ont été accaparés pour des plantations d’eucalyptus – et l’expansion n’est pas terminée. Les plantations industrielles de la plus grande entreprise de pâte à papier au monde\, la société brésilienne Suzano\, entourent et isolent de nombreuses petites communautés agricoles. Ils épuisent les sources d’eau locales et exposent les personnes\, les cultures et les animaux d’élevage aux pulvérisations de pesticides. Les plantations d’eucalyptus ont asséché des ruisseaux\, des rivières et même des lacs dans des territoires où les droits fonciers sont contestés. Les plantations remplacent les forêts indigènes et n’abritent aucune vie animale\, à l’exception du pollen d’eucalyptus qui nourrit les abeilles.   \n\n\n\nLe Mouvement des travailleurs ruraux sans terre (MST) reprend les terres de plantation et les transforme en agriculture agroécologique et agroforestière. Ils affirment que les terres peuvent être utilisées pour l’agriculture et la population plutôt que pour la production de pâte à papier et Suzano. Les communautés de Quilombola se battent pour la reconnaissance légale de leurs terres\, car Suzano continue d’empiéter sur les fermes locales et les terres communautaires traditionnelles. \n\n\n\nLucy Sharratt et Kaitlyn Duthie-Kannikkatt du Réseau canadien d’action sur les biotechnologies (RCAB) ont rencontré ces dirigeants lors de visites communautaires au Brésil dans le cadre d’une délégation internationale visant à échanger des informations sur les arbres génétiquement modifiés et les plantations industrielles en mai 2023.   \n\n\n\nFiche d’information :  L’entreprise de pâte à papier Suzano déclare posséder 1\,4 million d’hectares de plantations d’eucalyptus au Brésil. Il s’agit notamment des territoires indigènes et des terres colonisées par les Quilombos et les communautés paysannes. Les plantations d’eucalyptus de Suzano sont responsables de graves dommages sociaux\, environnementaux et climatiques\, notamment la déforestation\, la pollution\, les pénuries d’eau et la destruction de terres fertiles. Dans l’État d’Espírito Santo\, les familles du Mouvement des travailleurs ruraux sans terre (MST) produisent plus de 100 tonnes de nourriture par an sur les terres qu’elles ont reprises aux eucalyptus de Suzano. Personne ne mange d’eucalyptus et plus de 33 millions de familles souffrent de la faim au Brésil. Si les 1\,4 million d’hectares de plantations de Suzano étaient utilisés pour la réforme agraire\, ils suffiraient à assurer la survie de plus de 115 000 familles. –  \n  extrait de « \n\n  \n    Ce que vous devez savoir sur Suzano Papel e Celulose\n  \n\n  « \, World Rainforest Movement\, 2023.\n \n\n\n\n\n\nNous nous joignons à nous pour aider les dirigeants des communautés de la zone biologique de la Mata Atlântica au Brésil qui luttent pour cultiver des aliments pour leurs familles et leurs communautés en résistant directement à l’expansion des plantations destructives d’eucalyptus contrôlées par la grande entreprise de cellulose Suzano. \n\n\n\nLes territoires indigènes et les terres occupées par les habitants des villes ont été transformés en plantations d’eucalyptus et l’expansion n’a jamais cessé. Les usines industrielles de l’entreprise brésilienne Suzano (la plus grande entreprise de cellulose au monde) se concentrent et isolent de nombreuses petites communautés agricoles\, détruisant les sources d’eau locales et exposant les personnes\, les plantes et les animaux à la pulvérisation de pesticides. Les plantations d’eucalyptus recouvrent les côtes\, les rivières et même les lacs sur des territoires où les droits de propriété sur la terre sont contestés. Les plantes se substituent à la flore naturelle et n’entretiennent aucune vie animale\, à l’exception du bois d’eucalyptus qui nourrit les animaux. \n\n\n\nLe Mouvement des travailleurs ruraux sans terre (MST) reprend les terres de culture et les transforme en agriculture agroécologique et agroforestière\, arguant que la terre peut être productive pour l’agriculture et les personnes\, au lieu de l’être pour la production de cellulose et pour Suzano. Les communautés quilomboises luttent pour la reconnaissance légale de leurs terres\, alors que la Suzano continue d’envahir les maisons locales et les terres traditionnelles de la communauté. \n\n\n\nLucy Sharratt et Kaitlyn Duthie-Kannikkatt\, du Réseau canadien d’action sur les biotechnologies (RCAB)\, ont établi le contact avec ces dirigeants lors de visites dans des communautés au Brésil\, en mai 2023\, dans le cadre d’une délégation internationale visant à obtenir des informations sur les arvores génétiquement modifiés et les plantes industrielles. Cliquez ici pour obtenir des informations sur l’échange. \n\n\n\nHistorique: L’entreprise de cellulose Suzano affirme être propriétaire de 1\,4 million d’hectares de plantations d’eucalyptus au Brésil. Cela inclut les territoires indigènes et les terres occupées par des personnes et des communautés nomades et campagnardes. Les plantations d’eucalyptus de Suzano sont responsables de graves dommages sociaux\, environnementaux et climatiques\, notamment la dégradation\, la pollution\, l’évaporation de l’eau et la destruction des terres agricoles. Dans l’État d’Espírito Santo\, les familles du Movimento dos Trabalhadores Rurais Sem Terra (MST) produisent plus de 100 tonnes d’aliments par an dans des terrasses qui ont été reconstruites à partir d’arbres à sucre de Suzano. Il n’y a pas d’eucalipto\, et plus de 33 millions de familles en profitent au Brésil. Si les 1\,4 million d’hectares de plantations de Suzano sont utilisés pour la réforme agraire\, ils suffisent à garantir la survie de plus de 115 000 familles. – Extrait de« O que você deve saber sobre a Suzano Papel e Celulose » Movimento Mundial pelas Florestas Tropicais\, 2023. \n\n\n\n\nCélio Pinheiro Leocádio est un Quilombo\, né dans le Quilombo de Volta Miúda\, à Caravelas\, à l’extrême sud de l’État de Bahia\, dans le nord-est du Brésil. Il est mobilisateur et militant. Il est coordinateur des mouvements et de l’articulation des quilombos de l’extrême sud de Bahia et président de l’association des producteurs de quilombos restants de Volta Miúda – Caravelas. \n\n\n\nCélio Pinheiro Leocádio est un quilombo\, né au Quilombo de Volta Miúda\, à Caravelas\, à l’extrémité sud de l’État de Bahia\, au nord-est du Brésil. Il s’agit d’un mobilisateur et d’un activiste. Célio est coordonnateur des mouvements et articulations des Quilombolas de l’extrême sud de Bahia et président de l’association des producteurs de quilombos de Volta Miúda – Caravelas. \n\n\n\nDiosmar Filho est doctorant en géographie à l’université fédérale de Fluminense (UFF) au Brésil. Il est chercheur et coordinateur scientifique de l’association de recherche Iyaleta\, où il dirige la recherche « Inégalités et changement climatique ». Il a coordonné le projet de recherche « Urban Legal Amazon – Socio-spatial Analyses of Climate Change (2020/2022) » et codirige actuellement le projet de recherche « Climate Adaptation : an intersection between Brazil 2022-2024. \n\n\n\nDiosmar Filho est étudiant en géographie à l’Université fédérale de Fluminense (UFF)\, au Brésil. Il est chercheur et coordinateur scientifique de l’Association de recherche Iyaleta\, où il mène une étude sur les inégalités et les changements climatiques. Il a coordonné le projet d’étude « Amazônia Legal Urbana – Análises Socioespaciais das Mudanças Climáticas (2020/2022) » et est actuellement co-responsable du projet d’étude « Adaptação Climática : uma interseção entre o Brasil 2022-2024 ».
URL:https://www.nfu.ca/fr/event/resister-aux-prelevements-sur-les-terres-pour-les-plantations-deucalyptus-au-bresil/
END:VEVENT
END:VCALENDAR