
BEGIN:VCALENDAR
VERSION:2.0
PRODID:-//National Farmers Union - ECPv6.15.20//NONSGML v1.0//EN
CALSCALE:GREGORIAN
METHOD:PUBLISH
X-WR-CALNAME:National Farmers Union
X-ORIGINAL-URL:https://www.nfu.ca/fr/
X-WR-CALDESC:Évènements pour National Farmers Union
REFRESH-INTERVAL;VALUE=DURATION:PT1H
X-Robots-Tag:noindex
X-PUBLISHED-TTL:PT1H
BEGIN:VTIMEZONE
TZID:America/Halifax
BEGIN:DAYLIGHT
TZOFFSETFROM:-0400
TZOFFSETTO:-0300
TZNAME:ADT
DTSTART:20220313T060000
END:DAYLIGHT
BEGIN:STANDARD
TZOFFSETFROM:-0300
TZOFFSETTO:-0400
TZNAME:AST
DTSTART:20221106T050000
END:STANDARD
BEGIN:DAYLIGHT
TZOFFSETFROM:-0400
TZOFFSETTO:-0300
TZNAME:ADT
DTSTART:20230312T060000
END:DAYLIGHT
BEGIN:STANDARD
TZOFFSETFROM:-0300
TZOFFSETTO:-0400
TZNAME:AST
DTSTART:20231105T050000
END:STANDARD
BEGIN:DAYLIGHT
TZOFFSETFROM:-0400
TZOFFSETTO:-0300
TZNAME:ADT
DTSTART:20240310T060000
END:DAYLIGHT
BEGIN:STANDARD
TZOFFSETFROM:-0300
TZOFFSETTO:-0400
TZNAME:AST
DTSTART:20241103T050000
END:STANDARD
END:VTIMEZONE
BEGIN:VTIMEZONE
TZID:America/Edmonton
BEGIN:DAYLIGHT
TZOFFSETFROM:-0700
TZOFFSETTO:-0600
TZNAME:MDT
DTSTART:20220313T090000
END:DAYLIGHT
BEGIN:STANDARD
TZOFFSETFROM:-0600
TZOFFSETTO:-0700
TZNAME:MST
DTSTART:20221106T080000
END:STANDARD
BEGIN:DAYLIGHT
TZOFFSETFROM:-0700
TZOFFSETTO:-0600
TZNAME:MDT
DTSTART:20230312T090000
END:DAYLIGHT
BEGIN:STANDARD
TZOFFSETFROM:-0600
TZOFFSETTO:-0700
TZNAME:MST
DTSTART:20231105T080000
END:STANDARD
BEGIN:DAYLIGHT
TZOFFSETFROM:-0700
TZOFFSETTO:-0600
TZNAME:MDT
DTSTART:20240310T090000
END:DAYLIGHT
BEGIN:STANDARD
TZOFFSETFROM:-0600
TZOFFSETTO:-0700
TZNAME:MST
DTSTART:20241103T080000
END:STANDARD
END:VTIMEZONE
BEGIN:VEVENT
DTSTART;TZID=America/Halifax:20230812T040000
DTEND;TZID=America/Halifax:20230814T035959
DTSTAMP:20260421T072154
CREATED:20230622T183410Z
LAST-MODIFIED:20230622T183410Z
UID:10000379-1691812800-1691985599@www.nfu.ca
SUMMARY:Convention de la région 1 + atelier Biochar 2023
DESCRIPTION:C’est un grand honneur d’inviter non seulement nos compatriotes insulaires (District 1)\, notre famille acadienne (District 2)\, mais aussi officiellement nos frères et sœurs de la goélette en tant que nouveau District 3 ! Nous vous invitons tous à assister à la convention de la Région 1 2023 dans le centre de l’Île-du-Prince-Édouard les 12 et 13 août 2023. Sur  Le samedi 12 nous aurons un atelier sur le biochar à la ferme Sweet Pea (2209\, Byrnes road\, Morell\, PEI) à 15h\, suivi d’un repas-partage.  à la ferme. Sur  Le dimanche 13 nous tiendrons notre convention de de 13h à 17h au Milton Community Hall Centre. La convention sera également retransmise sur zoom pour ceux qui ne peuvent pas se rendre sur place (voir les informations ci-dessous).   \nNotre congrès de la région 1 couvrira les nouveaux programmes de financement SCAP\, une mise à jour nationale du président de l’UNF\, Jenn Pfenning\, et une discussion sur les questions foncières telles que la perte continue de terres agricoles et les stratégies alternatives d’accès à la terre et de succession. Veuillez consulter cette page pour obtenir l’ordre du jour le plus récent. \nLes résolutions constituent le fondement de notre politique et guident notre travail tout au long de l’année. Envoyez vos résolutions à nfu.pei.office@gmail.com.  \nNous encourageons tous les membres à participer à cette convention régionale. Votre participation et votre contribution sont importantes pour nos discussions et donneront une orientation à notre région.   \n\nL’ordre du jour\nSamedi 12 août :   \n15h à Sweet Pea Farm (2209 Byrnes road\, Morell PEI): Atelier sur le biochar\, suivi d’un repas-partage \nDimanche 13 août :   \n13h : Introductions \n13h30: Examen du procès-verbal de l’année précédente   \n14h: Explication du SCAP   \n2:30: Questions \n15h: Résolutions \n15:30: Rapport de Jenn Pfenning\, présidente de l’UNF   \n16h: Questions   \n4:15pm: Nouvelles foncières/transition/zonage (à déterminer) \n17 heures: Clôture   \n\n– \nChers membres de l’UNF Région 1 :   \nC’est un grand honneur pour moi d’inviter non seulement mes chers insulaires (District 1)\, ma famille acadienne (District 2)\, mais aussi officiellement nos frères et sœurs néo-écossais du District 3 ! Nous vous invitons tous à participer au congrès de la Région 1 les 12 et 13 août 2023.  Le samedi 12\, nous aurons un atelier sur le biochar à la ferme Sweet Pea à 15 h\, suivi d’un repas-partagé à la ferme. Le dimanche 13\, nous tiendrons notre congrès de 13 h à 17 h au centre communautaire de Milton Hall. Le congrès sera également couvert sur zoom pour ceux qui ne peuvent pas venir en personne. \nLe congrès de la région 1 couvrira les nouveaux programmes de financement PAC durable ; une mise à jour nationale de la présidente de l’UNF\, Jenn Pfenning ; et une discussion sur les questions foncières telles que la perte continue de terres agricoles et les stratégies alternatives d’accès aux terres et de succession. \nLes résolutions constituent la fondation de notre politique et guident notre travail durant toute l’année. Envoyez vos résolutions à nfu.pei.office@gmail.com.   \nNous encourageons tous les membres à participer à cette convention régionale. Votre participation et votre contribution sont importantes pour nos discussions et donneront une orientation à notre région. \n\nJoin Via Zoom / Joignez-vous à zoom :  \n\nParticipez à la réunion Zoom\nhttps://us02web.zoom.us/j/86011121655?pwd=ZzhSYWxYSlBCaFFid0JUZHFUT3pBdz09 \nID de la réunion / Identi: 860 1112 1655\nCode d’accès: 245689 \n— \nComposez en fonction de votre lieu de résidence\n– +1 647 374 4685 Canada\n– +1 647 558 0588 Canada \n 
URL:https://www.nfu.ca/fr/event/convention-de-la-region-1-plus-atelier-biochar-2023/
LOCATION:Milton Community Hall\, 7 New Glasgow Rd\, Rte 224\, Milton\, PEI\, C1E 0S7\, Canada
CATEGORIES:Convention régionale
ATTACH;FMTTYPE=image/jpeg:https://www.nfu.ca/wp-content/uploads/2023/06/R1-convention-NFU-NB-Large.jpeg
END:VEVENT
BEGIN:VEVENT
DTSTART;TZID=America/Edmonton:20230812T123000
DTEND;TZID=America/Edmonton:20230812T170000
DTSTAMP:20260421T072154
CREATED:20230717T182153Z
LAST-MODIFIED:20230717T182153Z
UID:10000382-1691843400-1691859600@www.nfu.ca
SUMMARY:Convention de la Région 7 2023
DESCRIPTION:Cette année\, le congrès annuel de la région 7 (Alberta) accueillera Alex Pulwicki en tant que conférencier invité pour parler des liens entre les terres en Alberta et du soutien à l’accès aux terres en Alberta\, et comprendra des rapports\, des élections\, des résolutions et des mises à jour. \nLa convention se tiendra le \n  samedi 12 août 2023.\n Rejoignez-nous pour un après-midi informatif avec des intervenants\, des mises à jour et un processus démocratique. Faites entendre votre voix sur les actions et les progrès régionaux\, au niveau local et national ! \n\n  PARTICIPATION EN PERSONNE :\n La convention en personne se tiendra à la bibliothèque municipale d’Olds\, dans la salle Lion’s Den\, à Olds\, en Alberta. \n\n  ASSISTER PAR ZOOM :\n Pour ceux qui ne peuvent pas participer en personne\, nous avons inclus des instructions sur la façon de se connecter à distance par Internet et par téléphone afin que les membres puissent participer pleinement. \nNous espérons que vous vous joindrez à nous en personne ou en ligne\, et que vous inviterez vos amis à venir assister à la présentation et à recevoir des informations de la part des dirigeants régionaux et nationaux. \nL’inscription aura lieu à 12h30. La Convention débutera à 13h00. La convention sera levée à 17 heures. \n\n  Un camping de nuit est disponible à la ferme normande.\n. Contactez Glenn Norman à l’adresse grn_collies@hotmail.com ou par téléphone au 403-350-8640 pour obtenir de plus amples informations et des indications. \nNous nous réjouissons de vous voir le 12 août ! \nDans l’Union\, \nToby Malloy \nNCoordinateur de la région 7 (Alberta) du FU \n\nL’ordre du jour\n12:30 : Inscription \n1:00 PM : Rappel à l’ordre\, bienvenue\, présentations\, élection d’un président \n13:20: Bienvenue et mise à jour: \n13:40: Procès-verbal de la réunion du 11 juillet 2022 \n1:50 PM : Mise à jour sur l’Alberta: Toby Malloy \n2:10 PM : Rapports: Comité des Programmes Internationaux\, Comité consultatif des femmes\, Comité des Jeunes\, CIP (Comité des Programmes Internationaux) \n2:30 PM : Élections: 3 membres du conseil d’administration ; 1 membre du comité consultatif des femmes ; 1 membre du comité consultatif des jeunes ; 1 membre du PANDC ; 1 membre du CIP. \n15:00 : Pause \n15:15: Résolutions: Apportez vos résolutions sur les questions qui vous tiennent à cœur et sur lesquelles vous aimeriez que l’UNF travaille. \n3:30 PM: Conférencier invité – Alex Pulwicki\, gestionnaire de programme\, Young Agrarians\nAlex Pulwicki\, gestionnaire de programme pour les\n   Young Agrarians\, se joindra à nous pour parler des liens entre les terres en Alberta et du soutien à l’accès à la terre en Alberta. \n   \n17:00 HEURES : Levée de la séance \n\nPOUR PARTICIPER À LA RÉUNION VIA LE ZOOM\nPour vous joindre par ordinateur : Cliquez sur ce lien : https://us02web.zoom.us/j/85996254815?pwd=YWZoOTFway91N2RpMTJDT2hrN2t5Zz09OU Allez sur le site web de Zoom https://zoom.us/ et cliquez sur « Join a Meeting »\, puis entrez l’ID de la réunion et le code d’accès : \nID de la réunion: 859 9625 4815 \nCode d’accès: 547692 \nPour s’inscrire par téléphone : \n\nNotez à l’avance sur une feuille de papier les numéros de l’identifiant de la réunion et du code d’accès.\nComposez l’un des numéros suivants: 1 438 809 7799\n1 647 558 0588\nSaisissez l’ID de la réunion: 859 9625 4815 et le PASSCODE : 547692
URL:https://www.nfu.ca/fr/event/convention-de-la-region-7-2023/
END:VEVENT
BEGIN:VEVENT
DTSTART;TZID=America/Halifax:20230814T190000
DTEND;TZID=America/Halifax:20230814T200000
DTSTAMP:20260421T072154
CREATED:20230719T235314Z
LAST-MODIFIED:20230719T235314Z
UID:10000383-1692039600-1692043200@www.nfu.ca
SUMMARY:Rapport de retour-Assemblée des jeunes de La Via Campesina Indonésie 2023
DESCRIPTION:Rejoignez Jessie MacInnis\, président de la jeunesse de l’UNF\, et Tyler Short\, de Family Farm Defenders (États-Unis)\, pour un compte rendu de leur expérience à l’assemblée des jeunes de La Via Campesina\, qui s’est tenue la première semaine de juin 2023 à Banten\, en Indonésie. \nIls donneront un aperçu de la structure de LVC et souligneront l’objectif de la réunion\, les méthodologies utilisées et les objectifs politiques pour les jeunes en vue de la VIIIe Conférence de LVC. \nL’interprétation de l’anglais vers le français sera disponible. \nInscrivez-vous ici\n\n \nCe projet a été rendu possible [in part] par le gouvernement du Canada.\nCe projet a été rendu possible [en partie] grâce au gouvernement du Canada.
URL:https://www.nfu.ca/fr/event/lvc-assemblee-des-jeunes-report-back/
LOCATION:Zoom
ATTACH;FMTTYPE=image/jpeg:https://www.nfu.ca/wp-content/uploads/2023/07/LVC-Indonesia-Youth.jpeg
END:VEVENT
END:VCALENDAR