
BEGIN:VCALENDAR
VERSION:2.0
PRODID:-//National Farmers Union - ECPv6.15.20//NONSGML v1.0//EN
CALSCALE:GREGORIAN
METHOD:PUBLISH
X-ORIGINAL-URL:https://www.nfu.ca/fr/
X-WR-CALDESC:Évènements pour National Farmers Union
REFRESH-INTERVAL;VALUE=DURATION:PT1H
X-Robots-Tag:noindex
X-PUBLISHED-TTL:PT1H
BEGIN:VTIMEZONE
TZID:America/Regina
BEGIN:STANDARD
TZOFFSETFROM:-0600
TZOFFSETTO:-0600
TZNAME:CST
DTSTART:20220101T000000
END:STANDARD
END:VTIMEZONE
BEGIN:VEVENT
DTSTART;TZID=America/Regina:20230722T110000
DTEND;TZID=America/Regina:20230722T180000
DTSTAMP:20260421T103421
CREATED:20230317T190220Z
LAST-MODIFIED:20240712T194349Z
UID:10000374-1690023600-1690048800@www.nfu.ca
SUMMARY:Atelier PANDC : Prairies
DESCRIPTION:L’Union Nationale des Fermiers (UNF) PANDC (Noirs\, indigènes et personnes de couleur)  Le Caucus organise une série d’événements en personne dirigés par des fermières d’un bout à l’autre du pays ! Nous invitons les fermières et les travailleurs agricoles PANDC\, actuels et futurs\, à se connecter\, à apprendre et à s’organiser ensemble. \nLe Caucus PANDC de l’UNF a identifié l’accès à la formation technique comme un obstacle à l’entrée dans l’agriculture\, en particulier pour les producteurs PANDC. Nous avons également le désir et le besoin de nous connecter et de nous unir aux producteurs PANDC. L’union fait la force – et les relations sont au cœur du travail collectif.  Nous sommes ravis d’offrir des opportunités soutenues financièrement pour rassembler les fermières et les travailleurs agricoles PANDC afin de construire des relations et d’apprendre. Les aspirants fermiers PANDC / travailleurs agricoles / travailleurs de l’alimentation adjacents sont les bienvenus ! \nRejoignez-nous pour notre prairie  rassemblement ! Toutes les provinces des Prairies BIPOLes producteurs de Ce sont invités à se joindre à nous dans une ferme près de Borden (Saskatchewan)\, au nord de Saskatoon\, pour en savoir plus sur lesut introduire le bétail dans une exploitation agricole mixte d’un point de vue technique et commercial\, et nouer des liens avec d’autres fermiers et travailleurs agricoles de PANDC. Kishon et Jordan\, fermiers de l’UNF faisant partie du caucus PANDC\, coanimeront l’atelier\, et Adama\, travailleur agricole basé à Edmonton\, facilitera la création d’une communauté et l’exploration de nos luttes collectives et de nos possibilités d’action.   \nOù: Près de Borden\, SK\, à 50 minutes au nord-ouest de Saskatoon. Inscrivez-vous pour obtenir l’itinéraire et l’adresse GPS de la ferme.   \nQuand : Le 22 juillet 2023\, de 11 h à 18 h 30   \nQuoi ? Présentation du bétail dans le cadre d’un atelier sur les fermes mixtes et exploration de nos liens\, de nos luttes collectives et de nos possibilités d’action !   \nLe programme de la journée sera le suivant :  \n\n\n  11:00 \n\n  Rencontre et visite de la ferme\n\n\n\n\n  12h00 \n\n  Le déjeuner sera offert et les participants sont invités à se connecter avec d’autres personnes.\n\n\n\n\n  1:30-3:30\n\n   Jordan et Kishon animeront un atelier sur la présentation du bétail et de l’élevage d’un point de vue technique et commercial\, et faciliteront le partage des connaissances.\n\n\n\n\n  4:30-6:00 \n\n  Adama soutiendra une conversation organique autour des politiques agricoles et alimentaires et de l’organisation du changement. \n \n\nNous avons prévu un certain nombre de mesures de soutien pour vous aider à participer en personne : \n\nIl existe un fonds destiné à rembourser \n  locaux \nfrais kilométriques\nLe déjeuner et le dîner seront fournis\nDeux nuits d’hébergement en chambre partagée seront fournies\n\nLes participants doivent \n  s’inscrire ici\n avant le samedi 8 juillet !\nAprès votre inscription\, vous recevrez par courriel des informations supplémentaires sur les modalités d’accès au soutien financier pour le voyage (allocation de gaz et hébergement) et sur les détails de l’événement ! Toute question peut être adressée à  koon@nfu.ca. \nVous venez ? Amenez aussi un(e) ami(e) ! Aidez-nous à organiser une opportunité de connexion qui a de l’impact. \nEn toute solidarité\,  \nQui sommes-nous ? \nLa Nationale des Fermières (UNF) est l’organisation agricole nationale qui s’engage en faveur des exploitations familiales et coopératives. Promouvant l’agroécologie et la souveraineté alimentaire\, l’UNF ne faiblit pas dans sa vision pour les fermiers\, les travailleurs agricoles\, les mangeurs et la terre\, ancrée dans la justice sociale et économique. \nL’UNF envisage un avenir sans barrières pour les fermières et les travailleurs agricoles racialisés\, afin qu’ils puissent accéder à la terre et développer des exploitations agricoles durables. Les fermiers et les travailleurs agricoles du PANDC forment le caucus du PANDC. Le Caucus s’engage à organiser notre pouvoir collectif\, à faire progresser le mandat de l’UNF\, à approfondir les réseaux de soutien\, à partager les connaissances entre pairs et à promouvoir des moyens de subsistance équitables. \nThis project is funded [in part] by the Government of Canada.Ce projet est financé [en partie] par le gouvernement du Canada.
URL:https://www.nfu.ca/fr/event/pandc-atelier-elevage-prairies/
CATEGORIES:Caucus PANDE (BIPOC)
ATTACH;FMTTYPE=image/jpeg:https://www.nfu.ca/wp-content/uploads/2023/03/BIPOC-Caucus-2023-1-scaled.jpg
END:VEVENT
BEGIN:VEVENT
DTSTART;TZID=America/Regina:20230722T110000
DTEND;TZID=America/Regina:20230722T180000
DTSTAMP:20260421T103421
CREATED:20240508T140702Z
LAST-MODIFIED:20240712T194523Z
UID:10000458-1690023600-1690048800@www.nfu.ca
SUMMARY:Atelier PANDC : Prairies
DESCRIPTION:L’Union Nationale des Fermiers (UNF) PANDC (Noirs\, indigènes et personnes de couleur)  Le Caucus organise une série d’événements en personne dirigés par des fermières d’un bout à l’autre du pays ! Nous invitons les fermières et les travailleurs agricoles PANDC\, actuels et futurs\, à se connecter\, à apprendre et à s’organiser ensemble. \nLe Caucus PANDC de l’UNF a identifié l’accès à la formation technique comme un obstacle à l’entrée dans l’agriculture\, en particulier pour les producteurs PANDC. Nous avons également le désir et le besoin de nous connecter et de nous unir aux producteurs PANDC. L’union fait la force – et les relations sont au cœur du travail collectif.  Nous sommes ravis d’offrir des opportunités soutenues financièrement pour rassembler les fermières et les travailleurs agricoles PANDC afin de construire des relations et d’apprendre. Les aspirants fermiers PANDC / travailleurs agricoles / travailleurs de l’alimentation adjacents sont les bienvenus ! \nRejoignez-nous pour notre prairie  rassemblement ! Toutes les provinces des Prairies BIPOLes producteurs de Ce sont invités à se joindre à nous dans une ferme près de Borden (Saskatchewan)\, au nord de Saskatoon\, pour en savoir plus sur lesut introduire le bétail dans une exploitation agricole mixte d’un point de vue technique et commercial\, et nouer des liens avec d’autres fermiers et travailleurs agricoles de PANDC. Kishon et Jordan\, fermiers de l’UNF faisant partie du caucus PANDC\, coanimeront l’atelier\, et Adama\, travailleur agricole basé à Edmonton\, facilitera la création d’une communauté et l’exploration de nos luttes collectives et de nos possibilités d’action.   \nOù: Près de Borden\, SK\, à 50 minutes au nord-ouest de Saskatoon. Inscrivez-vous pour obtenir l’itinéraire et l’adresse GPS de la ferme.   \nQuand : Le 22 juillet 2023\, de 11 h à 18 h 30   \nQuoi ? Présentation du bétail dans le cadre d’un atelier sur les fermes mixtes et exploration de nos liens\, de nos luttes collectives et de nos possibilités d’action !   \nLe programme de la journée sera le suivant :  \n\n\n  11:00 \n\n  Rencontre et visite de la ferme\n\n\n\n\n  12h00 \n\n  Le déjeuner sera offert et les participants sont invités à se connecter avec d’autres personnes.\n\n\n\n\n  1:30-3:30\n\n   Jordan et Kishon animeront un atelier sur la présentation du bétail et de l’élevage d’un point de vue technique et commercial\, et faciliteront le partage des connaissances.\n\n\n\n\n  4:30-6:00 \n\n  Adama soutiendra une conversation organique autour des politiques agricoles et alimentaires et de l’organisation du changement. \n \n\nNous avons prévu un certain nombre de mesures de soutien pour vous aider à participer en personne : \n\nIl existe un fonds destiné à rembourser \n  locaux \nfrais kilométriques\nLe déjeuner et le dîner seront fournis\nDeux nuits d’hébergement en chambre partagée seront fournies\n\nLes participants doivent \n  s’inscrire ici\n avant le samedi 8 juillet !\nAprès votre inscription\, vous recevrez par courriel des informations supplémentaires sur les modalités d’accès au soutien financier pour le voyage (allocation de gaz et hébergement) et sur les détails de l’événement ! Toute question peut être adressée à  koon@nfu.ca. \nVous venez ? Amenez aussi un(e) ami(e) ! Aidez-nous à organiser une opportunité de connexion qui a de l’impact. \nEn toute solidarité\,  \nQui sommes-nous ? \nLa Nationale des Fermières (UNF) est l’organisation agricole nationale qui s’engage en faveur des exploitations familiales et coopératives. Promouvant l’agroécologie et la souveraineté alimentaire\, l’UNF ne faiblit pas dans sa vision pour les fermiers\, les travailleurs agricoles\, les mangeurs et la terre\, ancrée dans la justice sociale et économique. \nL’UNF envisage un avenir sans barrières pour les fermières et les travailleurs agricoles racialisés\, afin qu’ils puissent accéder à la terre et développer des exploitations agricoles durables. Les fermiers et les travailleurs agricoles du PANDC forment le caucus du PANDC. Le Caucus s’engage à organiser notre pouvoir collectif\, à faire progresser le mandat de l’UNF\, à approfondir les réseaux de soutien\, à partager les connaissances entre pairs et à promouvoir des moyens de subsistance équitables.
URL:https://www.nfu.ca/fr/event/pandc-atelier-prairies/
CATEGORIES:Caucus PANDE (BIPOC)
ATTACH;FMTTYPE=image/jpeg:https://www.nfu.ca/wp-content/uploads/2023/03/BIPOC-Caucus-2023-1-scaled.jpg
END:VEVENT
BEGIN:VEVENT
DTSTART;TZID=America/Regina:20230723T120000
DTEND;TZID=America/Regina:20230723T170000
DTSTAMP:20260421T103421
CREATED:20230704T191645Z
LAST-MODIFIED:20230704T191645Z
UID:10000380-1690113600-1690131600@www.nfu.ca
SUMMARY:Rencontre et pique-nique de la région 6 de l'UNF pour 2023
DESCRIPTION:L’exécutif et le conseil de la région 6 aimeraient vous inviter au pique-nique annuel d’été\, au parc du centre d’accueil du barrage Gardiner\, le dimanche 23 juillet\, à partir de midi. Inscrivez à votre agenda un moment de bonne chère\, de partage\, de réseautage et de bonne compagnie ! \nLe barrage Gardiner est situé à l’extrémité nord du lac Diefenbaker\, à 108 km de Saskatoon\, 211 km de Regina et 201 km de Swift Current. Si vous avez 65 ans ou plus\, l’entrée au parc et à l’aire de pique-nique est gratuite. Si ce n’est pas le cas\, c’est 11 $/voiture ou gratuit si vous avez une carte saisonnière pour les parcs provinciaux. Notre événement se déroulera près du centre d’accueil des visiteurs (ouvert de 9 à 17 heures\, téléphone 1-306-8575500). \nDétails rapides\n\n  Qui\n: Les membres de l’UNF\, leur famille et leurs amis.\n\n  Ce que\n: Pique-nique\, rencontre\, baignade et éducation\n\n  Quand\n: Dimanche 23 juillet à midi\n\n  Où\n: Le barrage Gardiner \nIl y a deux campings à environ 10 minutes du centre d’accueil. L’un d’entre eux\, situé dans le parc provincial de Danielson\, offre tous les services et coûte 33 $ par nuit. L’autre\, à Caldwell Park\, n’a ni eau ni électricité et se loue 20 dollars par nuit. Les permis de camping peuvent être achetés en ligne (sur parks.saskatchewan.ca) ou au bureau d’information du centre d’accueil. Vous pouvez également réserver un hébergement dans un motel à Outlook ou Elbow. \nLe rassemblement débutera à 12 heures par un repas-partage qui sera servi sur la pelouse et dans les arbres à côté de la plage\, près du centre d’accueil des visiteurs.   \nCe qu’il faut apporter :\n\nnourriture à partager\nla vaisselle\, les tasses\, les couverts et autres ustensiles\nAbris solaires si vous le souhaitez\nDes chaises pliantes et\, si possible\, une table pliante.\nUn maillot de bain et une serviette si vous souhaitez vous baigner\n\nLes animaux domestiques ne sont pas admis directement sur la plage. Il y a des tables de pique-nique\, mais elles peuvent être utilisées. \nDes activités éducatives et de partage sont prévues après le déjeuner. La présentatrice vedette sera Emily Eaton\, qui parlera de son nouveau livre coédité\, \n  The End of This World : Climate Justice in So-Called Canada\n. La journée promet d’être intéressante et amusante\, alors notez vos calendriers\, prévenez votre famille\, invitez vos amis et rejoignez-nous au barrage de Gardiner le dimanche 23 juillet. \n-Conseil de l’UNF pour la région 6
URL:https://www.nfu.ca/fr/event/unf-region-6-2023-rencontre-et-pique-nique/
END:VEVENT
END:VCALENDAR