
BEGIN:VCALENDAR
VERSION:2.0
PRODID:-//National Farmers Union - ECPv6.15.20//NONSGML v1.0//EN
CALSCALE:GREGORIAN
METHOD:PUBLISH
X-ORIGINAL-URL:https://www.nfu.ca/fr/
X-WR-CALDESC:Évènements pour National Farmers Union
REFRESH-INTERVAL;VALUE=DURATION:PT1H
X-Robots-Tag:noindex
X-PUBLISHED-TTL:PT1H
BEGIN:VTIMEZONE
TZID:America/Regina
BEGIN:STANDARD
TZOFFSETFROM:-0600
TZOFFSETTO:-0600
TZNAME:CST
DTSTART:20220101T000000
END:STANDARD
END:VTIMEZONE
BEGIN:VTIMEZONE
TZID:America/Vancouver
BEGIN:DAYLIGHT
TZOFFSETFROM:-0800
TZOFFSETTO:-0700
TZNAME:PDT
DTSTART:20220313T100000
END:DAYLIGHT
BEGIN:STANDARD
TZOFFSETFROM:-0700
TZOFFSETTO:-0800
TZNAME:PST
DTSTART:20221106T090000
END:STANDARD
BEGIN:DAYLIGHT
TZOFFSETFROM:-0800
TZOFFSETTO:-0700
TZNAME:PDT
DTSTART:20230312T100000
END:DAYLIGHT
BEGIN:STANDARD
TZOFFSETFROM:-0700
TZOFFSETTO:-0800
TZNAME:PST
DTSTART:20231105T090000
END:STANDARD
BEGIN:DAYLIGHT
TZOFFSETFROM:-0800
TZOFFSETTO:-0700
TZNAME:PDT
DTSTART:20240310T100000
END:DAYLIGHT
BEGIN:STANDARD
TZOFFSETFROM:-0700
TZOFFSETTO:-0800
TZNAME:PST
DTSTART:20241103T090000
END:STANDARD
END:VTIMEZONE
BEGIN:VEVENT
DTSTART;TZID=America/Regina:20230206T180000
DTEND;TZID=America/Regina:20230206T193000
DTSTAMP:20260421T194334
CREATED:20230123T164332Z
LAST-MODIFIED:20230123T164332Z
UID:10000365-1675706400-1675711800@www.nfu.ca
SUMMARY:Atelier pour les travailleurs agricoles - Connaissez vos droits !
DESCRIPTION:Saviez-vous que les travailleurs agricoles de l’Ontario et de la Saskatchewan n’ ont pas de salaire minimum garanti ni de périodes de repos ? Les travailleurs agricoles sont l’épine dorsale de l’industrie agricole canadienne\, qui pèse plusieurs milliards de dollars\, mais beaucoup d’entre nous sont confrontés à un certain nombre de risques au cours de leur journée de travail. Les travailleurs agricoles risquent de se blesser gravement en manipulant des pesticides\, en travaillant dans des conditions climatiques extrêmes et en effectuant des travaux physiques pénibles. En plus d’assumer ces risques\, les travailleurs agricoles du Canada se voient refuser les protections fondamentales du travail telles que le salaire minimum\, les périodes de repos quotidiennes ou hebdomadaires\, la rémunération des heures supplémentaires\, le préavis de licenciement\, les heures de travail minimales\, entre autres.   \nCet atelier vous aidera à répondre à des questions telles que\n \n\nQue se passe-t-il si je me blesse au travail ? \nMon patron doit-il me laisser prendre une pause pendant la journée de travail ?  \nQuel est le salaire minimum légal provincial pour le travail que j’effectue ?  \nEt qui peut m’aider si je pense que mes droits ont été violés ?  \n\nLe lundi 6 février à 16h PST / 17h MST / 18h CST / 19h EST / 20h AST\, venez rencontrer vos collègues travailleurs agricoles de tout le pays\, apprenez vos droits et responsabilités en tant que travailleur agricole\, et rejoignez le mouvement pour construire la justice pour les travailleurs dans nos systèmes alimentaires !   \nInscrivez-vous !
URL:https://www.nfu.ca/fr/event/connaitre-ses-droits/
LOCATION:Zoom
ATTACH;FMTTYPE=image/jpeg:https://www.nfu.ca/wp-content/uploads/2023/01/image_6483441-1.jpg
END:VEVENT
BEGIN:VEVENT
DTSTART;TZID=America/Regina:20230209T140000
DTEND;TZID=America/Regina:20230209T153000
DTSTAMP:20260421T194334
CREATED:20221114T131443Z
LAST-MODIFIED:20221114T131443Z
UID:10000343-1675951200-1675956600@www.nfu.ca
SUMMARY:NFUniversité
DESCRIPTION:Avec des cours les deuxième et quatrième jeudis de chaque mois\, d’octobre à avril\, NFUniversity accueille des experts\, des chercheurs\, des fermiers et d’autres personnes sur des sujets tels que le changement climatique\, l’agroécologie\, la politique des semences\, les marchés du carbone et bien d’autres encore. Les sessions s’appuient sur les connaissances fondamentales que de nombreux membres de l’UNF et d’autres personnes possèdent déjà\, en les approfondissant afin d’améliorer notre compréhension et d’accroître nos capacités d’analyse et de plaidoyer. Les enregistrements des cours précédents de NFUniversity sont disponibles sur notre page des cours passés. \nPour plus de détails sur les cours \n  ici.
URL:https://www.nfu.ca/fr/event/nfuniversite/2023-02-09/
LOCATION:Zoom
ORGANIZER;CN="National Farmers Union":MAILTO:nfu@nfu.ca
END:VEVENT
BEGIN:VEVENT
DTSTART;TZID=America/Vancouver:20230213T170000
DTEND;TZID=America/Vancouver:20230213T193000
DTSTAMP:20260421T194334
CREATED:20230130T182003Z
LAST-MODIFIED:20230130T182003Z
UID:10000366-1676307600-1676316600@www.nfu.ca
SUMMARY:Soirée brasserie de l'UNF dans la région 8
DESCRIPTION:Le 13 février\, l’UNF de la région 8 organisera une soirée brasserie pour les fermiers\, les travailleurs agricoles\, les membres et la communauté agricole en général\, de 17 h à 19 h 30\, à Barnside Brewing\, à Delta\, en Colombie-Britannique. Il s’agit d’une soirée décontractée au cours de laquelle les habitants de la région pourront se réunir\, rencontrer d’autres membres de l’UNF\, ainsi que des membres potentiels\, et en apprendre davantage sur les activités de l’UNF dans la région. \n 
URL:https://www.nfu.ca/fr/event/region-8-nfu-brasserie-sociale/
LOCATION:Barnside Brewing Co\, 6655 60 ave\, Delta\, British Colombia\, V4K4E2
ATTACH;FMTTYPE=image/png:https://www.nfu.ca/wp-content/uploads/2023/01/Region-8-Brewery-Night.png
END:VEVENT
BEGIN:VEVENT
DTSTART;TZID=America/Regina:20230220T180000
DTEND;TZID=America/Regina:20230220T190000
DTSTAMP:20260421T194334
CREATED:20230209T192134Z
LAST-MODIFIED:20230209T192134Z
UID:10000368-1676916000-1676919600@www.nfu.ca
SUMMARY:Rencontre annuelle des travailleurs agricoles !
DESCRIPTION:Notre rencontre annuelle des travailleurs agricoles est de retour ! L’année dernière\, des dizaines de travailleurs agricoles se sont réunis pour partager leurs expériences et se rencontrer avant la saison des cultures. Quels sont vos besoins et vos défis au travail ? À quoi ressemble un système alimentaire fondé sur le droit du travail ? Connectez-vous ! Il n’est pas nécessaire d’être membre de l’UNF.   \nFeb 20 @ 4pm PST / 5pm MST / 6pm CST / 7pm EST / 8pm AST \nAccessibilité : La participation à la discussion est facultative mais encouragée. Les appareils photo sont facultatifs mais encouragés. Nos conversations seront légèrement modérées. La plupart de nos membres sont anglophones\, mais les francophones sont les bienvenus.   \nRejoignez-nous sur zoom ici !  \nhttps://us02web.zoom.us/j/83147129497 \nID de la réunion : 831 4712 9497 \nUne seule touche mobile +15074734847\,\,83147129497# US +15642172000\,\,83147129497# US Composez en fonction de votre localisation \n+1 507 473 4847 US\n+1 564 217 2000 US\n+1 646 931 3860 US\n+1 669 444 9171 US\n+1 669 900 6833 US (San Jose)\n+1 689 278 1000 US\n+1 719 359 4580 US\n+1 929 436 2866 US (New York)\n+1 253 205 0468 US\n+1 253 215 8782 US (Tacoma)\n+1 301 715 8592 US (Washington DC)\n+1 305 224 1968 US\n+1 309 205 3325 US\n+1 312 626 6799 US (Chicago)\n+1 346 248 7799 US (Houston)\n+1 360 209 5623 US\n+1 386 347 5053 US\n+1 587 328 1099 Canada\n+1 647 374 4685 Canada\n+1 647 558 0588 Canada\n+1 778 907 2071 Canada\n+1 780 666 0144 Canada\n+1 204 272 7920 Canada\n+1 438 809 7799 Canada \nNuméro d’identification de la réunion: 831 4712 9497 Trouvez votre numéro local : https://us02web.zoom.us/u/kRKWDYkmw
URL:https://www.nfu.ca/fr/event/reunion-annuelle-des-travailleurs-agricoles/
LOCATION:Zoom
ATTACH;FMTTYPE=image/png:https://www.nfu.ca/wp-content/uploads/2023/02/Instagram-Post-Annual-Farm-Worker-Meet-Up-1.png
END:VEVENT
END:VCALENDAR