
BEGIN:VCALENDAR
VERSION:2.0
PRODID:-//National Farmers Union - ECPv6.15.20//NONSGML v1.0//EN
CALSCALE:GREGORIAN
METHOD:PUBLISH
X-ORIGINAL-URL:https://www.nfu.ca/fr/
X-WR-CALDESC:Évènements pour National Farmers Union
REFRESH-INTERVAL;VALUE=DURATION:PT1H
X-Robots-Tag:noindex
X-PUBLISHED-TTL:PT1H
BEGIN:VTIMEZONE
TZID:America/Vancouver
BEGIN:DAYLIGHT
TZOFFSETFROM:-0800
TZOFFSETTO:-0700
TZNAME:PDT
DTSTART:20210314T100000
END:DAYLIGHT
BEGIN:STANDARD
TZOFFSETFROM:-0700
TZOFFSETTO:-0800
TZNAME:PST
DTSTART:20211107T090000
END:STANDARD
BEGIN:DAYLIGHT
TZOFFSETFROM:-0800
TZOFFSETTO:-0700
TZNAME:PDT
DTSTART:20220313T100000
END:DAYLIGHT
BEGIN:STANDARD
TZOFFSETFROM:-0700
TZOFFSETTO:-0800
TZNAME:PST
DTSTART:20221106T090000
END:STANDARD
BEGIN:DAYLIGHT
TZOFFSETFROM:-0800
TZOFFSETTO:-0700
TZNAME:PDT
DTSTART:20230312T100000
END:DAYLIGHT
BEGIN:STANDARD
TZOFFSETFROM:-0700
TZOFFSETTO:-0800
TZNAME:PST
DTSTART:20231105T090000
END:STANDARD
END:VTIMEZONE
BEGIN:VEVENT
DTSTART;TZID=America/Vancouver:20220808T153000
DTEND;TZID=America/Vancouver:20220808T163000
DTSTAMP:20260422T054748
CREATED:20220318T174333Z
LAST-MODIFIED:20220318T174333Z
UID:10000312-1659972600-1659976200@www.nfu.ca
SUMMARY:Réunion du caucus PANDC
DESCRIPTION:Rejoignez les fermières et les travailleurs agricoles du PANDC dans le travail du caucus du PANDC de l’UNF !  Le Caucus PANDC se réunit tous les deuxièmes lundis du mois ! Pour vous inscrire à la liste de diffusion et vous tenir au courant de l’actualité du caucus PANDC et de ses réunions\, veuillez \n  cliquez ici\n pour demander à faire partie du groupe Google\, où vous recevrez le lien pour le rejoindre chaque mois\, ainsi que d’autres événements / manifestations au sein du PANDC Caucus de l’UNF.   \nVeuillez noter que le caucus PANDC est réservé aux fermières et travailleurs agricoles noirs\, indigènes et de couleur. \nVoici le lien zoom pour vous inscrire : https://us02web.zoom.us/j/89406215346
URL:https://www.nfu.ca/fr/event/pandc-reunion-6/
LOCATION:Zoom
END:VEVENT
BEGIN:VEVENT
DTSTART;TZID=America/Vancouver:20220810T160000
DTEND;TZID=America/Vancouver:20220810T173000
DTSTAMP:20260422T054748
CREATED:20220406T174249Z
LAST-MODIFIED:20220406T174249Z
UID:10000322-1660147200-1660152600@www.nfu.ca
SUMMARY:Réunion mensuelle des travailleurs agricoles
DESCRIPTION:La Nationale des Fermiers a voté en faveur de la création d’un nouveau type d’adhésion pour les travailleurs agricoles\, qui offre tous les avantages et les privilèges de vote des fermiers à un tarif inférieur de 50 % à celui de l’adhésion familiale. Et voilà où nous en sommes aujourd’hui ! Les nouveaux rassemblements de travailleurs agricoles de l’UNF ont vu le jour ! \nParlons-en : quels sont les besoins des travailleurs agricoles\, quels sont les défis auxquels ils sont confrontés\, quelles sont les histoires non racontées et non entendues de ce travail\, que voulons-nous voir se produire pour améliorer les conditions des travailleurs agricoles\, quelle est notre contribution à une communauté agricole forte et progressiste ? \nVenez rencontrer des travailleurs agricoles partageant les mêmes idées dans cet espace accueillant. \nSujet: Rassemblements de travailleurs agricoles\nHeure: 10 août 2022 07:00 Eastern Time (US et Canada) \nChaque mois\, le deuxième mercredi\n8 juin 2022 07:00 PM\n13 juillet 2022 07:00 PM\n10 août 2022 07:00 PM\nSep 14\, 2022 07:00 PM\n12 octobre 2022 07:00 PM\n9 novembre 2022 07:00 PM\n14 déc. 2022 07:00 PM\nVeuillez cliquer ici pour télécharger et importer les fichiers iCalendar (.ics) suivants dans votre système de calendrier mensuel. \nIl n’est pas nécessaire de s’inscrire\, il suffit de trouver les informations de zoom ci-dessous et n’oubliez pas d’ajouter les informations à vos calendriers et de programmer des rappels pour que nous ne vous manquions pas ! \nParticipez à la réunion Zoom\nhttps://us02web.zoom.us/j/86332846648 \nID de la réunion : 863 3284 6648 \nUn seul geste mobile\n+15873281099\,\,86332846648# Canada\n+16473744685\,\,86332846648# CanadaComposez votre numéro en fonction de votre lieu de résidence\n+1 587 328 1099 Canada\n+1 647 374 4685 Canada\n+1 647 558 0588 Canada\n+1 778 907 2071 Canada\n+1 204 272 7920 Canada\n+1 438 809 7799 CanadaMeeting ID : 863 3284 6648 \nTrouvez votre numéro local : https://us02web.zoom.us/u/kbo9lIsJ36
URL:https://www.nfu.ca/fr/event/reunion-mensuelle-des-travailleurs-agricoles-4/
LOCATION:Zoom
ORGANIZER;CN="National Farmers Union":MAILTO:nfu@nfu.ca
END:VEVENT
BEGIN:VEVENT
DTSTART;TZID=America/Vancouver:20220824T160000
DTEND;TZID=America/Vancouver:20220824T173000
DTSTAMP:20260422T054748
CREATED:20220728T134928Z
LAST-MODIFIED:20220728T134928Z
UID:10000357-1661356800-1661362200@www.nfu.ca
SUMMARY:2SLGBTQ+ Rassemblement mensuel
DESCRIPTION:Le 2SLGBTQ+ Farmer & Farmworker Gathering se réunit mensuellement avec la communauté 2SLGBTQ+ des fermiers et des travailleurs agricoles d’un océan à l’autre à 16h PDT / YST\, 17h MDT / CST (SK)\, 18h CDT\, 19h EDT\, 20h ADT\, mensuellement le quatrième mercredi de chaque mois. \nLes fermières et les travailleurs agricoles (membres et non-membres) qui s’identifient comme 2SLGBTQ+ sont invités. Si c’est votre cas\, rejoignez-nous en suivant les informations ci-dessous. Si vous souhaitez communiquer plus directement avec le groupe\, veuillez cliquer ici pour rejoindre le groupe Google. \n  \nJ’ai hâte de me connecter\, de partager\, d’apprendre et d’écouter avec d’autres cultivateurs homosexuels ! Les participants orienteront les discussions lors de ce rassemblement. \n  \nSujet: Rassemblement du 2SLGBTQ\nHeure: 07:00 PM Eastern Time (US et Canada)\nTous les mois\, le quatrième mercredi\, jusqu’au 28 décembre 2022\n24 août 2022 07:00 PM\nSep 28\, 2022 07:00 PM\n26 oct. 2022 07:00 PM\n23 nov. 2022 07:00 PM\n28 déc. 2022 07:00 PM\nMerci de télécharger et d’importer ce calendrier iCalendar \n  télécharger et importer ces fichiers iCalendar\n (.ics) dans votre système de calendrier. \nParticipez à la réunion Zoom\nhttps://us02web.zoom.us/j/84537339947 \nID de la réunion : 845 3733 9947 \nComposez en fonction de votre lieu de résidence\n+1 438 809 7799 Canada\n+1 587 328 1099 Canada\n+1 647 374 4685 Canada\n+1 647 558 0588 Canada\n+1 778 907 2071 Canada\n+1 204 272 7920 Canada\nID de la réunion : 845 3733 9947\nTrouvez votre numéro local : https://us02web.zoom.us/u/kbNMzNUOqA \nhttps://us02web.zoom.us/j/84537339947
URL:https://www.nfu.ca/fr/event/2slgbtq-reunion-mensuelle/2022-08-24/
LOCATION:Zoom
ORGANIZER;CN="2SLGBTQ+ Group":MAILTO:riverxstevens@gmail.com
END:VEVENT
END:VCALENDAR