
BEGIN:VCALENDAR
VERSION:2.0
PRODID:-//National Farmers Union - ECPv6.15.20//NONSGML v1.0//EN
CALSCALE:GREGORIAN
METHOD:PUBLISH
X-ORIGINAL-URL:https://www.nfu.ca/fr/
X-WR-CALDESC:Évènements pour National Farmers Union
REFRESH-INTERVAL;VALUE=DURATION:PT1H
X-Robots-Tag:noindex
X-PUBLISHED-TTL:PT1H
BEGIN:VTIMEZONE
TZID:America/Vancouver
BEGIN:DAYLIGHT
TZOFFSETFROM:-0800
TZOFFSETTO:-0700
TZNAME:PDT
DTSTART:20210314T100000
END:DAYLIGHT
BEGIN:STANDARD
TZOFFSETFROM:-0700
TZOFFSETTO:-0800
TZNAME:PST
DTSTART:20211107T090000
END:STANDARD
BEGIN:DAYLIGHT
TZOFFSETFROM:-0800
TZOFFSETTO:-0700
TZNAME:PDT
DTSTART:20220313T100000
END:DAYLIGHT
BEGIN:STANDARD
TZOFFSETFROM:-0700
TZOFFSETTO:-0800
TZNAME:PST
DTSTART:20221106T090000
END:STANDARD
BEGIN:DAYLIGHT
TZOFFSETFROM:-0800
TZOFFSETTO:-0700
TZNAME:PDT
DTSTART:20230312T100000
END:DAYLIGHT
BEGIN:STANDARD
TZOFFSETFROM:-0700
TZOFFSETTO:-0800
TZNAME:PST
DTSTART:20231105T090000
END:STANDARD
END:VTIMEZONE
BEGIN:VTIMEZONE
TZID:America/Toronto
BEGIN:DAYLIGHT
TZOFFSETFROM:-0500
TZOFFSETTO:-0400
TZNAME:EDT
DTSTART:20210314T070000
END:DAYLIGHT
BEGIN:STANDARD
TZOFFSETFROM:-0400
TZOFFSETTO:-0500
TZNAME:EST
DTSTART:20211107T060000
END:STANDARD
BEGIN:DAYLIGHT
TZOFFSETFROM:-0500
TZOFFSETTO:-0400
TZNAME:EDT
DTSTART:20220313T070000
END:DAYLIGHT
BEGIN:STANDARD
TZOFFSETFROM:-0400
TZOFFSETTO:-0500
TZNAME:EST
DTSTART:20221106T060000
END:STANDARD
BEGIN:DAYLIGHT
TZOFFSETFROM:-0500
TZOFFSETTO:-0400
TZNAME:EDT
DTSTART:20230312T070000
END:DAYLIGHT
BEGIN:STANDARD
TZOFFSETFROM:-0400
TZOFFSETTO:-0500
TZNAME:EST
DTSTART:20231105T060000
END:STANDARD
END:VTIMEZONE
BEGIN:VTIMEZONE
TZID:America/Winnipeg
BEGIN:DAYLIGHT
TZOFFSETFROM:-0600
TZOFFSETTO:-0500
TZNAME:CDT
DTSTART:20210314T080000
END:DAYLIGHT
BEGIN:STANDARD
TZOFFSETFROM:-0500
TZOFFSETTO:-0600
TZNAME:CST
DTSTART:20211107T070000
END:STANDARD
BEGIN:DAYLIGHT
TZOFFSETFROM:-0600
TZOFFSETTO:-0500
TZNAME:CDT
DTSTART:20220313T080000
END:DAYLIGHT
BEGIN:STANDARD
TZOFFSETFROM:-0500
TZOFFSETTO:-0600
TZNAME:CST
DTSTART:20221106T070000
END:STANDARD
BEGIN:DAYLIGHT
TZOFFSETFROM:-0600
TZOFFSETTO:-0500
TZNAME:CDT
DTSTART:20230312T080000
END:DAYLIGHT
BEGIN:STANDARD
TZOFFSETFROM:-0500
TZOFFSETTO:-0600
TZNAME:CST
DTSTART:20231105T070000
END:STANDARD
END:VTIMEZONE
BEGIN:VTIMEZONE
TZID:America/Edmonton
BEGIN:DAYLIGHT
TZOFFSETFROM:-0700
TZOFFSETTO:-0600
TZNAME:MDT
DTSTART:20210314T090000
END:DAYLIGHT
BEGIN:STANDARD
TZOFFSETFROM:-0600
TZOFFSETTO:-0700
TZNAME:MST
DTSTART:20211107T080000
END:STANDARD
BEGIN:DAYLIGHT
TZOFFSETFROM:-0700
TZOFFSETTO:-0600
TZNAME:MDT
DTSTART:20220313T090000
END:DAYLIGHT
BEGIN:STANDARD
TZOFFSETFROM:-0600
TZOFFSETTO:-0700
TZNAME:MST
DTSTART:20221106T080000
END:STANDARD
BEGIN:DAYLIGHT
TZOFFSETFROM:-0700
TZOFFSETTO:-0600
TZNAME:MDT
DTSTART:20230312T090000
END:DAYLIGHT
BEGIN:STANDARD
TZOFFSETFROM:-0600
TZOFFSETTO:-0700
TZNAME:MST
DTSTART:20231105T080000
END:STANDARD
END:VTIMEZONE
BEGIN:VTIMEZONE
TZID:America/Regina
BEGIN:STANDARD
TZOFFSETFROM:-0600
TZOFFSETTO:-0600
TZNAME:CST
DTSTART:20210101T000000
END:STANDARD
END:VTIMEZONE
BEGIN:VEVENT
DTSTART;TZID=America/Vancouver:20220711T153000
DTEND;TZID=America/Vancouver:20220711T163000
DTSTAMP:20260422T060914
CREATED:20220318T174236Z
LAST-MODIFIED:20220318T174236Z
UID:10000311-1657553400-1657557000@www.nfu.ca
SUMMARY:Réunion du caucus PANDC
DESCRIPTION:Rejoignez les fermières et les travailleurs agricoles du PANDC dans le travail du caucus du PANDC de l’UNF !  Le Caucus PANDC se réunit tous les deuxièmes lundis du mois ! Pour vous inscrire sur la liste de diffusion et vous tenir au courant de l’actualité du caucus PANDC et de ses réunions\, veuillez \n  cliquez ici\n pour demander à faire partie du groupe Google\, où vous recevrez le lien pour le rejoindre chaque mois\, ainsi que d’autres événements / manifestations au sein du PANDC Caucus de l’UNF.   \nVeuillez noter que le caucus PANDC est réservé aux fermières et travailleurs agricoles noirs\, indigènes et de couleur. \nVoici le lien zoom pour vous inscrire : https://us02web.zoom.us/j/89406215346
URL:https://www.nfu.ca/fr/event/reunion-du-pandc-5/
LOCATION:Zoom
END:VEVENT
BEGIN:VEVENT
DTSTART;TZID=America/Vancouver:20220713T160000
DTEND;TZID=America/Vancouver:20220713T173000
DTSTAMP:20260422T060914
CREATED:20220406T174133Z
LAST-MODIFIED:20220406T174133Z
UID:10000321-1657728000-1657733400@www.nfu.ca
SUMMARY:Réunion mensuelle des travailleurs agricoles
DESCRIPTION:La Nationale des Fermiers a voté en faveur de la création d’un nouveau type d’adhésion pour les travailleurs agricoles\, qui offre tous les avantages et les privilèges de vote des fermiers à un tarif inférieur de 50 % à celui de l’adhésion familiale. Et voilà où nous en sommes aujourd’hui ! Les nouveaux rassemblements de travailleurs agricoles de l’UNF ont vu le jour ! \nParlons-en : quels sont les besoins des travailleurs agricoles\, quels sont les défis auxquels ils sont confrontés\, quelles sont les histoires non racontées et non entendues de ce travail\, que voulons-nous voir se produire pour améliorer les conditions des travailleurs agricoles\, quelle est notre contribution à une communauté agricole forte et progressiste ? \nVenez rencontrer des travailleurs agricoles partageant les mêmes idées dans cet espace accueillant. \nSujet: Rassemblements de travailleurs agricoles\nHeure: 13 juillet 2022\, 19h00\, heure de l’Est (États-Unis et Canada) \nChaque mois\, le deuxième mercredi\n8 juin 2022 07:00 PM\n13 juillet 2022 07:00 PM\n10 août 2022 07:00 PM\nSep 14\, 2022 07:00 PM\n12 octobre 2022 07:00 PM\n9 novembre 2022 07:00 PM\n14 déc. 2022 07:00 PM\nVeuillez cliquer ici pour télécharger et importer les fichiers iCalendar (.ics) suivants dans votre système de calendrier mensuel. \nIl n’est pas nécessaire de s’inscrire\, il suffit de trouver les informations de zoom ci-dessous et n’oubliez pas d’ajouter les informations à vos calendriers et de programmer des rappels pour que nous ne vous manquions pas ! \nParticipez à la réunion Zoom\nhttps://us02web.zoom.us/j/86332846648 \nID de la réunion : 863 3284 6648 \nUn seul geste mobile\n+15873281099\,\,86332846648# Canada\n+16473744685\,\,86332846648# CanadaComposez votre numéro en fonction de votre lieu de résidence\n+1 587 328 1099 Canada\n+1 647 374 4685 Canada\n+1 647 558 0588 Canada\n+1 778 907 2071 Canada\n+1 204 272 7920 Canada\n+1 438 809 7799 CanadaMeeting ID : 863 3284 6648 \nTrouvez votre numéro local : https://us02web.zoom.us/u/kbo9lIsJ36
URL:https://www.nfu.ca/fr/event/reunion-mensuelle-des-travailleurs-agricoles-3/
LOCATION:Zoom
ORGANIZER;CN="National Farmers Union":MAILTO:nfu@nfu.ca
END:VEVENT
BEGIN:VEVENT
DTSTART;TZID=America/Toronto:20220723T110000
DTEND;TZID=America/Toronto:20220723T150000
DTSTAMP:20260422T060914
CREATED:20220715T014306Z
LAST-MODIFIED:20220715T014306Z
UID:10000329-1658574000-1658588400@www.nfu.ca
SUMMARY:Journée sur le terrain du PANDC
DESCRIPTION:Venez participer au tout premier Caucus PANDC de la Nationale des Fermiers ! Nous organisons une journée sur le terrain à \n  Vintage Soil Farm\n le 23 juillet à sa ferme de Kemptville\, en Ontario. Découvrez comment Vintage Soil Farm gère une ferme maraîchère mixte alimentée par des chevaux pour l’ASC et les marchés. Idéal pour les débutants et les fermières expérimentées !\n\n\n\n\nDe 11h à 15h\, vous serez guidés à travers une rencontre\, un atelier de deux heures sur les bases de l’agriculture de marché\, une rencontre avec les chevaux\, une séance de questions-réponses sur l’entreprise et la culture et\, bien sûr\, la visite d’une magnifique ferme !\n\n\n\n\nSi vous avez besoin d’un chauffeur pour vous rendre à la ferme\, qui se trouve près d’Ottawa\, veuillez envoyer un courriel à sundanceharvest@gmail.com\, car de nombreuses personnes ont des places supplémentaires dans leur voiture et viennent de Toronto et des environs de la région du Grand Toronto pour se rendre à Vintage Soils Farm.
URL:https://www.nfu.ca/fr/event/pandc-jour-de-terrain/
LOCATION:Vintage Soil Farm\, 2834 Leeds and Grenville Road 20\, Kemptville\, Ontario\, Canada
CATEGORIES:Caucus PANDE (BIPOC)
ATTACH;FMTTYPE=image/jpeg:https://www.nfu.ca/wp-content/uploads/2022/07/BIPOCfieldday.jpeg
END:VEVENT
BEGIN:VEVENT
DTSTART;TZID=America/Winnipeg:20220726T093000
DTEND;TZID=America/Winnipeg:20220726T173000
DTSTAMP:20260422T060914
CREATED:20220715T111135Z
LAST-MODIFIED:20220715T111135Z
UID:10000331-1658827800-1658856600@www.nfu.ca
SUMMARY:Région 5 (MB) Convention 2022
DESCRIPTION:Le congrès annuel de la région 5 (Manitoba) de l’UNF se tiendra le mardi 26 juillet 2022\, à la fois en personne et par zoom pour ceux qui ne peuvent pas y assister en personne. Le thème de la convention de cette année est  » Connexions » : Les fermiers\, l’environnement\, la terre\, la civilisation. \nL’ordre du jour : \n9h30 Inscription\n10:00 Appel à l’ordre \n\nPrésentation des membres présents\n30 secondes de silence pour reconnaître la contribution des anciens membres à la croissance de l’UNF\nAppel à la nomination du président et du secrétaire de la réunion\nProcès-verbal du congrès 2021 de l’UNF au Manitoba tenu par zoom\n\n10:20 AM \n  Rapports de l’UNF du Manitoba\n \n\nAnastasia Fyk\, coordonnatrice et Ian Robson\, membre du conseil d’administration : Activités et enjeux de l’UNF au Manitoba\nDean Harder : Développement des membres de l’UNF\nKatie Ward\, présidente de l’UNF (via Zoom) : Nouvelles nationales de l’UNF\nRapport consultatif sur les femmes : Karen Klassen\nRapport sur la jeunesse et la CIP : Katie Ward\n\n12:00 Déjeuner de soupe et de sandwichs fourni\n13:00 HEURES \n  Atelier\n: Changement climatique COP26 Agroécologie – Anastasia Fyk\n14:00 Ukraine – Brève description de la guerre\, de la situation catastrophique et des effets.\n14:30 Pause\n14:50 HEURES \n  Atelier\n: Les terres agricoles – pour l’alimentation ou l’investissement – Katherine Aske et Annette Desmarais\n16:00 HEURES \n  Nominations et élections de l’UNF Manitoba pour\n2 postes au Conseil national ; 1 membre du Comité consultatif des femmes ; 1 membre du Comité consultatif des jeunes ; 1 membre du Comité consultatif des PANDC ; 1 représentant du Comité des Programmes Internationaux ; l’équipe de sensibilisation de l’UNF.\n4:15 PM \n  Atelier des résolutions\nDébat\, discussions et vote\n17 h 30 Levée de la séance \n \n\n\n\nPour plus d’informations\, veuillez contacter Ian Robson\, ilrobson1@xplornet.ca 204-858-2479 (domicile) ou 431-541-2439 (portable).
URL:https://www.nfu.ca/fr/event/region-5-mb-convention-2022/
LOCATION:Little Britain United Church Hall\, 5879 Provincial Trunk Hwy 9\, Little Britain\, Manitoba\, R1A 2P7\, Canada
CATEGORIES:Convention régionale
END:VEVENT
BEGIN:VEVENT
DTSTART;TZID=America/Edmonton:20220730T123000
DTEND;TZID=America/Edmonton:20220730T180000
DTSTAMP:20260422T060914
CREATED:20220715T012857Z
LAST-MODIFIED:20220715T012857Z
UID:10000333-1659184200-1659204000@www.nfu.ca
SUMMARY:Région 7 (Alberta) Convention 2022
DESCRIPTION:Un après-midi d’information avec des intervenants\, des mises à jour et un processus démocratique. La convention de cette année se présente sous une nouvelle forme – une combinaison de présentiel et de virtuel – pour tenter de répondre aux besoins de tous. \nL’ordre du jour est le suivant: \n12:30 : Inscription\n1:00 PM : Rappel à l’ordre\, bienvenue\, présentations\, élection d’un président\n13:20 : Bienvenue et mise à jour: Katie Ward\, présidente de l’UNF\n13:40 : Procès-verbal de la réunion du 15 octobre 2021\n1:50 PM : Mise à jour sur l’Alberta: Toby Malloy\n2:10 PM : Rapports: Comité des Programmes Internationaux\, Comité consultatif des femmes\, Comité des Jeunes\, CIP (Comité des Programmes Internationaux)\n2:30 PM : Élections: 3 membres du conseil d’administration ; 1 membre du comité consultatif des femmes ; 1 membre du comité consultatif des jeunes ; 1 membre du PANDC ; 1 membre du CIP.\n15:00 : Pause\n15:15 : Résolutions: Apportez vos résolutions sur les questions qui vous tiennent à cœur et sur lesquelles vous aimeriez que l’UNF travaille\n15 h 30 : Conférencière invitée Katherine Aske : Katherine présentera son rapport sur la concentration des terres agricoles en Alberta : Conférencière invitée Katherine Aske: Katherine présentera son rapport sur la concentration des terres agricoles en Alberta.\n4:15 PM : Levée de la séance\n16 H 15 – 17 H 30 : Visite des cultures de la région\n6:00 PM : Rendez-vous à The Gathering Co-op pour le dîner et les activités sociales. \nPour de plus amples informations\, veuillez contacter Doug Scott à l’adresse suivante : drmscot@gmail.com
URL:https://www.nfu.ca/fr/event/region-7-alberta-convention-2022/
CATEGORIES:Convention régionale
END:VEVENT
BEGIN:VEVENT
DTSTART;TZID=America/Regina:20220731T120000
DTEND;TZID=America/Regina:20220731T170000
DTSTAMP:20260422T060914
CREATED:20220708T184943Z
LAST-MODIFIED:20220708T184943Z
UID:10000332-1659268800-1659286800@www.nfu.ca
SUMMARY:Pique-nique de l'UNF Région 6 au barrage de Gardiner
DESCRIPTION:Votre Conseil exécutif/conseil consultatif de la Région 6 vous salue chaleureusement. \nNous espérons que vos cultures poussent et que vous pourrez prendre un jour de congé pour nous rejoindre à Gardiner Dam\, à l’extrémité nord du lac Diefenbaker\, pour une journée de visites\, de partage d’un repas-partage et d’écoute de deux brèves présentations. La journée promet d’être très amusante ! Inscrivez à votre agenda le dimanche31 juillet pour le pique-nique de l’UNF. Gardiner Dam se trouve à 108 km de Saskatoon\, 211 km de Regina et 201 km de Swift Current. \nL’accès au parc et à l’aire de pique-nique est gratuit pour les personnes âgées de 65 ans et plus ou titulaires d’un laissez-passer saisonnier des parcs provinciaux\, sinon le tarif est de 10 $ par voiture. Notre événement se déroulera près du centre d’accueil des visiteurs \nPour les séjours d’une nuit\, il y a deux campings à proximité. Le parc provincial Danielson offre tous les services (33 $/nuit) et le parc Caldwell n’a ni eau ni électricité (20 $/nuit). Les permis de camping sont disponibles au centre d’accueil des visiteurs (ouvert de 9 à 17 heures\, téléphone 1-306-857-5500). Vous trouverez également des motels à Outlook ou Elbow. \nNous nous rassemblerons sur la zone herbeuse et arborée de la plage\, près du centre d’accueil des visiteurs . Les animaux domestiques ne sont pas autorisés sur la plage. Des abris solaires peuvent être installés si quelqu’un en possède un. Apportez des chaises confortables et si vous pouvez transporter une table pliante\, cela pourrait être utile\, car d’autres personnes pourraient utiliser les tables de pique-nique. Apportez votre maillot de bain si vous souhaitez vous baigner. La plage et le lac sont très accueillants. \nLe repas-partage aura lieu à 12 heures.  L’année dernière\, la nourriture de notre potluck était fantastique\, cela vaut donc la peine de faire le déplacement pour partager les délicieux plats proposés. En cas de mauvais temps\, nous nous déplacerons à l’intérieur dans le théâtre. \nNotre programme comprendra une présentation soulignant le 60e anniversaire de l’assurance-maladie et une présentation critiquant le mégaprojet d’irrigation et de détournement d’eau du lac Diefenbaker. Nous pourrons visiter un canal d’irrigation et entendre des détails sur l’utilisation actuelle de l’eau pour l’irrigation. Les orateurs seront annoncés à l’approche de la journée. \nNous vous encourageons également à prendre le temps de visiter les expositions et de regarder une vidéo pour en savoir plus sur l’histoire et la géographie de la région\, du lac et des barrages. \nAlors\, si vous avez envie d’une sortie pendant que l’été est à son apogée\, préparez de la nourriture\, des chaises de jardin et tout ce qu’il faut pour profiter de l’eau. Invitez vos amis et les membres de l’UNF à se rendre au barrage Gardiner tôt le dimanche31 juillet. La journée promet d’être intéressante et très amusante ! Nous vous attendons avec impatience !
URL:https://www.nfu.ca/fr/event/unf-region-6-picnic-at-gardiner-dam/
LOCATION:Gardiner Dam
END:VEVENT
END:VCALENDAR