
BEGIN:VCALENDAR
VERSION:2.0
PRODID:-//National Farmers Union - ECPv6.15.20//NONSGML v1.0//EN
CALSCALE:GREGORIAN
METHOD:PUBLISH
X-ORIGINAL-URL:https://www.nfu.ca/fr/
X-WR-CALDESC:Évènements pour National Farmers Union
REFRESH-INTERVAL;VALUE=DURATION:PT1H
X-Robots-Tag:noindex
X-PUBLISHED-TTL:PT1H
BEGIN:VTIMEZONE
TZID:America/Vancouver
BEGIN:DAYLIGHT
TZOFFSETFROM:-0800
TZOFFSETTO:-0700
TZNAME:PDT
DTSTART:20210314T100000
END:DAYLIGHT
BEGIN:STANDARD
TZOFFSETFROM:-0700
TZOFFSETTO:-0800
TZNAME:PST
DTSTART:20211107T090000
END:STANDARD
BEGIN:DAYLIGHT
TZOFFSETFROM:-0800
TZOFFSETTO:-0700
TZNAME:PDT
DTSTART:20220313T100000
END:DAYLIGHT
BEGIN:STANDARD
TZOFFSETFROM:-0700
TZOFFSETTO:-0800
TZNAME:PST
DTSTART:20221106T090000
END:STANDARD
BEGIN:DAYLIGHT
TZOFFSETFROM:-0800
TZOFFSETTO:-0700
TZNAME:PDT
DTSTART:20230312T100000
END:DAYLIGHT
BEGIN:STANDARD
TZOFFSETFROM:-0700
TZOFFSETTO:-0800
TZNAME:PST
DTSTART:20231105T090000
END:STANDARD
END:VTIMEZONE
BEGIN:VTIMEZONE
TZID:America/Toronto
BEGIN:DAYLIGHT
TZOFFSETFROM:-0500
TZOFFSETTO:-0400
TZNAME:EDT
DTSTART:20210314T070000
END:DAYLIGHT
BEGIN:STANDARD
TZOFFSETFROM:-0400
TZOFFSETTO:-0500
TZNAME:EST
DTSTART:20211107T060000
END:STANDARD
BEGIN:DAYLIGHT
TZOFFSETFROM:-0500
TZOFFSETTO:-0400
TZNAME:EDT
DTSTART:20220313T070000
END:DAYLIGHT
BEGIN:STANDARD
TZOFFSETFROM:-0400
TZOFFSETTO:-0500
TZNAME:EST
DTSTART:20221106T060000
END:STANDARD
BEGIN:DAYLIGHT
TZOFFSETFROM:-0500
TZOFFSETTO:-0400
TZNAME:EDT
DTSTART:20230312T070000
END:DAYLIGHT
BEGIN:STANDARD
TZOFFSETFROM:-0400
TZOFFSETTO:-0500
TZNAME:EST
DTSTART:20231105T060000
END:STANDARD
END:VTIMEZONE
BEGIN:VTIMEZONE
TZID:America/Regina
BEGIN:STANDARD
TZOFFSETFROM:-0600
TZOFFSETTO:-0600
TZNAME:CST
DTSTART:20210101T000000
END:STANDARD
END:VTIMEZONE
BEGIN:VTIMEZONE
TZID:America/Edmonton
BEGIN:DAYLIGHT
TZOFFSETFROM:-0700
TZOFFSETTO:-0600
TZNAME:MDT
DTSTART:20210314T090000
END:DAYLIGHT
BEGIN:STANDARD
TZOFFSETFROM:-0600
TZOFFSETTO:-0700
TZNAME:MST
DTSTART:20211107T080000
END:STANDARD
BEGIN:DAYLIGHT
TZOFFSETFROM:-0700
TZOFFSETTO:-0600
TZNAME:MDT
DTSTART:20220313T090000
END:DAYLIGHT
BEGIN:STANDARD
TZOFFSETFROM:-0600
TZOFFSETTO:-0700
TZNAME:MST
DTSTART:20221106T080000
END:STANDARD
BEGIN:DAYLIGHT
TZOFFSETFROM:-0700
TZOFFSETTO:-0600
TZNAME:MDT
DTSTART:20230312T090000
END:DAYLIGHT
BEGIN:STANDARD
TZOFFSETFROM:-0600
TZOFFSETTO:-0700
TZNAME:MST
DTSTART:20231105T080000
END:STANDARD
END:VTIMEZONE
BEGIN:VTIMEZONE
TZID:America/Halifax
BEGIN:DAYLIGHT
TZOFFSETFROM:-0400
TZOFFSETTO:-0300
TZNAME:ADT
DTSTART:20210314T060000
END:DAYLIGHT
BEGIN:STANDARD
TZOFFSETFROM:-0300
TZOFFSETTO:-0400
TZNAME:AST
DTSTART:20211107T050000
END:STANDARD
BEGIN:DAYLIGHT
TZOFFSETFROM:-0400
TZOFFSETTO:-0300
TZNAME:ADT
DTSTART:20220313T060000
END:DAYLIGHT
BEGIN:STANDARD
TZOFFSETFROM:-0300
TZOFFSETTO:-0400
TZNAME:AST
DTSTART:20221106T050000
END:STANDARD
BEGIN:DAYLIGHT
TZOFFSETFROM:-0400
TZOFFSETTO:-0300
TZNAME:ADT
DTSTART:20230312T060000
END:DAYLIGHT
BEGIN:STANDARD
TZOFFSETFROM:-0300
TZOFFSETTO:-0400
TZNAME:AST
DTSTART:20231105T050000
END:STANDARD
END:VTIMEZONE
BEGIN:VEVENT
DTSTART;TZID=America/Vancouver:20220301T163000
DTEND;TZID=America/Vancouver:20220308T180000
DTSTAMP:20260422T131244
CREATED:20220223T231304Z
LAST-MODIFIED:20220223T231304Z
UID:10000293-1646152200-1646762400@www.nfu.ca
SUMMARY:Projection virtuelle - De la nourriture pour nous autres
DESCRIPTION:La Nationale des Fermiers vous invite à une projection virtuelle du film Food for the Rest of Us et à une discussion après la projection. \n \n   Inscrivez-vous ici\n! \n\n  Le projet « Food for the Rest of Us\n examinera comment le retour à la terre est lié à d’autres mouvements tels que Black Lives Matter\, Idle No More et Times Up.  \n  De la nourriture pour nous autres\n est un long métrage qui présente 4 histoires de personnes vivant leur vie selon leurs propres termes\, servant de leaders et de modèles qui prêtent leur voix aux opprimés et mènent une révolution vers un monde meilleur\, à partir de la base !  [Telling the stories of]  Une ferme biologique appartenant à des autochtones et gérée par des jeunes à Hawaï\, un cultivateur urbain noir de Kansas City qui gère une exploitation agricole à l’East High School\, une femme boucher casher du Colorado qui travaille avec la communauté queer et une communauté inuit de la côte arctique qui s’adapte au changement climatique grâce à un jardin communautaire installé dans un petit dôme géodésique ». En savoir plus sur Food for the Rest of Us  ici. \nLa projection virtuelle d’une semaine commence le 1er mars à : 4:30 PST/ 5:30 MST /6:30 CST /7:30 EST /8:30 AST. La discussion commence le 8 mars à : 4:30 PST/ 5:30 MST /6:30 CST /7:30 EST /8:30 AST. \nRejoignez-nous pour visionner ce film puissant et assister à une discussion approfondie et constructive pour la communauté ! Des questions ? Envoyer un courriel à beach@nfu.ca \nNous remercions le Caucus de la jeunesse et le GIS d’avoir parrainé ce film puissant ! \n*Malheureusement\, les sous-titres français ne sont pas disponibles pour ce film.
URL:https://www.nfu.ca/fr/event/le-filtrage-virtuel-de-la-nourriture-pour-le-reste-de-la-population/
END:VEVENT
BEGIN:VEVENT
DTSTART;TZID=America/Vancouver:20220302T180000
DTEND;TZID=America/Vancouver:20220302T200000
DTSTAMP:20260422T131244
CREATED:20220211T182347Z
LAST-MODIFIED:20220211T182347Z
UID:10000283-1646244000-1646251200@www.nfu.ca
SUMMARY:Tables rondes sur les interventions en cas de catastrophe
DESCRIPTION:Avez-vous été touché par des catastrophes naturelles cette saison ? Questions relatives à la chaîne d’approvisionnement ? Vous n’avez toujours pas reçu d’aide ou vous avez du mal à y accéder ? \nLa région 8 de l’UNF (C.-B. et Yukon) souhaite s’entretenir avec les fermiers et les travailleurs agricoles au sujet d’une reprise après sinistre efficace et connaître vos expériences de cette année. Le 2 mars\, nous organisons une table de cuisine sur la réponse aux catastrophes dans la Région 8 \, où vous pourrez apprendre avec nous comment la réponse aux catastrophes est structurée ailleurs dans le monde pour protéger les fermières et les systèmes alimentaires\, et ensuite partager avec nous quels soutiens ont été utiles cette année\, ce qui manquait\, et ce qui sera nécessaire à l’avenir au fur et à mesure que les catastrophes s’intensifient. \nLors de la convention nationale de 2021\, les membres de l’UNF ont adopté une résolution officielle visant à faire pression sur les gouvernements provinciaux et fédéral pour qu’ils légifèrent sur des plans spécifiques à l’agriculture pour la gestion d’urgence des catastrophes naturelles composées. Votre participation à cette table de cuisine alimentera directement le processus en cours de l’UNF pour développer cette proposition de politique. \nVeuillez vous inscrire à l’avance en cliquant ici.
URL:https://www.nfu.ca/fr/event/tables-rondes-de-cuisine-sur-les-interventions-en-cas-de-catastrophe/
END:VEVENT
BEGIN:VEVENT
DTSTART;TZID=America/Toronto:20220303T120000
DTEND;TZID=America/Toronto:20220304T160000
DTSTAMP:20260422T131244
CREATED:20220218T190905Z
LAST-MODIFIED:20220218T190905Z
UID:10000297-1646308800-1646409600@www.nfu.ca
SUMMARY:Convention et assemblée générale de l'UNF-O
DESCRIPTION:Le thème de cette année\, « Profondément enraciné »\, reflète les forces structurelles en jeu qui empêchent une action rapide et significative pour contrer et atténuer les effets du changement climatique. Cependant\, « Deeply Rooted » célèbre également les solutions agroécologiques pour atténuer les effets du changement climatique : les racines profondes séquestrent davantage de carbone dans le sol et sont plus résistantes aux conditions météorologiques extrêmes. Les panels de l’AGA et de la convention\, y compris le discours d’ouverture du Dr. Priscilla Settee\, combleront l’espace entre ces deux idées. \nLe congrès régional et l’assemblée générale annuelle de l’UNF-O se tiendront les 3 et 4 mars prochains. Pour en savoir plus et vous inscrire \n  cliquez ici\n.
URL:https://www.nfu.ca/fr/event/14989/
LOCATION:Zoom
CATEGORIES:Convention de l'UNF
ORGANIZER;CN="NFU-Ontario":MAILTO:office@nfuontario.ca
END:VEVENT
BEGIN:VEVENT
DTSTART;TZID=America/Regina:20220303T170000
DTEND;TZID=America/Regina:20220303T180000
DTSTAMP:20260422T131244
CREATED:20220301T220017Z
LAST-MODIFIED:20220301T220017Z
UID:10000299-1646326800-1646330400@www.nfu.ca
SUMMARY:Réunion de la table de cuisine de la région 5
DESCRIPTION:Rejoignez les membres de la Région 5 de la Nationale des Fermiers pour une rencontre autour d’une table de cuisine. La Région 5 organisera un rassemblement virtuel pour accueillir les nouveaux fermiers\, travailleurs agricoles et sympathisants du Manitoba au sein de l’Union\, pour discuter des questions régionales et pour développer l’énergie régionale. \nParticipez à la réunion Zoom\nhttps://us02web.zoom.us/j/84204569471 \nID de la réunion : 842 0456 9471\nUn seul geste mobile\n+14388097799\,\,84204569471# Canada\n+15873281099\,\,84204569471# Canada \nComposez en fonction de votre lieu de résidence\n+1 438 809 7799 Canada\n+1 587 328 1099 Canada\n+1 647 374 4685 Canada\n+1 647 558 0588 Canada\n+1 778 907 2071 Canada\n+1 204 272 7920 Canada \nID de la réunion : 842 0456 9471\nTrouvez votre numéro local : https://us02web.zoom.us/u/kbeEqxzUCz \nJ’espère vous y voir !
URL:https://www.nfu.ca/fr/event/region-5-rencontre-table-de-cuisine/
END:VEVENT
BEGIN:VEVENT
DTSTART;TZID=America/Edmonton:20220307T180000
DTEND;TZID=America/Edmonton:20220307T193000
DTSTAMP:20260422T131244
CREATED:20220302T171139Z
LAST-MODIFIED:20220302T171139Z
UID:10000300-1646676000-1646681400@www.nfu.ca
SUMMARY:Réunion régionale de l'Alberta
DESCRIPTION:Venez rencontrer d’autres fermières et fermiers\, discuter des défis régionaux et partager vos idées sur l’avenir de l’Union Nationale des Fermiers. Tous les membres de l’Alberta\, nouveaux ou chevronnés\, sont les bienvenus à cette conversation informelle autour d’une table de cuisine !   \nJ’espère vous voir tous le 7 mars à 18 heures (MDT). \n\n  Inscrivez-vous ici \nEt pour toute question supplémentaire\, veuillez envoyer un courriel à macinnins@nfu.ca !
URL:https://www.nfu.ca/fr/event/reunion-regionale-alberta/
LOCATION:Zoom
END:VEVENT
BEGIN:VEVENT
DTSTART;TZID=America/Vancouver:20220308T130000
DTEND;TZID=America/Vancouver:20220308T143000
DTSTAMP:20260422T131244
CREATED:20220222T125021Z
LAST-MODIFIED:20220222T125021Z
UID:10000290-1646744400-1646749800@www.nfu.ca
SUMMARY:Des aînés engagés
DESCRIPTION:Avez-vous vu quelques récoltes ? Vous vous souvenez des téléphones à cadran ? Participez à l’heure sociale mensuelle des aînés engagés de l’UNF et discutez d’agriculture\, de relève\, de joies et de préoccupations avec d’autres fermières et fermiers de partout au Canada. Le deuxième mardi de chaque mois jusqu’en avril à : \n1 PM Pacific\n14 heures Montagne\n15 heures SK & MB\n16 heures\, heure de l’Est\n17 heures Atlantique \nCourriel \n  shaw@nfu.ca\n pour obtenir le lien zoom !
URL:https://www.nfu.ca/fr/event/personnes-agees-engagees-2/
LOCATION:Zoom
END:VEVENT
BEGIN:VEVENT
DTSTART;TZID=America/Vancouver:20220310T120000
DTEND;TZID=America/Vancouver:20220310T133000
DTSTAMP:20260422T131244
CREATED:20220218T234128Z
LAST-MODIFIED:20220218T234128Z
UID:10000289-1646913600-1646919000@www.nfu.ca
SUMMARY:NFUniversité-Émissions de gaz à effet de serre en agriculture : La nouvelle analyse complète de l'UNF
DESCRIPTION:Rejoignez Darrin Qualman\, directeur de la politique et de l’action de l’UNF en matière de crise climatique\, pour une plongée en profondeur dans les sources d’émissions agricoles. Pour la description complète et l’inscription\,\n   cliquez ici\n.
URL:https://www.nfu.ca/fr/event/nfuniversite-emissions-de-gaz-a-effet-de-serre-en-agriculture-la-nouvelle-analyse-complete-de-lunf/
LOCATION:Zoom
CATEGORIES:NFUniversité
ORGANIZER;CN="National Farmers Union":MAILTO:nfu@nfu.ca
END:VEVENT
BEGIN:VEVENT
DTSTART;TZID=America/Vancouver:20220310T160000
DTEND;TZID=America/Vancouver:20220310T173000
DTSTAMP:20260422T131244
CREATED:20220218T194827Z
LAST-MODIFIED:20220218T194827Z
UID:10000298-1646928000-1646933400@www.nfu.ca
SUMMARY:Rassemblement des travailleurs agricoles
DESCRIPTION:La Nationale des Fermiers a voté en faveur de la création d’un nouveau type d’adhésion pour les travailleurs agricoles\, qui offre tous les avantages et les privilèges de vote des fermiers à un tarif inférieur de 50 % à celui de l’adhésion familiale. \nNous voulons célébrer ce changement passionnant en rassemblant pour la deuxième fois les travailleurs agricoles d’un bout à l’autre du pays dans un espace de discussion ouvert. Il est temps de faire entendre la voix des travailleurs agricoles au sein de l’UNF de manière substantielle. \nParlons-en : quels sont les besoins des travailleurs agricoles\, quels sont les défis auxquels ils sont confrontés\, quelles sont les histoires non racontées et non entendues de ce travail\, que voulons-nous voir se produire pour améliorer les conditions des travailleurs agricoles\, quelle est notre contribution à une communauté agricole forte et progressiste ? \nVenez rencontrer des travailleurs agricoles partageant les mêmes idées dans cet espace accueillant. \nQuand : 9 février 2022 \n4 – 5:30 PST\n17 H – 18 H 30 MST\, YST\n6 – 7:30 PM CST\n7 – 8:30 PM EST\n8 – 930 PM AST \nIl n’est pas nécessaire de s’inscrire\, il suffit de trouver les informations de zoom ci-dessous et n’oubliez pas d’ajouter les informations à vos calendriers et de programmer des rappels pour que nous ne vous manquions pas ! \nParticipez à la réunion Zoom\nhttps://us02web.zoom.us/j/86332846648 \nID de la réunion : 863 3284 6648 \nUn seul geste mobile\n+15873281099\,\,86332846648# Canada\n+16473744685\,\,86332846648# CanadaComposez votre numéro en fonction de votre lieu de résidence\n+1 587 328 1099 Canada\n+1 647 374 4685 Canada\n+1 647 558 0588 Canada\n+1 778 907 2071 Canada\n+1 204 272 7920 Canada\n+1 438 809 7799 CanadaMeeting ID : 863 3284 6648 \nTrouvez votre numéro local : https://us02web.zoom.us/u/kbo9lIsJ36
URL:https://www.nfu.ca/fr/event/rassemblement-des-travailleurs-agricoles-2/
LOCATION:Zoom
ORGANIZER;CN="National Farmers Union":MAILTO:nfu@nfu.ca
END:VEVENT
BEGIN:VEVENT
DTSTART;TZID=America/Vancouver:20220314T153000
DTEND;TZID=America/Vancouver:20220314T163000
DTSTAMP:20260422T131244
CREATED:20220307T174845Z
LAST-MODIFIED:20220307T174845Z
UID:10000304-1647271800-1647275400@www.nfu.ca
SUMMARY:Réunion du caucus PANDC
DESCRIPTION:Rejoignez les fermières et les travailleurs agricoles du PANDC dans le travail du caucus du PANDC de l’UNF ! Pour plus d’informations\, veuillez contacter Cheyanne\, présidente du PANDC\, à l’adresse suivante : sundanceharvest@gmail.com ou Sunil\, vice-président du PANDC\, à l’adresse  suivante :  sunil@nfuontario.ca. Le Caucus PANDC se réunit tous les deuxièmes lundis du mois ! \nVeuillez noter que le caucus PANDC est réservé aux fermières et travailleuses agricoles PANDC.
URL:https://www.nfu.ca/fr/event/reunion-du-pandc/
LOCATION:Zoom
END:VEVENT
BEGIN:VEVENT
DTSTART;TZID=America/Vancouver:20220315T160000
DTEND;TZID=America/Vancouver:20220315T170000
DTSTAMP:20260422T131244
CREATED:20220302T181233Z
LAST-MODIFIED:20220302T181233Z
UID:10000301-1647360000-1647363600@www.nfu.ca
SUMMARY:2SLGBTQ+ Rassemblement des fermiers et des travailleurs agricoles
DESCRIPTION:Joignez-vous à un forum ouvert réunissant des fermières et des travailleurs agricoles 2SLGBTQ+ d’un océan à l’autre le 15 mars à 16h PDT / YST\, 17h MDT / CST (SK)\, 18h CDT\, 19h EDT\, 20h ADT. Les fermières et les travailleurs agricoles qui s’identifient comme 2SLGBTQ+\, qui sont à la fois membres et non-membres de la Nationale des Fermières (UNF)\, sont invités. Nous allons nous connecter\, partager\, apprendre et écouter dans un espace sûr. Les participants orienteront les discussions lors de cet événement.   \nPas d’inscription\, il suffit de venir à l’événement zoom ! Les questions peuvent être adressées à koon@nfu.ca.   \nRejoignez-nous sur le zoom en cliquant sur le lien suivant :\nhttps://us02web.zoom.us/j/86055011611\nOU\nAppelez au :\nNuméro d’identification de la réunion : 860 5501 1611 \nComposez en fonction de votre lieu de résidence\n+1 778 907 2071 Canada\n+1 204 272 7920 Canada\n+1 438 809 7799 Canada\n+1 587 328 1099 Canada\n+1 647 374 4685 Canada\n+1 647 558 0588 Canada
URL:https://www.nfu.ca/fr/event/2slgbtq-farmer-farmworker-gathering/
LOCATION:Zoom
END:VEVENT
BEGIN:VEVENT
DTSTART;TZID=America/Vancouver:20220317T150000
DTEND;TZID=America/Vancouver:20220317T163000
DTSTAMP:20260422T131244
CREATED:20220302T183636Z
LAST-MODIFIED:20220302T183636Z
UID:10000302-1647529200-1647534600@www.nfu.ca
SUMMARY:Réunion du Caucus des jeunes
DESCRIPTION:Participez à la prochaine réunion du caucus des jeunes. Nous réviserons notre plan stratégique et établirons un plan pour l’année à venir. Si vous avez toujours voulu vous impliquer dans la Nationale des Fermiers\, c’est un excellent point de départ. Tous les jeunes fermiers sont les bienvenus à cette réunion ! N’hésitez pas à partager ou à écouter\, tous les niveaux de participation sont les bienvenus. \nVous trouverez les informations sur le zoom ci-dessous : \nParticipez à la réunion Zoom\nhttps://us02web.zoom.us/j/89168634581 \nID de la réunion : 891 6863 4581\nUn seul geste mobile\n+14388097799\,\,89168634581# Canada\n+15873281099\,\,89168634581# Canada \nComposez en fonction de votre lieu de résidence\n+1 438 809 7799 Canada\n+1 587 328 1099 Canada\n+1 647 374 4685 Canada\n+1 647 558 0588 Canada\n+1 778 907 2071 Canada\n+1 204 272 7920 Canada\n+1 301 715 8592 US (Washington DC)\n+1 312 626 6799 US (Chicago)\n+1 346 248 7799 US (Houston)\n+1 669 900 6833 US (San Jose)\n+1 929 436 2866 US (New York)\n+1 253 215 8782 US (Tacoma)\nID de la réunion : 891 6863 4581\nTrouvez votre numéro local : \n  https://us02web.zoom.us/u/kATXAA1GA
URL:https://www.nfu.ca/fr/event/reunion-du-caucus-des-jeunes/
LOCATION:Zoom
ORGANIZER;CN="NFU Youth":MAILTO:macinnis@nfu.ca
END:VEVENT
BEGIN:VEVENT
DTSTART;TZID=America/Vancouver:20220317T153000
DTEND;TZID=America/Vancouver:20220317T163000
DTSTAMP:20260422T131244
CREATED:20220302T190421Z
LAST-MODIFIED:20220302T190421Z
UID:10000303-1647531000-1647534600@www.nfu.ca
SUMMARY:Rassemblement du caucus des femmes
DESCRIPTION:
URL:https://www.nfu.ca/fr/event/reunion-du-caucus-des-femmes-2/
END:VEVENT
BEGIN:VEVENT
DTSTART;TZID=America/Halifax:20220317T193000
DTEND;TZID=America/Halifax:20220317T210000
DTSTAMP:20260422T131244
CREATED:20220218T184732Z
LAST-MODIFIED:20220218T184732Z
UID:10000294-1647545400-1647550800@www.nfu.ca
SUMMARY:Réunion de la table de cuisine - UNF-NB
DESCRIPTION:Rejoignez l’UNF-NB pour une nouvelle série de réunions virtuelles d’hiver autour de la table !\n\n\n\nLes réunions de la table de cuisine auront lieu le troisième jeudi des mois de février\, mars et avril. Venez avec une tasse de thé\, mettez-vous à l’aise et parlez de tout ce qui concerne l’agriculture et qui vous tient à cœur. Nous vous encourageons à participer de la manière qui vous convient le mieux  \n\n\n\n\nIl s’agit d’un événement informel\, aucune traduction formelle ne sera donc fournie. Les participants sont encouragés à s’exprimer dans la langue de leur choix (anglais ou français) et les animateurs les aideront à communiquer ce qu’ils disent aux autres participants.\n\nEnvoyez un courriel à cormier@nfu.ca pour obtenir le lien de la réunion.\n\nDates :\n\n17 février 2022 –Culture à petiteéchelle\n24 mars 2022-TBD\n21 avril 2022-Discussionsur les aides nécessaires aux exploitations agricoles dont les membres travaillent à l’extérieur de l’exploitation.
URL:https://www.nfu.ca/fr/event/table-de-cuisine-rencontre-unf-nb/
LOCATION:Zoom
ORGANIZER;CN="NFU-NB":MAILTO:nfu.nb.office@gmail.com
END:VEVENT
BEGIN:VEVENT
DTSTART;TZID=America/Regina:20220330T093000
DTEND;TZID=America/Regina:20220330T150000
DTSTAMP:20260422T131244
CREATED:20220222T214649Z
LAST-MODIFIED:20220222T214649Z
UID:10000292-1648632600-1648652400@www.nfu.ca
SUMMARY:Convention de la région 6 de l'UNF
DESCRIPTION:Le congrès régional de la Saskatchewan est presque arrivé et nous espérons que vous pourrez participer à l’événement ! En raison de la pandémie actuelle et des restrictions empêchant la tenue d’un congrès en personne\, le congrès régional de la Saskatchewan se déroulera encore cette année de façon virtuelle\, à l’aide de Zoom\, le mercredi 30 mars. Vous pourrez y assister depuis le confort de votre domicile\, par téléphone ou par ordinateur. Veuillez vous inscrire ci-dessous ou appeler le bureau de l’UNF au (306) 652-9465 ou envoyer un courriel à nfu@nfu.ca. \nVoici le programme de la convention ! \nMercredi 30 mars 2022\n10H00:\nBienvenue et présentationsNomination des présidentsNomination du secrétaireÉlection du comité des candidaturesÉlection du comité des résolutionsAdoption de l’ordre du jour10:15:\nRapports : Coordinateur régionalComité des Programmes Internationaux10:25 AM:\nNominations pour le prix du membre de base10:35 AM:\nSalutations de Mara Shaw\, directrice exécutive de l’UNF10:40: ORATEUR PRINCIPAL\nBen Bartel\, membre du conseil d’administration de Farmland Legacies et partenairesur la ferme Grovenland de trois générationsSujet : Farmland Legacies : une fiducie foncière agricole de la Saskatchewan qui promeut la durabilité11:20:\nRésumé de l’état d’avancement des campagnes\, si disponible : Changement climatique\, souveraineté en matière de semences\, WGRF\, transports\, CCG\, élevage et comité d’accès aux terres agricoles.12:00:\nRapport du comité des nominations : Élection du Bureau– Membres du conseil d’administration (3) – Membre du comité consultatif des jeunes– Membre consultatif femmes – Membre consultatif PANDC12:10: PAUSE DÉJEUNER1:00 PM: ORATEUR PRINCIPAL\nMichael Fitzsimmons\, expert en science des écosystèmes. Son histoire d’engagement rural comprend plusieurs décennies d’affectations\, de la frontière du Montana au nord de la Saskatchewan\, dans des domaines tels que l’exploitation des parcs\, l’agriculture biologique\, la gestion des forêts et la protection de l’eau.13:30:\nPrésentation des résolutions de soutien à la convention2:15 PM:\nGroupes de travail pour discuter des priorités de la R6 cette année/possibilité de participer davantage aux activités de l’Union2:45 PM:\nRésumé des priorités des groupes de discussion3:00 PM: LEVÉE DE LA SÉANCE
URL:https://www.nfu.ca/fr/event/unf-region-6-convention-2022/
LOCATION:Zoom
CATEGORIES:Convention régionale
ORGANIZER;CN="National Farmers Union":MAILTO:nfu@nfu.ca
END:VEVENT
END:VCALENDAR