
BEGIN:VCALENDAR
VERSION:2.0
PRODID:-//National Farmers Union - ECPv6.15.20//NONSGML v1.0//EN
CALSCALE:GREGORIAN
METHOD:PUBLISH
X-WR-CALNAME:National Farmers Union
X-ORIGINAL-URL:https://www.nfu.ca/fr/
X-WR-CALDESC:Évènements pour National Farmers Union
REFRESH-INTERVAL;VALUE=DURATION:PT1H
X-Robots-Tag:noindex
X-PUBLISHED-TTL:PT1H
BEGIN:VTIMEZONE
TZID:America/Edmonton
BEGIN:DAYLIGHT
TZOFFSETFROM:-0700
TZOFFSETTO:-0600
TZNAME:MDT
DTSTART:20210314T090000
END:DAYLIGHT
BEGIN:STANDARD
TZOFFSETFROM:-0600
TZOFFSETTO:-0700
TZNAME:MST
DTSTART:20211107T080000
END:STANDARD
BEGIN:DAYLIGHT
TZOFFSETFROM:-0700
TZOFFSETTO:-0600
TZNAME:MDT
DTSTART:20220313T090000
END:DAYLIGHT
BEGIN:STANDARD
TZOFFSETFROM:-0600
TZOFFSETTO:-0700
TZNAME:MST
DTSTART:20221106T080000
END:STANDARD
BEGIN:DAYLIGHT
TZOFFSETFROM:-0700
TZOFFSETTO:-0600
TZNAME:MDT
DTSTART:20230312T090000
END:DAYLIGHT
BEGIN:STANDARD
TZOFFSETFROM:-0600
TZOFFSETTO:-0700
TZNAME:MST
DTSTART:20231105T080000
END:STANDARD
END:VTIMEZONE
BEGIN:VTIMEZONE
TZID:America/Vancouver
BEGIN:DAYLIGHT
TZOFFSETFROM:-0800
TZOFFSETTO:-0700
TZNAME:PDT
DTSTART:20210314T100000
END:DAYLIGHT
BEGIN:STANDARD
TZOFFSETFROM:-0700
TZOFFSETTO:-0800
TZNAME:PST
DTSTART:20211107T090000
END:STANDARD
BEGIN:DAYLIGHT
TZOFFSETFROM:-0800
TZOFFSETTO:-0700
TZNAME:PDT
DTSTART:20220313T100000
END:DAYLIGHT
BEGIN:STANDARD
TZOFFSETFROM:-0700
TZOFFSETTO:-0800
TZNAME:PST
DTSTART:20221106T090000
END:STANDARD
BEGIN:DAYLIGHT
TZOFFSETFROM:-0800
TZOFFSETTO:-0700
TZNAME:PDT
DTSTART:20230312T100000
END:DAYLIGHT
BEGIN:STANDARD
TZOFFSETFROM:-0700
TZOFFSETTO:-0800
TZNAME:PST
DTSTART:20231105T090000
END:STANDARD
END:VTIMEZONE
BEGIN:VTIMEZONE
TZID:America/Halifax
BEGIN:DAYLIGHT
TZOFFSETFROM:-0400
TZOFFSETTO:-0300
TZNAME:ADT
DTSTART:20210314T060000
END:DAYLIGHT
BEGIN:STANDARD
TZOFFSETFROM:-0300
TZOFFSETTO:-0400
TZNAME:AST
DTSTART:20211107T050000
END:STANDARD
BEGIN:DAYLIGHT
TZOFFSETFROM:-0400
TZOFFSETTO:-0300
TZNAME:ADT
DTSTART:20220313T060000
END:DAYLIGHT
BEGIN:STANDARD
TZOFFSETFROM:-0300
TZOFFSETTO:-0400
TZNAME:AST
DTSTART:20221106T050000
END:STANDARD
BEGIN:DAYLIGHT
TZOFFSETFROM:-0400
TZOFFSETTO:-0300
TZNAME:ADT
DTSTART:20230312T060000
END:DAYLIGHT
BEGIN:STANDARD
TZOFFSETFROM:-0300
TZOFFSETTO:-0400
TZNAME:AST
DTSTART:20231105T050000
END:STANDARD
END:VTIMEZONE
BEGIN:VEVENT
DTSTART;TZID=America/Edmonton:20220117T173000
DTEND;TZID=America/Edmonton:20220117T193000
DTSTAMP:20260422T164737
CREATED:20220106T162452Z
LAST-MODIFIED:20220106T162452Z
UID:10000284-1642440600-1642447800@www.nfu.ca
SUMMARY:Conversation sur le climat et la communauté - Région 7
DESCRIPTION:Façonnez la conversation sur le changement climatique\, la sécurité des revenus et la résilience des communautés – les fermières ne peuvent pas être laissées de côté !  \nNous traversons une crise du revenu agricole. La Nationale des Fermiers (UNF) continue de dénoncer le problème et de rechercher un changement systémique. Dans un récent communiqué de presse intitulé Grocery Prices are Rising and Farmers’ Share Declining as Corporate Processors and Retailers Take More and More\, l’UNF déclare ce qui suit : « Les données publiques montrent que les entreprises de transformation alimentaire et les détaillants ont sans relâche\, pendant des décennies\, fait grimper les prix de détail alors même que les prix payés aux fermières restaient largement stagnants. » Compte tenu de l’état des revenus agricoles détaillé plus en détail dans le document S’attaquer à la crise agricole et à la crise climatique\, l’UNF organise trois conversations virtuelles dans le nord de la Colombie-Britannique et le Yukon\, le nord de l’Alberta et les Territoires du Nord-Ouest\, ainsi que dans les provinces de l’Atlantique\, sur les liens entre le changement climatique\, la sécurité des revenus et la résilience des communautés\, en partenariat avec le Green Resilience Project. \nNous souhaitons vous inviter à un événement à venir dans votre communauté. \nDates et heures : \n\nNord de l’Alberta et Territoires du Nord-Ouest : 17 janvier 17h30 – 19h30 HNR\nLe nord de la Colombie-Britannique et le Yukon : 18 janvier\, 18 h 30 – 20 h 30 HNR\, 17 h 30 – 19 h 30 HNP\nProvinces de l’Atlantique : 20 janvier\, de 17 à 19 heures HNA\n\nQui? Les fermiers et les travailleurs agricoles des trois régions susmentionnées (membres et non-membres de l’UNF). \nVeuillez vous inscrire en remplissant ce formulaire Google. Grâce au financement et au partenariat avec le Green Resilience Project\, nous sommes en mesure d’offrir aux participants une  rétribution de 50 dollars pour leur participation. Nous espérons que vous vous joindrez à nous pour faire entendre les expériences des fermières. \nQu’est-ce que le projet de résilience verte ? Le Projet de résilience verte a été lancé par un groupe de personnes et d’organisations travaillant sur le changement climatique et la sécurité des revenus\, qui ont reçu un financement du Fonds d’action et de sensibilisation au climat d’ Environnement et Changement climatique Canada pour organiser une série de conversations sur les liens entre le changement climatique\, la sécurité des revenus et la résilience des communautés. Les fermières ne peuvent pas être laissées à l’écart de ces discussions et décisions politiques. Pour en savoir plus sur le projet \, cliquez ici.
URL:https://www.nfu.ca/fr/event/climat-et-conversations-communautaires-region-7/
ORGANIZER;CN="National Farmers Union":MAILTO:nfu@nfu.ca
END:VEVENT
BEGIN:VEVENT
DTSTART;TZID=America/Vancouver:20220118T173000
DTEND;TZID=America/Vancouver:20220118T193000
DTSTAMP:20260422T164737
CREATED:20220106T163036Z
LAST-MODIFIED:20220106T163036Z
UID:10000285-1642527000-1642534200@www.nfu.ca
SUMMARY:Conversation sur le climat et la communauté - Région 8
DESCRIPTION:Façonnez la conversation sur le changement climatique\, la sécurité des revenus et la résilience des communautés – les fermières ne peuvent pas être laissées de côté ! \nNous traversons une crise du revenu agricole. La Nationale des Fermiers (UNF) continue de dénoncer le problème et de rechercher un changement systémique. Dans un récent communiqué de presse intitulé Grocery Prices are Rising and Farmers’ Share Declining as Corporate Processors and Retailers Take More and More\, l’UNF déclare ce qui suit : « Les données publiques montrent que les entreprises de transformation alimentaire et les détaillants ont sans relâche\, pendant des décennies\, fait grimper les prix de détail alors même que les prix payés aux fermières restaient largement stagnants. » Compte tenu de l’état des revenus agricoles détaillé plus en détail dans le document S’attaquer à la crise agricole et à la crise climatique\, l’UNF organise trois conversations virtuelles dans le nord de la Colombie-Britannique et le Yukon\, le nord de l’Alberta et les Territoires du Nord-Ouest\, ainsi que dans les provinces de l’Atlantique\, sur les liens entre le changement climatique\, la sécurité des revenus et la résilience des communautés\, en partenariat avec le Green Resilience Project. \nNous souhaitons vous inviter à un événement à venir dans votre communauté. Dates et heures : \n\nNord de l’Alberta et Territoires du Nord-Ouest : 17 janvier 17h30 – 19h30 HNR\nLe nord de la Colombie-Britannique et le Yukon : 18 janvier\, 18 h 30 – 20 h 30 HNR\, 17 h 30 – 19 h 30 HNP\nProvinces de l’Atlantique : 20 janvier\, de 17 à 19 heures HNA\n\nQui? Les fermiers et les travailleurs agricoles des trois régions susmentionnées (membres et non-membres de l’UNF). \nVeuillez vous inscrire en remplissant ce formulaire Google. Grâce au financement et au partenariat avec le Green Resilience Project\, nous sommes en mesure d’offrir aux participants une  rétribution de 50 dollars pour leur participation. Nous espérons que vous vous joindrez à nous pour faire entendre les expériences des fermières.Qu’est-ce que le projet de résilience verte ? \nLe projet de résilience verte a été lancé par un groupe de personnes et d’organisations travaillant sur le changement climatique et la sécurité des revenus\, qui ont reçu un financement du Fonds d’action et de sensibilisation au climat d’ Environnement et Changement climatique Canada pour organiser une série de conversations sur les liens entre le changement climatique\, la sécurité des revenus et la résilience communautaire dans les communautés. Les fermières ne peuvent pas être laissées à l’écart de ces discussions et décisions politiques. Pour en savoir plus sur le projet \, cliquez ici.
URL:https://www.nfu.ca/fr/event/climat-et-communaute-conversation-region-8/
ORGANIZER;CN="Green Resilience Project":MAILTO:cecilia@greenresilience.ca
END:VEVENT
BEGIN:VEVENT
DTSTART;TZID=America/Halifax:20220119T193000
DTEND;TZID=America/Halifax:20220119T210000
DTSTAMP:20260422T164737
CREATED:20220106T150427Z
LAST-MODIFIED:20251003T040936Z
UID:10000278-1642620600-1642626000@www.nfu.ca
SUMMARY:Vivre en relation avec la terre et la mer
DESCRIPTION:Cet atelier unique fait le lien entre les pratiques indigènes de culture et de récolte des aliments sur l’océan et sur la terre\, alors que les dirigeants indigènes travaillent à la reconquête de la souveraineté alimentaire.\n\n\n 	\n  Philip Brass\n sur les pratiques foncières\, Nations Saulteaux-Cree\n 	\n  Skye Augustine\n sur la restauration des marais à palourdes\, nation Stz’uminus\n 	\n  Ashley Manitowabi\nOjibway-Odawa-Potowanami\, préside cet événement.\n\nOrganisé par Ocean Networks Canada et l’Union Nationale des Fermiers avec gratitude.\n\n\n\n\nHeure : Le zoom Chanel ouvrira à 06:30 PM en heure de l’Est le 19 janvier 2022. Les présentations commencent à 19h00 heure de l’Est. \n\nL’interprétation en français sera disponible !\n\n\n–\n\nCet atelier unique relie les pratiques autochtones de culture et de récolte des aliments sur l’océan et sur la terre\, alors que les dirigeants autochtones s’efforcent de récupérer la souveraineté alimentaire.\n\n 	Philip Brass sur les pratiques de la terre\, Nations Saulteaux-Cree\n 	Skye Augustine sur la restauration des parcs à palourdes\, Nation Stz’uminus.\n 	Ashley Manitowabi\, Ojibway-Odawa-Potowanami\, préside cet événement.\n\nOrganisé par Ocean Networks Canada et l’Union Nationale des Fermiers avec gratitude.\n\nHeure : Le canal de zoom ouvrera à 18h 30 de l’est le 19 janvier 2022\, l’événement commence à 19h de l’est.\n\nL’interprétation en français sera disponible !
URL:https://www.nfu.ca/fr/event/restaurer-la-souverainete-alimentaire-des-autochtones/
LOCATION:Webinar\, online\, Canada
ORGANIZER;CN="National Farmers Union":MAILTO:nfu@nfu.ca
END:VEVENT
BEGIN:VEVENT
DTSTART;TZID=America/Halifax:20220120T170000
DTEND;TZID=America/Halifax:20220120T193000
DTSTAMP:20260422T164737
CREATED:20220106T163822Z
LAST-MODIFIED:20220106T163822Z
UID:10000286-1642698000-1642707000@www.nfu.ca
SUMMARY:Conversation sur le climat et la communauté - Région 1
DESCRIPTION:Façonnez la conversation sur le changement climatique\, la sécurité des revenus et la résilience des communautés – les fermières ne peuvent pas être laissées de côté ! \nNous traversons une crise du revenu agricole. La Nationale des Fermiers (UNF) continue de dénoncer le problème et de rechercher un changement systémique. Dans un récent communiqué de presse intitulé Grocery Prices are Rising and Farmers’ Share Declining as Corporate Processors and Retailers Take More and More\, l’UNF déclare ce qui suit : « Les données publiques montrent que les entreprises de transformation alimentaire et les détaillants ont sans relâche\, pendant des décennies\, fait grimper les prix de détail alors même que les prix payés aux fermières restaient largement stagnants. » Compte tenu de l’état des revenus agricoles détaillé plus en détail dans le document S’attaquer à la crise agricole et à la crise climatique\, l’UNF organise trois conversations virtuelles dans le nord de la Colombie-Britannique et le Yukon\, le nord de l’Alberta et les Territoires du Nord-Ouest\, ainsi que dans les provinces de l’Atlantique\, sur les liens entre le changement climatique\, la sécurité des revenus et la résilience des communautés\, en partenariat avec le Green Resilience Project. Nous souhaitons vous inviter à un événement à venir dans votre communauté. \nDates et heures : \n\nNord de l’Alberta et Territoires du Nord-Ouest : 17 janvier 17h30 – 19h30 HNR\nLe nord de la Colombie-Britannique et le Yukon : 18 janvier\, 18 h 30 – 20 h 30 HNR\, 17 h 30 – 19 h 30 HNP\nProvinces de l’Atlantique : 20 janvier\, de 17 à 19 heures HNA\n\nQui? Les fermiers et les travailleurs agricoles des trois régions susmentionnées (membres et non-membres de l’UNF). \nPour participer\, veuillez vous inscrire en remplissant ce formulaire Google. Grâce au financement et au partenariat avec le Green Resilience Project\, nous sommes en mesure d’offrir aux participants une  rétribution de 50 dollars pour leur participation. Nous espérons que vous vous joindrez à nous pour faire entendre les expériences des fermières. \nQu’est-ce quele Projet de résilience verte ?Le Projet de résilience verte a été lancé par un groupe de personnes et d’organisations travaillant dans le domaine du changement climatique et de la sécurité du revenu\, qui ont reçu un financement du Fonds d’action et de sensibilisation au climat d’ Environnement et Changement climatique Canada pour organiser une série de conversations sur les liens entre le changement climatique\, la sécurité du revenu et la résilience communautaire dans les communautés. Les fermières ne peuvent pas être laissées à l’écart de ces discussions et décisions politiques. Pour en savoir plus sur le projet \, cliquez ici.
URL:https://www.nfu.ca/fr/event/climat-et-communaute-conversation-region-1/
CATEGORIES:Autres événements
ORGANIZER;CN="Green Resilience Project":MAILTO:cecilia@greenresilience.ca
END:VEVENT
BEGIN:VEVENT
DTSTART;TZID=America/Vancouver:20220121T090000
DTEND;TZID=America/Vancouver:20220121T110000
DTSTAMP:20260422T164737
CREATED:20220105T194539Z
LAST-MODIFIED:20220105T194539Z
UID:10000277-1642755600-1642762800@www.nfu.ca
SUMMARY:Terre de Liens - Quand les citoyens font pousser des fermes
DESCRIPTION:*le français suit \n\nSérie de conférences du comité des terres agricoles \nPrésenté par : \nColine Sovran\, M.P.S.\, Chargée de mission\, Terre de Liens \n\nDécouvrez comment un mouvement social en France « permet aux citoyens et aux paysans d’agir sur le terrain » en préservant les terres agricoles et en facilitant leur accès. \n\nA propos de Terre de Liens : « [Terre de Liens is] une organisation civique créée pour aider les fermières biologiques et paysannes à accéder à la terre. L’organisation promeut également de nouvelles façons de posséder et de gérer la terre comme un bien commun. Terre de liens a créé des outils financiers (une société d’investissement solidaire et un fonds de dotation) pour collecter des fonds d’investissement et des dons\, ainsi que des outils pédagogiques pour informer et sensibiliser le public à l’accès à la terre et à l’agriculture. Elle dispose aujourd’hui d’un réseau de 2000 membres et 8000 actionnaires\, et possède 2400 hectares de terres agricoles\, soutenant environ 200 fermières. » (Source : https://www.accesstoland.eu/-Terre-de-liens-) \nCette session avec la conférencière Coline de Terre de Liens est la première d’une série de 2022 ateliers mensuels organisés par le Comité des terres agricoles de l’UNF. L’objectif de ces sessions est d’éduquer les membres et le grand public sur les possibilités de régimes fonciers alternatifs\, en tant qu’étape initiale d’une poursuite à plus long terme de la mise en œuvre de modèles pour aider à résoudre les problèmes d’accès à la terre et à mettre en œuvre la souveraineté alimentaire. Rejoignez-nous le 21 janvier à 9h PST\, et restez à l’écoute pour notre session de février ! Après la présentation de Coline\, il y aura beaucoup de temps pour une séance de questions-réponses. La présentation se fera en français\, avec une traduction en direct en anglais. \nRejoignez-nous en ligne : \nFri. 21 janvier\, 9:00 AM PST \nVeuillez vous inscrire ici : \n  https://us02web.zoom.us/meeting/register/tZMkc-ipqDktG9eO07O1KPwwiYoL90uV0Lpu \nOrganisé par le comité des terres agricoles \nCet événement a été rendu possible grâce au soutien financier du programme des chaires de recherche du Canada. \n**La traduction en anglais est rendue possible par le gouvernement du Canada \n \n\nTerre de liens : Quand les citoyens font pousser les fermes\nSérie de conférences du Comité sur les terres agricoles \nPrésentée par : \nColine Sovran\, M.P.S.\, Agente d’intervention\, Terre de Liens \n\nApprenez comment un mouvement social en France abilite des citoyens et des paysans à passer à l’action sur le terrain en conservant les terres agricoles et en y facilitant l’accès. \n\nÀ propos de Terre de Liens : Terre de Liens est une organisation civique mise sur pied pour aider les fermiers et les paysans bio à avoir accès à des terres. L’organisation promouvait également de nouvelles manières d’être propriétaires et de gérer la terre comme bien commun. Terre de liens a créé des outils financiers (une société d’investissements de solidarité et un fonds de dotation) de sorte à recueillir des fonds d’investissements et des donations\, ainsi que des outils pédagogiques pour informer le public et le sensibiliser quant à l’accès aux terres et à propos de l’agriculture. Il est maintenant devenu un réseau de 2000 membres et de 8000 intervenants ; il appartient 2400 hectares de terres agricoles\, qui soutiennent environ 200 fermiers. (Source : https://www.accesstoland.eu/-Terre-de-liens-) \nCette session avec la conférencière invitée\, Coline\, de Terre de Liens\, est la première d’une série d’ateliers mensuels en 2022 organisée par le Comité sur les terres agricoles de l’UNF. Le but de ces sessions est d’éduquer les membres et le grand public sur les possibilités de régimes fonciers non traditionnels\, comme démarche initiale dans le cadre d’une quête à long-terme de faire la mise en œuvre des modèles visant à aborder les enjeux reliés à l’accès aux terres et mettre en œuvre la souveraineté alimentaire. Joignez-nous le 21 janvier\, à 9h00 HNP\, et restez à l’écoute pour notre session en février ! Suite à la présentation de Coline\, il y aura assez de temps pour une foire aux questions. La présentation aura lieu en français\, avec traduction vers l’anglais. \nVeuillez nous rejoindre en ligne : \nVendredi\, 21 janvier\, à 9h00 (HNP) \nInscrivez-vous ici : \nhttps://us02web.zoom.us/meeting/register/tZMkc-ipqDktG9eO07O1KPwwiYoL90uV0Lpu \nOrganisée par le Comité sur les terres agricoles \nCet événement est rendu possible grâce au soutien financier du programme de la Chaire de recherche du Canada
URL:https://www.nfu.ca/fr/event/terre-de-liens-quand-les-citoyens-font-pousser-des-fermes/
LOCATION:Webinar\, online\, Canada
ORGANIZER;CN="National Farmers Union":MAILTO:nfu@nfu.ca
END:VEVENT
END:VCALENDAR