
BEGIN:VCALENDAR
VERSION:2.0
PRODID:-//National Farmers Union - ECPv6.15.20//NONSGML v1.0//EN
CALSCALE:GREGORIAN
METHOD:PUBLISH
X-ORIGINAL-URL:https://www.nfu.ca/fr/
X-WR-CALDESC:Évènements pour National Farmers Union
REFRESH-INTERVAL;VALUE=DURATION:PT1H
X-Robots-Tag:noindex
X-PUBLISHED-TTL:PT1H
BEGIN:VTIMEZONE
TZID:America/Chicago
BEGIN:DAYLIGHT
TZOFFSETFROM:-0600
TZOFFSETTO:-0500
TZNAME:CDT
DTSTART:20200308T080000
END:DAYLIGHT
BEGIN:STANDARD
TZOFFSETFROM:-0500
TZOFFSETTO:-0600
TZNAME:CST
DTSTART:20201101T070000
END:STANDARD
BEGIN:DAYLIGHT
TZOFFSETFROM:-0600
TZOFFSETTO:-0500
TZNAME:CDT
DTSTART:20210314T080000
END:DAYLIGHT
BEGIN:STANDARD
TZOFFSETFROM:-0500
TZOFFSETTO:-0600
TZNAME:CST
DTSTART:20211107T070000
END:STANDARD
BEGIN:DAYLIGHT
TZOFFSETFROM:-0600
TZOFFSETTO:-0500
TZNAME:CDT
DTSTART:20220313T080000
END:DAYLIGHT
BEGIN:STANDARD
TZOFFSETFROM:-0500
TZOFFSETTO:-0600
TZNAME:CST
DTSTART:20221106T070000
END:STANDARD
END:VTIMEZONE
BEGIN:VEVENT
DTSTART;TZID=America/Chicago:20211015T190000
DTEND;TZID=America/Chicago:20211015T220000
DTSTAMP:20260422T220443
CREATED:20210928T151309Z
LAST-MODIFIED:20210928T151309Z
UID:10000275-1634324400-1634335200@www.nfu.ca
SUMMARY:Convention régionale de l'UNF\, région 7 (AB/NWT)
DESCRIPTION:Cher membre de l’UNF\, \nNous vous invitons à vous joindre à nous pour une soirée informative avec des orateurs\, des mises à jour et un processus démocratique lors de la Convention de la Région 7. Compte tenu de la situation sanitaire persistante dans la région\, la convention régionale se déroulera à nouveau en ligne via Zoom. Nous avons inclus dans ce courrier des instructions détaillées sur la manière de se connecter à distance par Internet et par téléphone afin que les membres qui ne disposent pas d’une couverture Internet puissent participer pleinement. \nNous espérons que vous vous joindrez à nous en ligne et que vous inviterez vos amis à venir écouter les présentations et recevoir les dernières nouvelles des dirigeants régionaux et nationaux. Une soirée animée par Toby Malloy suivra. \n\n\n\nPour adhérer par ordinateur : \nAllez sur le site web de Zoom \n  https://zoom.us/\n et cliquez sur Rejoindre une réunion\, puis entrez l’ID de la réunion et le code d’accès. \nL’identifiant de la réunion est 872 1420 7317 et le code d’accès est 748225. \nPour s’inscrire par téléphone : \n1. Notez à l’avance les numéros de l’identifiant de la réunion et du code d’accès. \n2. Composez l’un des numéros suivants : 1 204 272-7920 ; 1 438 809-7799 ; 1 587 328-1099 \n3. Saisissez l’identifiant de la réunion : 872 1420 7317 et le code d’accès : 748225 \nSi vous avez des questions concernant la connexion au Congrès\, veuillez contacter Mara Shaw shaw@nfu.ca ou 613 217-9404\, ou le Bureau national à nfu@nfu.ca ou 306 652-9465. Quelqu’un répondra à vos questions et vous aidera à participer.\n\n\n\n\nORDRE DU JOUR DE LA CONVENTION – Vendredi 15 octobre :\n19:00 Appel à l’ordre \n  Introductions \n  Élire un président \n19:05 Accueil par la présidente nationale de l’UNF\, Katie Ward \n19:10 Procès-verbal de la réunion du 12 septembre 2020 \n7:15 PM Alberta Updates and Issues \n\nDoug Scott – Coordinateur régional R7\nRapport du CIP et du Comité consultatif des femmes – Toby Malloy\n\n19:25 Mise à jour nationale – Katie Ward \n19:40 R7 Elections – Membres du conseil d’administration\, comité consultatif des femmes\, comité consultatif des jeunes\, représentant du CIP \n19:50 Résolutions – Apportez vos résolutions sur les questions qui vous tiennent à cœur et sur lesquelles vous aimeriez que l’UNF travaille. \n20:10 Aperçu du travail de l’UNF sur le climat\n  : Darrin Qualman\, directeur de la politique et de l’action de l’UNF en matière de crise climatique.\n \n21:10 Toby Malloy: Animateur – ZOOM Social            \n22:00 Levée de la séance \nNous vous souhaitons le meilleur en cette année de défis inimaginables. Nous espérons que vous pourrez vous joindre à nous pour continuer à œuvrer en faveur de conditions équitables pour les fermières\, leurs familles et notre société. \nDoug Scott\, coordinateur régional de la région 7 (AB)
URL:https://www.nfu.ca/fr/event/unf-region-7-alberta-northwest-territories-convention/
END:VEVENT
END:VCALENDAR