
BEGIN:VCALENDAR
VERSION:2.0
PRODID:-//National Farmers Union - ECPv6.15.20//NONSGML v1.0//EN
CALSCALE:GREGORIAN
METHOD:PUBLISH
X-WR-CALNAME:National Farmers Union
X-ORIGINAL-URL:https://www.nfu.ca/fr/
X-WR-CALDESC:Évènements pour National Farmers Union
REFRESH-INTERVAL;VALUE=DURATION:PT1H
X-Robots-Tag:noindex
X-PUBLISHED-TTL:PT1H
BEGIN:VTIMEZONE
TZID:America/Vancouver
BEGIN:DAYLIGHT
TZOFFSETFROM:-0800
TZOFFSETTO:-0700
TZNAME:PDT
DTSTART:20200308T100000
END:DAYLIGHT
BEGIN:STANDARD
TZOFFSETFROM:-0700
TZOFFSETTO:-0800
TZNAME:PST
DTSTART:20201101T090000
END:STANDARD
BEGIN:DAYLIGHT
TZOFFSETFROM:-0800
TZOFFSETTO:-0700
TZNAME:PDT
DTSTART:20210314T100000
END:DAYLIGHT
BEGIN:STANDARD
TZOFFSETFROM:-0700
TZOFFSETTO:-0800
TZNAME:PST
DTSTART:20211107T090000
END:STANDARD
BEGIN:DAYLIGHT
TZOFFSETFROM:-0800
TZOFFSETTO:-0700
TZNAME:PDT
DTSTART:20220313T100000
END:DAYLIGHT
BEGIN:STANDARD
TZOFFSETFROM:-0700
TZOFFSETTO:-0800
TZNAME:PST
DTSTART:20221106T090000
END:STANDARD
END:VTIMEZONE
BEGIN:VEVENT
DTSTART;TZID=America/Vancouver:20210916T190000
DTEND;TZID=America/Vancouver:20210916T213000
DTSTAMP:20260422T234619
CREATED:20210909T182932Z
LAST-MODIFIED:20210909T182932Z
UID:10000274-1631818800-1631827800@www.nfu.ca
SUMMARY:Convention de la région 8 (BC/Yukon)
DESCRIPTION:Convention de la région 8 (BC/Yukon)\n« La gestion de la crise\nJeudi 16 septembre 2021 \n19:00 (heure du Pacifique) \nVirtuel \nL’ordre du jour et les modalités d’inscription figurent ci-dessous.\nRejoignez-nous pour écouter ces grands orateurs\, faire entendre votre voix sur les résolutions de l’UNF et élire vos dirigeants. Les orateurs sont les suivants \n\nJohn Cathro – La préparation aux situations d’urgence dans votre ferme\nKatie Ward – Présidente de l’UNF Le point sur l’agriculture au niveau national\nBriana Hagen – Les impacts du changement climatique sur la santé mentale des fermières; Briana est co-auteur de \n  Emergency Response Model for Mental Health During Agricultural Crises (Modèle de réponse d’urgence pour la santé mentale pendant les crises agricoles). \n \nKatie Hayes : que l’on peut entendre sur CBC Radio : « \n  Le« chagrin écologique » croissant est le coût du changement climatique pour la santé mentale« . \n \n\nRejoignez-nous en ligne et invitez vos amis pour en savoir plus sur la « gestion de la crise » et les mises à jour des dirigeants régionaux et nationaux.   \n  \nOrdre du jour de la convention régionale\nJeudi 16 septembre (toutes les heures en heure d’été du Pacifique)\n19:00 HEURES Appel à l’ordre Présentations \n19 H 10 Bienvenue — Coordinateur régional Seann Dory \n19:15 HEURES « Faire face au changement » – Briana Hagen & Katie Hayes \n19:45 HEURES « Préparation aux situations d’urgence dans votre ferme » – John Cathro \n20:15 HEURES Pause \n20 HEURES 20 Procès-verbal de la réunion précédente \n8:25 PM Rapport annuel de la présidente nationale — Katie Ward \n8:35 PM Mises à jour et questions concernant la Colombie-Britannique et le Yukon   \n\n  – \n \n  Rapport du coordinateur régional\, Seann Dory\n \n\n  – \n \n  Rapport consultatif sur les femmes\, Julie Enman\n \n\n  – \n \n  Rapport sur la jeunesse\, Président de la jeunesse\, Stuart Oke\n \n\n  –\n \n  Rapport du CIP\, Seann Dory\n \n8:55 PM Elections R8 \n  (membres du conseil d’administration\, conseillère pour les femmes\, conseillère pour les jeunes\, représentant du CIP)\n \n21:00 HEURES RésolutionsS’il y a des questions qui vous tiennent à cœur et sur lesquelles vous aimeriez que l’UNF travaille\, veuillez soumettre vos résolutions au bureau national de l’UNF d’ici le lundi 13 septembre.   \n21 h 30 Levée de la séance \nComment s’inscrire\nAdhésion par ordinateur:   \nAllez sur le site web de Zoom \n  https://zoom.us/\n et cliquez sur \n  Rejoindre une réunion\npuis entrez l’ID de la réunion et le code d’accès.   \nL ‘identifiant de la réunion est le 837 2050 3540 et le code d’accès est le 578473 ou cliquez sur l’URL : \n  https://us02web.zoom.us/j/83720503540?pwd=ZE0xRm9sYUtyZkdmL1RWdjVoVDFMQT09\n \nAdhérer par téléphone:   \n1. Notez à l’avance sur une feuille de papier les numéros de l’identifiant de la réunion et du code d’accès.   \n2. Composez l’un de ces numéros :     1 204 272 7920 ; 1 587 328 1099 ; ou 1 778 907 2071   \n3. Saisissez l’ID de la réunion ID de la réunion : 837 2050 3540 et le code d’accès : 578473 \nSi vous avez des difficultés à vous connecter à la Convention\, veuillez contacter Mara Shaw \n  shaw@nfu.ca\nou le bureau national à \n  nfu@nfu.ca\n ou au 306-652-9465. Quelqu’un répondra à vos questions et vous aidera à vous connecter. \n 
URL:https://www.nfu.ca/fr/event/region-8-bc-yukon-convention/
CATEGORIES:Convention régionale
END:VEVENT
END:VCALENDAR