
BEGIN:VCALENDAR
VERSION:2.0
PRODID:-//National Farmers Union - ECPv6.15.20//NONSGML v1.0//EN
CALSCALE:GREGORIAN
METHOD:PUBLISH
X-ORIGINAL-URL:https://www.nfu.ca/fr/
X-WR-CALDESC:Évènements pour National Farmers Union
REFRESH-INTERVAL;VALUE=DURATION:PT1H
X-Robots-Tag:noindex
X-PUBLISHED-TTL:PT1H
BEGIN:VTIMEZONE
TZID:America/Regina
BEGIN:STANDARD
TZOFFSETFROM:-0600
TZOFFSETTO:-0600
TZNAME:CST
DTSTART:20200101T000000
END:STANDARD
END:VTIMEZONE
BEGIN:VEVENT
DTSTART;TZID=America/Regina:20210707T180000
DTEND;TZID=America/Regina:20210707T200000
DTSTAMP:20260423T043703
CREATED:20210706T161818Z
LAST-MODIFIED:20210706T161818Z
UID:10000271-1625680800-1625688000@www.nfu.ca
SUMMARY:Réunion de la région 5 de l'UNF sur le système des terres de la Couronne du ministère de l'Agriculture du Manitoba
DESCRIPTION:Région 5 – Réunion sur le système des terres de la Couronne de Manitoba Agriculture \n\n\n\n\n\n\n\nRejoignez-nous le mercredi 7 juillet 2021\, à 19 heures \, heure de Bruxelles\, pour une réunion pré-convention. Fred Tait nous guidera à travers les points forts et les points faibles des changements radicaux apportés au système des terres de la Couronne du ministère de l’Agriculture du Manitoba. Un système qui avait été mis en place pour protéger l’ACL et offrir des opportunités aux fermières nouvelles et locales a été remplacé par un modèle du plus offrant au Manitoba\, au détriment des fermières et des communautés locales. \n \n\n\n\n\n\n\n\n\n\nRégion 5 – Réunion sur le système des terres de la Couronne de Manitoba Agriculture\nMercredi 07 juillet 2021 – 19h00\n\nRejoignez-nous pour apprendre à participer pleinement à la Convention et à renouer des liens.\n\n\n\n\n\n\n\n\n\n\nLe lien ZOOM ou les instructions pour les appels téléphoniques seront les mêmes pour toutes les sessions\, y compris pour les discussions sur les résolutions et les modifications des baux des terres de la Couronne du Manitoba.\n\n  Adhésion par \n\n  ordinateur\n:\nAvant la réunion\, allez sur le site web de Zoom https://zoom.us/ et téléchargez le programme Zoom\, puis cliquez sur ce lien https://us02web.zoom.us/j/88592588119?pwd=RjlCcDBHY1hHaTB0VHd5bTZHWWZodz09 pour accéder directement à la réunion.\nOU\nAllez sur le site web de Zoom https://zoom.us/ et cliquez sur Rejoindre une réunion\, puis entrez l’ID de la réunion et le code d’accès. L’identifiant de la réunion est le 885 9258 8119 et le code d’accès est le 732484. \n\n  Adhérer par téléphone\n:\n1. Notez à l’avance sur une feuille de papier les numéros de l’identifiant de la réunion et du code d’accès.\n2. Composez l’un des numéros suivants : +1 204 272 7920 ;\n+1 438 809 7799 ; ou\n+1 204 272 7920\n3. Saisissez l’identifiant de la réunion: 885 9258 8119 et le code d’accès: 732484 \nSi vous avez des difficultés à vous connecter à la Convention\, veuillez contacter Mara Shaw \n  shaw@nfu.ca\n ou 613-217-9404 ou le bureau à \n  nfu@nfu.ca\n ou au 306-652-9465. Quelqu’un répondra à vos questions et vous aidera à vous connecter. \nVeuillez noter que l’identifiant et le mot de passe de la réunion Zoom seront les mêmes que ceux de la convention régionale. \nNous vous attendons avec impatience !
URL:https://www.nfu.ca/fr/event/unf-region-5-meeting-on-manitoba-agriculture-crown-lands-system/
END:VEVENT
BEGIN:VEVENT
DTSTART;TZID=America/Regina:20210714T180000
DTEND;TZID=America/Regina:20210714T203000
DTSTAMP:20260423T043703
CREATED:20210601T214921Z
LAST-MODIFIED:20210601T214921Z
UID:10000270-1626285600-1626294600@www.nfu.ca
SUMMARY:Congrès de l'UNF Région 5 (Manitoba)
DESCRIPTION:AVIS AUX MEMBRES DE L’UNF DU MANITOBA –\nCONVENTION DE LA RÉGION 5\nCher membre de l’UNF\, \nEn raison de la pandémie actuelle et des restrictions empêchant la tenue d’un congrès en personne\, le congrès régional du Manitoba se  dérouleraencore une fois cette année de façon virtuelle à l’aide de Zoom\, le mercredi 14 juillet. Vous pourrez y assister depuis le confort de votre domicile\, par téléphone ou par ordinateur. \n  Veuillez vous\n\n   vous inscrire au congrès (réunion du 14 juillet)\n en envoyant un courriel au bureau de l’UNF à nfu@nfu.ca ou en appelant le bureau de l’UNF au (306) 652-9465. Les 3 autres réunions de zoom ne nécessitent pas d’inscription. \n\n\n\n\n\n\n\n\nZoom Social Meet & Greet – Mercredi 30 juin 2021\n19:00 HEURES\nRejoignez-nous pour apprendre à participer pleinement à la Convention et à renouer des liens.\nConvention de la Région 5 – mercredi 14 juillet 2021\n19:00 à 21:30\n\n\n\n\n\n\n\n\n\nLe lien ZOOM ou les instructions pour les appels téléphoniques seront les mêmes pour toutes les sessions\, y compris pour les discussions sur les résolutions et les modifications des baux des terres de la Couronne du Manitoba.\n\n  Adhésion par \n\n  ordinateur\n:\nAvant la réunion\, allez sur le site web de Zoom https://zoom.us/ et téléchargez le programme Zoom\, puis cliquez sur ce lien https://us02web.zoom.us/j/88592588119?pwd=RjlCcDBHY1hHaTB0VHd5bTZHWWZodz09 pour accéder directement à la réunion.\nOU\nAllez sur le site web de Zoom https://zoom.us/ et cliquez sur Rejoindre une réunion\, puis entrez l’ID de la réunion et le code d’accès. L’identifiant de la réunion est le 885 9258 8119 et le code d’accès est le 732484. \n\n  Adhérer par téléphone\n:\n1. Notez à l’avance sur une feuille de papier les numéros de l’identifiant de la réunion et du code d’accès.\n2. Composez l’un des numéros suivants : +1 204 272 7920 ;\n+1 438 809 7799 ; ou\n+1 204 272 7920\n3. Saisissez l’identifiant de la réunion: 885 9258 8119 et le code d’accès: 732484 \nSi vous avez des difficultés à vous connecter à la Convention\, veuillez contacter Mara Shaw \n  shaw@nfu.ca\n ou 613-217-9404 ou le bureau à \n  nfu@nfu.ca\n ou au 306-652-9465. Quelqu’un répondra à vos questions et vous aidera à vous connecter. \nOrdre du jour du congrès 2021 de l’UNF Région 5 (Manitoba)\n14 juillet 2021 – ZOOM 19h00 \n\n  Thème :\n Les fermiers\, le public et leurs gouvernements \n6:45 PM : Ouverture de la ligne Zoom \n7:05 PM : Début de la réunion \n\n  Sélection du président et du secrétaire\n  Moment de réflexion\n\n7:10 PM : Introduction par Ian Robson\, Coordinateur régional (10 min.) \n\n  Procès-verbaux antérieurs\n  Faits marquants des années précédentes – Ian Robson et Ana Fyk (5 minutes chacun)\n\n7:20 PM : Rapport sur la jeunesse\, Justin Levesque (5 min.) \n7:25 PM : 2021 R5 Élection des représentants (5 min.) \n\nDeux directeurs du conseil d’administration national\, une représentante des femmes\, une représentante des jeunes et une représentante du CIP.\nNomination de la R5 UNF Grassroots Award 2021\n\n7:30 PM : Points forts de la UNF nationale\, Katie Ward\, présidente de l’UNF (10 min.) \n\nTravail sur le climat\nPolitique agricole et budget de la Fed\n\n19:45 : Les fermiers pour des solutions climatiques\, Karen Klassen (10 min.) \nPAUSE – CONSEILS AGRICOLES – 1 minute Envoyez-nous un conseil agricole ou un outil unique que vous utilisez pour accomplir des tâches dans votre exploitation. Vous pouvez l’envoyer sous forme de message ET ce serait bien si vous pouviez envoyer une photo ou une courte vidéo de 30 à 60 secondes expliquant votre astuce agricole afin de rendre les choses plus attrayantes. Envoyez-les à mb@nfu.ca avant le10 juillet. \n8:00 PM : Introduction du thème : Les fermiers\, le public et leurs gouvernements\, Dean Harder (10 min.) \n20 H 10 : L’éducation publique\, le financement des écoles MB et le projet de loi 64\, Garry Draper (20 min. + 10 min. Q&R) \n8:50 PM : Programme de bien-être pour les fermières\, conférencier Gerry Friesen (20 min.) \n9:10 PM : Discussion \nPause CONSEILS AGRICOLES – 1 minute \n9:30 PM : Fin de la réunion \nUne session sur les résolutions aura lieu le 21 juillet à 19 heures. Veuillez présenter vos résolutions par écrit avant la réunion. Si vous ne pouvez pas assister à la réunion\, les résolutions peuvent également être soumises à Ian Robson Ilrobson1@xplornet.ca. \nRejoignez-nous le 7 juillet 2021 à 19 heures. Les membres et le public intéressé sont invités à se joindre à Fred Tait pour discuter des changements apportés aux baux des terres de la Couronne du Manitoba. \nVeuillez noter que l’identifiant et le mot de passe de la réunion Zoom seront les mêmes que ceux de la convention régionale. \nNous vous attendons avec impatience !
URL:https://www.nfu.ca/fr/event/unf-region-5-convention/
END:VEVENT
BEGIN:VEVENT
DTSTART;TZID=America/Regina:20210726T120000
DTEND;TZID=America/Regina:20210726T170000
DTSTAMP:20260423T043703
CREATED:20210712T180050Z
LAST-MODIFIED:20210712T180050Z
UID:10000272-1627300800-1627318800@www.nfu.ca
SUMMARY:Pique-nique de l'UNF Région 6 au parc provincial Douglas le 25 juillet
DESCRIPTION:Invitation au rassemblement d’été de la région 6 de l’UNF – SHAKE THE COVID BLUES !\n\n\n\n\n\n\n\n\n\n\n\n\n\n\nVotre comité exécutif et vos membres consultatifs de la région 6 vous saluent chaleureusement : \nNous pensons qu’il serait amusant de nous retrouver dans un parc assez central le dimanche 25 juillet pour renouer des liens et rencontrer des amis de l’UNF en plein air dans notre belle province. Nous nous demandons donc si vous aimeriez venir au parc provincial Douglas vers midi le dimanche 25. Nombreux sont ceux\, dont moi\, qui ne sont pas allés dans ce parc et qui savent qu’il a beaucoup d’atouts à offrir. L’entrée du parc est gratuite pour les personnes âgées. 10 $ si vous n’êtes pas un senior. Le lieu de rencontre sera l’abri de pique-nique\, une destination connue pour les pique-niques de groupe. \nSi vous envisagez d’y camper\, vous devrez faire une réservation. Réservez en ligne ou appelez le 1306-854-6266 pour plus d’informations. Si vous souhaitez séjourner dans un motel\, il y en a 3 dans la région : L’hôtel Elbow : 1-306-854-2214 ; Elbow Sunset Suites and RV Park : 1-306-854-2144 ; ou Lakeview Lodge : 1-306-881-44344 Vous trouverez ci-joint une carte du parc. \nSi vous avez envie d’une sortie pendant que l’été est à son apogée et que vous souhaitez emporter de la nourriture ou vous arrêter dans un restaurant d’Elbow pour un plat à emporter\, veuillez en informer le bureau ou moi-même d’ici le 16 juillet. Si vous disposez d’un canoë ou d’un bateau\, vous pourrez vous amuser sur le lac Diefenbaker. Si vous aimez faire de la randonnée\, vous trouverez des sentiers qui vous permettront d’admirer les paysages. Et bien sûr\, si vous avez quelque chose à partager\, de la musique ou des inspirations\, nous serons heureux d’être votre public. \nConsidérez ceci comme une invitation spéciale à vous amuser avec l’UNF pendant l’été. \nDixie Green\, coordinatrice\, UNF Région 6 (Saskatchewan)\nd.green@sasktel.net\, 1-306-774-9039 \n— \nInvitez vos amis !  Ce sera l’occasion de faire connaître l’UNF à vos voisins. \nVEUILLEZ RSVP pour CONFIRMER VOTRE PARTICIPATION dès que possible. Faites-nous savoir que vous venez – envoyez un courriel à nfu@nfu.ca\, appelez le bureau de l’UNF au 1-306-652-9465 ou envoyez-moi un SMS au 1-306-774-9039. \nCliquez ici pour télécharger la carte : Terrains de camping du parc de la Prov. de Douglas et secteur 1 du lac Diefenbaker \n.
URL:https://www.nfu.ca/fr/event/unf-region-6-picnic-at-douglas-provincial-park-on-july-25/
END:VEVENT
END:VCALENDAR