
BEGIN:VCALENDAR
VERSION:2.0
PRODID:-//National Farmers Union - ECPv6.15.20//NONSGML v1.0//EN
CALSCALE:GREGORIAN
METHOD:PUBLISH
X-ORIGINAL-URL:https://www.nfu.ca/fr/
X-WR-CALDESC:Évènements pour National Farmers Union
REFRESH-INTERVAL;VALUE=DURATION:PT1H
X-Robots-Tag:noindex
X-PUBLISHED-TTL:PT1H
BEGIN:VTIMEZONE
TZID:America/Regina
BEGIN:STANDARD
TZOFFSETFROM:-0600
TZOFFSETTO:-0600
TZNAME:CST
DTSTART:20200101T000000
END:STANDARD
END:VTIMEZONE
BEGIN:VTIMEZONE
TZID:America/Vancouver
BEGIN:DAYLIGHT
TZOFFSETFROM:-0800
TZOFFSETTO:-0700
TZNAME:PDT
DTSTART:20200308T100000
END:DAYLIGHT
BEGIN:STANDARD
TZOFFSETFROM:-0700
TZOFFSETTO:-0800
TZNAME:PST
DTSTART:20201101T090000
END:STANDARD
BEGIN:DAYLIGHT
TZOFFSETFROM:-0800
TZOFFSETTO:-0700
TZNAME:PDT
DTSTART:20210314T100000
END:DAYLIGHT
BEGIN:STANDARD
TZOFFSETFROM:-0700
TZOFFSETTO:-0800
TZNAME:PST
DTSTART:20211107T090000
END:STANDARD
BEGIN:DAYLIGHT
TZOFFSETFROM:-0800
TZOFFSETTO:-0700
TZNAME:PDT
DTSTART:20220313T100000
END:DAYLIGHT
BEGIN:STANDARD
TZOFFSETFROM:-0700
TZOFFSETTO:-0800
TZNAME:PST
DTSTART:20221106T090000
END:STANDARD
END:VTIMEZONE
BEGIN:VEVENT
DTSTART;TZID=America/Regina:20210309T140000
DTEND;TZID=America/Regina:20210309T160000
DTSTAMP:20260423T113350
CREATED:20210205T210752Z
LAST-MODIFIED:20210205T210752Z
UID:10000259-1615298400-1615305600@www.nfu.ca
SUMMARY:Heure sociale des aînés engagés
DESCRIPTION:Heure sociale des aînés engagés \nLes membres les plus âgés de l’UNF se réunissent ! Si vous avez envie de vous connecter à travers le pays\, participez à l’Heure sociale des aînés engagés\, qui se tient chaque mois sur Zoom. De nombreux sujets préoccupent nos membres\, notamment la planification de la succession de votre exploitation. \nRencontrez des amis de longue date et faites-en de nouveaux. Veuillez partager cette invitation avec vos collègues fermiers et vos voisins – il n’est pas nécessaire d’être membre pour participer. Vous trouverez ci-dessous les instructions pour vous inscrire et participer à Zoom. \nDes questions ? Appelez le bureau au 306-652-9465 ou envoyez un courriel à nfu@nfu.ca. \nNous espérons que vous vous joindrez à nous ! \nDate : Mardi 9 mars 2021 \nHeure : 12pm Pacific / 13 PM Mountain / 14 PM Central / 15 PM Eastern / 16 PM Atlantic \n  \nPour participer à une réunion Zoom par ordinateur \nhttps://us02web.zoom.us/j/88389251446?pwd=YTBhbnFEOE1XR0VZQ0hpWnRZdXJsQT09 \nIdentifiant de la réunion : 883 8925 1446 \nCode d’accès : 024735 \nPour participer à une réunion Zoom par téléphone \nComposez l’un des numéros ci-dessous : \n+1 647 374 4685 Canada \n+1 647 558 0588 Canada \nIdentifiant de la réunion : 883 8925 1446 \nCode d’accès : 024735
URL:https://www.nfu.ca/fr/event/heures-sociales-pour-les-personnes-agees-engagees/
END:VEVENT
BEGIN:VEVENT
DTSTART;TZID=America/Vancouver:20210311T120000
DTEND;TZID=America/Vancouver:20210311T133000
DTSTAMP:20260423T113350
CREATED:20210210T211036Z
LAST-MODIFIED:20250129T034939Z
UID:10000261-1615464000-1615469400@www.nfu.ca
SUMMARY:Agroécologie
DESCRIPTION:NFUniversité vous invite à vous inscrire à notre cours sur l’agroécologie présenté le jeudi 11 mars 2021. \n\nL’agroécologie est un mode d’exploitation agricole et une façon de concevoir l’agriculture. Il prend au sérieux l’idée qu’une exploitation agricole est un écosystème\, composé de plantes et d’organismes du sol\, alimenté par le soleil\, soumis à des perturbations et résilient\, ou non. L’agroécologie nous encourage à adopter une approche systémique globale\, à nous tourner vers la biologie plutôt que vers l’industrie\, à diversifier et à fermer les boucles\, et à considérer la nature comme un exemple et non comme une nuisance. \n\nJoignez-vous à nous alors que notre conférencière\, Jennifer Blesh\, se penche sur l’agroécologie et nous aide à réfléchir à ce qu’elle pourrait être dans le paysage agricole canadien.
URL:https://www.nfu.ca/fr/event/nfuniversite-grandes-donnees-grandes-questions/
CATEGORIES:NFUniversité
END:VEVENT
BEGIN:VEVENT
DTSTART;TZID=America/Vancouver:20210325T120000
DTEND;TZID=America/Vancouver:20210325T133000
DTSTAMP:20260423T113350
CREATED:20210308T165300Z
LAST-MODIFIED:20260302T172341Z
UID:10000264-1616673600-1616679000@www.nfu.ca
SUMMARY:NFUniversity - Activisme des semences : Perspectives mondiales
DESCRIPTION:Jeudi 25 mars\, 12h00 – 13h30 (heure du Pacifique)\n\nNFUniversity vous invite à vous inscrire à notre cours sur l’activisme des semences qui aura lieu le jeudi 25 mars 2021\, à midi dans le Pacifique / 13 h dans les Rocheuses / 14 h dans le Centre / 15 h dans l’Est / 16 h dans l’Atlantique. \n\nAu Canada et dans le monde entier\, les entreprises se sont efforcées\, au cours des deux dernières décennies\, de renforcer les lois et les réglementations régissant les semences et les variétés végétales. Ces développements se sont avérés très controversés et ont suscité une résurgence de l’activisme autour des semences. Karine Peschard s’appuiera sur les expériences du Brésil\, de l’Inde\, de la Nouvelle-Zélande et de la Norvège pour offrir une perspective globale sur ces développements. Comment les différents groupes – paysans et fermiers familiaux\, grands exploitants agricoles\, peuples autochtones et organisations de la société civile – se sont-ils unis pour s’opposer à ces changements législatifs ? Quels sont les parallèles avec les développements récents au Canada (à savoir le projet de loi C-18 et le règlement relatif à la loi sur les semences)\, et quels enseignements peut-on tirer de l’expérience de ces pays ? Cette session mettra en évidence les tendances communes à des pays aux paysages agricoles différents et présentera des exemples réussis de mobilisations contre les enclosures de semences. \n\nBio\n\nKarine Peschard est chercheuse postdoctorale au Centre Albert Hirschman sur la démocratie\, Institut de hautes études internationales et du développement\, Genève. Anthropologue de formation\, ses recherches portent sur la propriété intellectuelle\, l’agrobiodiversité\, l’activisme juridique\, les droits des paysans et la souveraineté des semences\, en particulier au Brésil et en Inde. Ses travaux ont été publiés dans plusieurs ouvrages et revues universitaires\, notamment l’Oxford Handbook of Law and Anthropology\, l’Annual Review of Anthropology et le Journal of Peasant Studies (JPS). Elle a récemment codirigé un forum spécial du JPS sur l’activisme en matière de semences et prépare un livre intitulé « Seed Activism : Patent Politics and Litigation in the Global South ». \n\nhttps://www.graduateinstitute.ch/academic-departments/faculty/karine-peschard \n\n\nMatériel pour les événements\n\n\n\n\n\n\n\n\n\n\n\n\n\nEnregistrement du webinaire : Activisme des semences – Perspectives mondiales\n\n\n\nL’activisme semencier consiste à défendre les droits des fermières face au contrôle croissant des entreprises sur la génétique végétale. Les perspectives mondiales sont importantes car les pays sont soumis à des pressions par le biais d’accords commerciaux et de normes internationales\, de sorte que les victoires\, les échecs et les stratégies mises en œuvre à un endroit donné déterminent ce qui est possible partout. Le traité international connu sous le nom d’Union Fermière pour la Protection des Obtentions Végétales (UPOV) promeut les droits des sélectionneurs de plantes en tant que propriété intellectuelle\, et sa convention de 1991 (UPOV 91) renforce considérablement ces droits tout en restreignant la capacité de longue date des fermiers à conserver\, réutiliser et échanger des semences.    \n\n\n\nPourtant\, des pays comme l’Inde\, le Brésil et la Norvège montrent que des alternatives sont possibles lorsque les fermiers et la société civile s’organisent pour défendre la souveraineté des semences. Au Canada\, la lutte se poursuit après l’adoption de l’UPOV 91 en 2015\, avec des pressions constantes pour limiter davantage les semences de ferme. Le message est clair : la résistance fonctionne. Les fermiers\, les défenseurs et les communautés peuvent façonner la politique des semences – mais seulement si nous restons informés\, si nous nous mobilisons ensemble et si nous insistons pour que les semences restent un fondement partagé de la souveraineté alimentaire\, et pas seulement une source de profit pour les entreprises.    \n\n\n\nVisitez notre playlist NFUniversité sur notre chaîne Youtube pour voir la liste complète de nos webinaires enregistrés dans le cadre de NFUniversité.   \n\n\n\n\n 
URL:https://www.nfu.ca/fr/event/nfuniversite-seed-activism-global-perspectives/
CATEGORIES:NFUniversité
END:VEVENT
BEGIN:VEVENT
DTSTART;TZID=America/Vancouver:20210329T120000
DTEND;TZID=America/Vancouver:20210329T133000
DTSTAMP:20260423T113350
CREATED:20210322T152703Z
LAST-MODIFIED:20210322T152703Z
UID:10000267-1617019200-1617024600@www.nfu.ca
SUMMARY:Réunion du Caucus des femmes
DESCRIPTION:Rejoignez Bess Legault\, Coral Sproule et d’autres femmes de l’UNF de tout le pays le lundi 29 mars 2021 pour notre première réunion du caucus des femmes de 2021. Réunissons-nous pour nous rencontrer\, y compris nos 2021 conseillères régionales pour les femmes\, pour nous informer et apporter notre contribution aux demandes de collaboration de Gestion agricole Canada sur la recherche proposée concernant la compréhension de l’expérience des agricultrices\, ainsi que pour faire le point sur nos relations continues avec l’ACWW (Associated Country Women of the World) et le WI (Women’s Institute). Il n’est pas nécessaire de s’inscrire\, il suffit de nous rejoindre lundi en cliquant sur le lien ci-dessous.\n\nSujet : Réunion du Caucus des femmes\nHeure : Mar 29\, 2021 12:00 PM Pacific Time\nhttps://us02web.zoom.us/j/84211553818?pwd=Mk52bXNVL1FFV3IvbTB1QzdzNXdxdz09\n\nID de la réunion : 842 1155 3818\nCode d’accès : 282495\n\n+1 587 328 1099 Canada
URL:https://www.nfu.ca/fr/event/reunion-du-caucus-des-femmes/
END:VEVENT
BEGIN:VEVENT
DTSTART;TZID=America/Regina:20210331T100000
DTEND;TZID=America/Regina:20210331T153000
DTSTAMP:20260423T113350
CREATED:20210309T142432Z
LAST-MODIFIED:20210309T142432Z
UID:10000266-1617184800-1617204600@www.nfu.ca
SUMMARY:Convention de la Région 6 2021
DESCRIPTION:En raison de la pandémie actuelle et des restrictions empêchant la tenue d’un congrès en personne\, le congrès régional de la Saskatchewan se déroulera encore cette année de façon virtuelle à l’aide de Zoom\, le mercredi 31 mars. Vous pourrez y assister depuis le confort de votre domicile\, par téléphone ou par ordinateur. \nL’inscription est obligatoire – Pour vous inscrire\, faites défiler la page et remplissez le formulaire au bas de cette page ou envoyez un courriel à nfu@nfu.ca ou appelez le 306 652 9465. \nSi vous êtes nouveau dans Zoom\, rejoignez-nous pour un Zoom Warm-up à 9h30 pour apprendre à participer pleinement à la Convention et à vous reconnecter. \nLa Convention débutera à 10h00 et se poursuivra jusqu’à 15h30\, avec une pause déjeuner d’une heure de 12h à 13h. \nOrdre du jour de la convention de la région 6\, 31 mars 2021\n10 heures Accueil et présentations \n10 h 15 Rapports du coordinateur régional et des membres du conseil d’administration national\, du comité consultatif des femmes\, du comité consultatif des jeunes et du comité des programmes Internationaux\n10:30 Nominations pour le prix du membre de base\n10:35 Salutations de Katie Ward\, Présidente de l’UNF\n10:50 Salutations de Mara Shaw\, directrice exécutive de l’UNF\n11:05 Mise à jour de la campagne : Changement climatique\, Souveraineté des semences\, WGRF\, Transport\, CGC\, et Elevage\n11 h 45 Rapport du comité des nominations et élection des membres du bureau \n12:00 Pause déjeuner \n13 h 00 Orateur principal : Robert Halliday\, ingénieur-conseil et ancien directeur du Centre national de recherche en hydrologie du Canada.\nSujet : Projet d’irrigation du sud de la Saskatchewan : développement en Saskatchewan \n14:00 Résolutions\n14 h 45 Discussions en petits groupes sur les priorités de la R6 cette année/possibilité de participer davantage aux travaux de l’Union\n15 h 30 Levée de la séance \n\nInscrivez-vous à la Convention :\n[formidable id= »18″][formidable]
URL:https://www.nfu.ca/fr/event/convention-de-la-region-6-2021/
CATEGORIES:Convention régionale
END:VEVENT
END:VCALENDAR