
BEGIN:VCALENDAR
VERSION:2.0
PRODID:-//National Farmers Union - ECPv6.15.20//NONSGML v1.0//EN
CALSCALE:GREGORIAN
METHOD:PUBLISH
X-ORIGINAL-URL:https://www.nfu.ca/fr/
X-WR-CALDESC:Évènements pour National Farmers Union
REFRESH-INTERVAL;VALUE=DURATION:PT1H
X-Robots-Tag:noindex
X-PUBLISHED-TTL:PT1H
BEGIN:VTIMEZONE
TZID:America/Vancouver
BEGIN:DAYLIGHT
TZOFFSETFROM:-0800
TZOFFSETTO:-0700
TZNAME:PDT
DTSTART:20190310T100000
END:DAYLIGHT
BEGIN:STANDARD
TZOFFSETFROM:-0700
TZOFFSETTO:-0800
TZNAME:PST
DTSTART:20191103T090000
END:STANDARD
BEGIN:DAYLIGHT
TZOFFSETFROM:-0800
TZOFFSETTO:-0700
TZNAME:PDT
DTSTART:20200308T100000
END:DAYLIGHT
BEGIN:STANDARD
TZOFFSETFROM:-0700
TZOFFSETTO:-0800
TZNAME:PST
DTSTART:20201101T090000
END:STANDARD
BEGIN:DAYLIGHT
TZOFFSETFROM:-0800
TZOFFSETTO:-0700
TZNAME:PDT
DTSTART:20210314T100000
END:DAYLIGHT
BEGIN:STANDARD
TZOFFSETFROM:-0700
TZOFFSETTO:-0800
TZNAME:PST
DTSTART:20211107T090000
END:STANDARD
END:VTIMEZONE
BEGIN:VEVENT
DTSTART;TZID=America/Vancouver:20201210T120000
DTEND;TZID=America/Vancouver:20201210T150000
DTSTAMP:20260423T161048
CREATED:20201117T185519Z
LAST-MODIFIED:20250129T034017Z
UID:10000256-1607601600-1607612400@www.nfu.ca
SUMMARY:Classe Climat NFUniversité : Comprendre l'échange de quotas d'émission\, les marchés du carbone et les compensations
DESCRIPTION:Rejoignez-nous pour le premier cours sur le climat de NFUniversity\, où nous jetterons un regard critique sur les échanges de droits d’émission et les marchés du carbone. \n\nA propos de cet événement\n\nEst-il judicieux d’utiliser les marchés financiers pour échanger des crédits de séquestration du carbone dans le sol ou des crédits de plantation d’arbres avec des entreprises comme Exxon\, afin de leur permettre de compenser leurs émissions ou d’atteindre le niveau « net zéro » ? Le concept de « net zero » est-il même crédible ? Comment les gouvernements devraient-ils structurer les programmes et les paiements conçus pour inciter les fermières à adopter des pratiques qui renforcent les sols ? Comment mieux comprendre les protocoles de « compensation » des émissions de carbone actuellement élaborés par les gouvernements fédéral et provinciaux du Canada ? \n\nA propos de NFUniversité\n\nLa Nationale des Fermiers lance une série de webinaires mensuels au cours desquels des experts\, des chercheurs\, des fermiers et d’autres personnes fourniront aux membres de l’UNF et au public des analyses et des informations approfondies (mais accessibles) sur une série de sujets\, notamment les semences\, le bétail\, le climat\, la durabilité et la justice. Les sessions s’appuieront sur les connaissances de base que de nombreux membres de l’UNF et d’autres personnes possèdent déjà et approfondiront les questions afin d’améliorer notre compréhension. L’objectif est d’accroître les capacités d’analyse\, de défense et d’action des citoyens. \n\nLes cours comprendront environ 90 minutes de présentations et de questions-réponses\, suivies d’une discussion informelle si les participants souhaitent poursuivre la conversation. \n\nLes sessions se dérouleront en anglais\, avec une interprétation en français.
URL:https://www.nfu.ca/fr/event/nfuniversite-climat-classe/
CATEGORIES:NFUniversité
ATTACH;FMTTYPE=image/png:https://www.nfu.ca/wp-content/uploads/2020/11/Stuart-logo.png
ORGANIZER;CN="National Farmers Union":MAILTO:nfu@nfu.ca
END:VEVENT
END:VCALENDAR