
BEGIN:VCALENDAR
VERSION:2.0
PRODID:-//National Farmers Union - ECPv6.15.20//NONSGML v1.0//EN
CALSCALE:GREGORIAN
METHOD:PUBLISH
X-WR-CALNAME:National Farmers Union
X-ORIGINAL-URL:https://www.nfu.ca/fr/
X-WR-CALDESC:Évènements pour National Farmers Union
REFRESH-INTERVAL;VALUE=DURATION:PT1H
X-Robots-Tag:noindex
X-PUBLISHED-TTL:PT1H
BEGIN:VTIMEZONE
TZID:America/Regina
BEGIN:STANDARD
TZOFFSETFROM:-0600
TZOFFSETTO:-0600
TZNAME:CST
DTSTART:20190101T000000
END:STANDARD
END:VTIMEZONE
BEGIN:VEVENT
DTSTART;TZID=America/Regina:20200813T080000
DTEND;TZID=America/Regina:20200821T170000
DTSTAMP:20260423T202738
CREATED:20200813T181725Z
LAST-MODIFIED:20200813T181725Z
UID:10000249-1597305600-1598029200@www.nfu.ca
SUMMARY:Nous recrutons ! Climate Change Coordinator -- BC
DESCRIPTION:Postulez d’ici le 21 août 2020 pour un stage rémunéré de 18 semaines dans la région de Vancouver en tant que… \n  Coordinateur(trice) changement climatique – BC\n. Toutes les informations sont disponibles sur le site CareerLauncher dont le lien figure dans l’intitulé du poste. Veuillez soumettre votre candidature par l’intermédiaire de ce site. \nMerci de votre intérêt ! \nL’équipe de l’UNF
URL:https://www.nfu.ca/fr/event/nous-embauchions-un-coordinateur-des-changements-climatiques-bc/
END:VEVENT
END:VCALENDAR