
BEGIN:VCALENDAR
VERSION:2.0
PRODID:-//National Farmers Union - ECPv6.15.20//NONSGML v1.0//EN
CALSCALE:GREGORIAN
METHOD:PUBLISH
X-WR-CALNAME:National Farmers Union
X-ORIGINAL-URL:https://www.nfu.ca/fr/
X-WR-CALDESC:Évènements pour National Farmers Union
REFRESH-INTERVAL;VALUE=DURATION:PT1H
X-Robots-Tag:noindex
X-PUBLISHED-TTL:PT1H
BEGIN:VTIMEZONE
TZID:America/Regina
BEGIN:STANDARD
TZOFFSETFROM:-0600
TZOFFSETTO:-0600
TZNAME:CST
DTSTART:20190101T000000
END:STANDARD
END:VTIMEZONE
BEGIN:VEVENT
DTSTART;TZID=America/Regina:20200331T183000
DTEND;TZID=America/Regina:20200401T163000
DTSTAMP:20260424T020435
CREATED:20200304T220442Z
LAST-MODIFIED:20200304T220442Z
UID:10000247-1585679400-1585758600@www.nfu.ca
SUMMARY:REPORTÉE Convention annuelle de la Région 6 (Saskatchewan) 2020
DESCRIPTION:La convention de la région 6 a été reportée en raison de la pandémie de COVID 19. Nouvelle date à confirmer \nJoignez-vous à nous lors de notre congrès annuel de la région 6 (Saskatchewan)\, le mardi 31 mars et le mercredi 1er avril\, au Manitou Springs Resort and Mineral Spa\, à Manitou Beach. \nLES DÉTAILS DE LA CONVENTION : \nInscription – Mardi 31 mars à 18h30 \nPRÉSENTATION SPÉCIALE – \n  Histoires de faibles émissions de carbone en Saskatchewan\npar Margret Asmuss\, coordinatrice du projet de leadership climatique de l’UNF\, à 19 heures\, le mardi 31 mars\, après l’inscription. \nRappel à l’ordre – 9h00\, mercredi 1er avril \nClôture de la convention – 16h30\, mercredi 1er avril. \nFrais d’inscription : 45 dollars par personne ; 30 dollars pour les jeunes (moins de 25 ans).\nLes membres sont responsables de leurs repas et de leur hébergement. \nSi vous souhaitez séjourner au Manitou Springs Resort and Mineral Spa\, contactez directement l’hôtel au 306-946-2233. Le prix de l’hébergement est de 140 dollars par nuit (2 lits doubles). Manitou Springs est l’une des attractions les plus célèbres de la Saskatchewan. Venez tôt\, ou réservez une nuit supplémentaire\, mais n’oubliez pas d’apporter votre maillot de bain ! Le spa est compris dans votre nuitée. \nL’ordre du jour comprend \n\nRapports\nÉlection des membres du bureau\nRésolutions\nMises à jour sur la Saskatchewan Wheat Development Commission\, la Western Grains Research Foundation\, les accords commerciaux internationaux\, etc. Christy Morrissey\, de l’université de la Saskatchewan\, a également été invitée à nous informer sur les effets des pesticides sur les écosystèmes des prairies.\n\nDes résolutions sur des questions politiques d’actualité peuvent être présentées à cette convention et celles qui sont adoptées seront transmises à la convention nationale. Apportez vos idées ! \nLes élections de trois membres du conseil d’administration national\, d’un membre du comité consultatif des femmes\, d’un membre du comité consultatif des jeunes et d’un membre du comité des programmes Internationaux auront également lieu\, de même que les nominations pour le prix Grassroots Member Award. \nNous encourageons tous les membres à participer à la convention de la Saskatchewan. Nos conventions sont toujours très animées et permettent d’explorer de nouvelles idées et de donner une orientation à notre région.
URL:https://www.nfu.ca/fr/event/region-6-saskatchewan-convention-annuelle-2020/
LOCATION:Manitou Springs Resort and Mineral Spa\, 302 McLachlan Ave\, Manitou Beach\, Saskatchewan\, S0K 4T0
ORGANIZER;CN="National Farmers Union":MAILTO:nfu@nfu.ca
END:VEVENT
BEGIN:VEVENT
DTSTART;TZID=America/Regina:20200404T100000
DTEND;TZID=America/Regina:20200404T173000
DTSTAMP:20260424T020435
CREATED:20200226T200140Z
LAST-MODIFIED:20200226T200140Z
UID:10000245-1585994400-1586021400@www.nfu.ca
SUMMARY:REPORTÉ - Congrès annuel de l'UNF Région 5 (Manitoba)
DESCRIPTION:REPORTÉE en raison de la pandémie de COVID 19. Nouvelle date à confirmer \nTout le monde est invité au congrès annuel de la région 5 de l’UNF qui se tiendra à la salle de l’église unie de Little Britain\, à Lockport\, 5879 Highway 9 (Directions : en voyageant au nord de Winnipeg sur la #9 HWY\, tournez à l’est à 5879\, et c’est juste à côté de la rivière Rouge – cliquez ici pour une carte). \nNotre thème est  » Les défis de notre communauté agricole« . \nFrais d’inscription: 35 dollars pour les non-membres ; 25 dollars pour les membres ; 15 dollars pour les jeunes de moins de 26 ans. Un buffet de soupe et de sandwich est inclus dans l’inscription. VEUILLEZ RSVP à mb@nfu.ca \nPROGRAMME DE LA CONVENTION DE LA REGION 5 DE L’UNF\n9:00 – Inscription\n10:00 AM – Start Time – Updates from Elected Officials (en anglais)\n12:30 – Déjeuner (inclus dans l’inscription)\n13:30 – Session de l’après-midi\n17:30 – Clôture de la réunion\n18:00 – Rencontres dans un restaurant local TBA \nPrésentations et orateurs :\nMise à jour de l’UNF Manitoba – Ian Robson \nDiscussion sur les documents relatifs à la crise agricole et à la crise climatique – Katie Ward\, présidente de l’UNF (via Skype) \nQue signifie réellement la « modernisation » de la Commission canadienne des grains ?  – Doug Chorney\, commissaire de la CCG \nComprendre le besoin d’une assurance pour les petites exploitations agricoles – Justin Girard – Direct Farms MB & MB Fruit Growers \nLe défi de la transformation locale du fromage au Manitoba – Dustin Peltier – Loaf and Honey \nApportez votre propre sujet – Vous ne voyez pas de sujet que vous aimeriez aborder en rapport avec notre thème ? Cette année\, nous donnons aux membres jusqu’à 15 minutes chacun pour discuter d’un sujet clé de leur choix. LIMITE DE 3 SUJETS : Basé sur les meilleurs sujets soumis à l’UNF avant le 31 mars. \nLes élections :\nÉlections de 2 membres du conseil d’administration national pour la région 5\, d’un membre du comité consultatif des femmes\, d’un membre du comité consultatif des jeunes et d’un représentant du comité des programmes Internationaux. Nomination pour le UNF Grassroots Member Award (reconnaissance par les membres d’une contribution significative à la construction de l’UNF). \nRésolutions\nVeuillez apporter votre (vos) résolution(s) écrite(s) sur les questions agricoles que vous avez identifiées en vue d’un débat nécessaire et d’une décision d’action. Des résolutions sur des questions politiques d’actualité peuvent être présentées à ce congrès et\, si elles sont adoptées\, elles seront transmises au congrès national qui se tiendra à Saskatoon\, SK\, du 26 au 28 novembre 2020. \nPour de plus amples informations\, veuillez contacter Ian Robson au (204) 858-2479 ou Dean Harder au (204) 797-6388 ; ou envoyez un courriel à l’adresse suivante : mb@nfu.ca. \nNous vous attendons le 4 avril !
URL:https://www.nfu.ca/fr/event/unf-region-5-manitoba-convention-annuelle-2/
LOCATION:Little Britain United Church Hall\, 5879 Highway 9\, Lockport\, Manitoba\, Canada
ORGANIZER;CN="National Farmers Union":MAILTO:nfu@nfu.ca
END:VEVENT
END:VCALENDAR