
BEGIN:VCALENDAR
VERSION:2.0
PRODID:-//National Farmers Union - ECPv6.15.20//NONSGML v1.0//EN
CALSCALE:GREGORIAN
METHOD:PUBLISH
X-ORIGINAL-URL:https://www.nfu.ca/fr/
X-WR-CALDESC:Évènements pour National Farmers Union
REFRESH-INTERVAL;VALUE=DURATION:PT1H
X-Robots-Tag:noindex
X-PUBLISHED-TTL:PT1H
BEGIN:VTIMEZONE
TZID:America/Halifax
BEGIN:DAYLIGHT
TZOFFSETFROM:-0400
TZOFFSETTO:-0300
TZNAME:ADT
DTSTART:20180311T060000
END:DAYLIGHT
BEGIN:STANDARD
TZOFFSETFROM:-0300
TZOFFSETTO:-0400
TZNAME:AST
DTSTART:20181104T050000
END:STANDARD
BEGIN:DAYLIGHT
TZOFFSETFROM:-0400
TZOFFSETTO:-0300
TZNAME:ADT
DTSTART:20190310T060000
END:DAYLIGHT
BEGIN:STANDARD
TZOFFSETFROM:-0300
TZOFFSETTO:-0400
TZNAME:AST
DTSTART:20191103T050000
END:STANDARD
BEGIN:DAYLIGHT
TZOFFSETFROM:-0400
TZOFFSETTO:-0300
TZNAME:ADT
DTSTART:20200308T060000
END:DAYLIGHT
BEGIN:STANDARD
TZOFFSETFROM:-0300
TZOFFSETTO:-0400
TZNAME:AST
DTSTART:20201101T050000
END:STANDARD
END:VTIMEZONE
BEGIN:VEVENT
DTSTART;TZID=America/Halifax:20190410T093000
DTEND;TZID=America/Halifax:20190410T153000
DTSTAMP:20260424T184727
CREATED:20190329T222504Z
LAST-MODIFIED:20190329T222504Z
UID:10000240-1554888600-1554910200@www.nfu.ca
SUMMARY:Assemblée générale annuelle de l'UNF-NB
DESCRIPTION:Rejoignez-nous à la salle RBC pour l’assemblée générale annuelle de l’UNF-NB. \nLes frais d’inscription de 25 $ comprennent le déjeuner à base d’ingrédients locaux fourni par le Chess Piece Café. Le thème de cette année est « Garantir les droits des fermières : chez nous et à l’étranger. \nRejoignez-nous à la salle RBC pour l’assemblée générale annuelle de l’UNF-NB. Les frais d’inscription de 25 $ comprennent le dîner composé d’aliments locaux fournis par Chess Piece Café. Le thème de cette année est : Assurer les droits des fermiers et fermières : à la maison et à l’étranger \nProgramme :\n\n\n\n09:30 Inscription\, café\, thé et collations – Inscription\, café\, thé et collations \n\n\n\n10:00 Welcome by the Board of Directors & AGM Business – Bienvenue de la conseil d’administration & Affaires de l’AGA\n11:00 Déclaration des Nations Unies sur les droits des paysans – UN Declaration on the Rights of Peasants\n11:30 Seed sovereignty – Souveraineté des semences\n12:00 Lunch with invited MLA’s – Dîner avec des députés invités\n13:30 Présentation du Farm Land Identification Program (FLIP) – Plan d’identification des terres agricoles\n14:00 Pesticide/herbicide use and management & discussion – Utilisation et gestion des pesticides / herbicides et discussion\n\n14:30 Voting on resolutions & election of officers – Vote sur les résolutions & élection des membres du conseil administratif
URL:https://www.nfu.ca/fr/event/assemblee-generale-annuelle-de-lunf/
LOCATION:Beaverbrook Art Gallery\, 703 Queen Street\, Fredericton\, New Brunswick\, Canada
ORGANIZER;CN="National Farmers Union":MAILTO:nfu@nfu.ca
END:VEVENT
END:VCALENDAR