
BEGIN:VCALENDAR
VERSION:2.0
PRODID:-//National Farmers Union - ECPv6.15.20//NONSGML v1.0//EN
CALSCALE:GREGORIAN
METHOD:PUBLISH
X-ORIGINAL-URL:https://www.nfu.ca/fr/
X-WR-CALDESC:Évènements pour National Farmers Union
REFRESH-INTERVAL;VALUE=DURATION:PT1H
X-Robots-Tag:noindex
X-PUBLISHED-TTL:PT1H
BEGIN:VTIMEZONE
TZID:America/Regina
BEGIN:STANDARD
TZOFFSETFROM:-0600
TZOFFSETTO:-0600
TZNAME:CST
DTSTART:20180101T000000
END:STANDARD
END:VTIMEZONE
BEGIN:VTIMEZONE
TZID:America/Toronto
BEGIN:DAYLIGHT
TZOFFSETFROM:-0500
TZOFFSETTO:-0400
TZNAME:EDT
DTSTART:20180311T070000
END:DAYLIGHT
BEGIN:STANDARD
TZOFFSETFROM:-0400
TZOFFSETTO:-0500
TZNAME:EST
DTSTART:20181104T060000
END:STANDARD
BEGIN:DAYLIGHT
TZOFFSETFROM:-0500
TZOFFSETTO:-0400
TZNAME:EDT
DTSTART:20190310T070000
END:DAYLIGHT
BEGIN:STANDARD
TZOFFSETFROM:-0400
TZOFFSETTO:-0500
TZNAME:EST
DTSTART:20191103T060000
END:STANDARD
BEGIN:DAYLIGHT
TZOFFSETFROM:-0500
TZOFFSETTO:-0400
TZNAME:EDT
DTSTART:20200308T070000
END:DAYLIGHT
BEGIN:STANDARD
TZOFFSETFROM:-0400
TZOFFSETTO:-0500
TZNAME:EST
DTSTART:20201101T060000
END:STANDARD
END:VTIMEZONE
BEGIN:VEVENT
DTSTART;TZID=America/Regina:20190212T110000
DTEND;TZID=America/Regina:20190212T123000
DTSTAMP:20260424T215131
CREATED:20190208T204725Z
LAST-MODIFIED:20190208T204725Z
UID:10000237-1549969200-1549974600@www.nfu.ca
SUMMARY:Hôtel de ville de la journée de l'agriculture de l'UNF
DESCRIPTION:L’Union Nationale des Fermiers souhaite partager avec vous l’année de son 50ème anniversaire. À l’occasion de l’assemblée générale de la Journée de l’agriculture\, ce mardi 12 février\, nous espérons rencontrer des fermières et des mangeuses pour parler de notre année de célébration. \nNotre discussion portera notamment sur les points suivants \n\nLe 50e anniversaire de l’UNF et l’UNF avec notre présidente\, Katie Ward.\nActivités de la jeunesse agricole par le président de la jeunesse\, Stuart Oke\nQuestions de politique agricole par la directrice de la politique\, Cathy Holtslander\nCampagne « Sauvez nos semences » par Terry Boehm\, président du comité des semences de l’UNF\n\nSi le temps le permet\, des questions-réponses suivront. Le délai suggéré est de 1\,25 heures. \nInscrivez-vous sur https://zoom.us/j/527333589 ou appelez le 1-647-558-0588 – numéro d’identification de la réunion : 527 333 589 \n 
URL:https://www.nfu.ca/fr/event/mairie-de-la-journee-de-lagriculture-de-lunf/
ORGANIZER;CN="National Farmers Union":MAILTO:nfu@nfu.ca
END:VEVENT
BEGIN:VEVENT
DTSTART;TZID=America/Regina:20190221T120000
DTEND;TZID=America/Regina:20190221T133000
DTSTAMP:20260424T215131
CREATED:20190213T211631Z
LAST-MODIFIED:20190213T211631Z
UID:10000239-1550750400-1550755800@www.nfu.ca
SUMMARY:Webinaire "Save Our Seed" (Sauvez nos semences)
DESCRIPTION:Merci à tous ceux qui ont assisté et participé ! Cliquez ici pour consulter la présentation PowerPoint donnée lors du webinaire. \nAg Canada a lancé des consultations sur des propositions visant à augmenter les redevances sur les semences\, soit par une redevance de point final\, soit par des contrats de suivi. Le système de redevances proposé obligerait les fermiers qui utilisent leurs propres semences à payer chaque année des millions de dollars de plus aux entreprises semencières et rendrait illégale la pratique ancestrale consistant à conserver et à réutiliser librement les semences en créant de nouvelles réglementations dans le cadre de la loi sur la protection des obtentions végétales (Plant Breeders Rights Act). \nLors de ce webinaire\, Terry Boehm\, président du comité des semences de la Nationale des Fermiers et ancien président de l’UNF\, expliquera comment le système de redevances proposé nuirait aux fermiers\, aux citoyens et à la société en général – et ce que nous pouvons faire pour empêcher que cela ne se produise. Le webinaire comprendra également une session de questions-réponses. \nCe webinaire se déroulera sur la plateforme de réunion en ligne Zoom. S’il s’agit de votre première réunion Zoom\, rendez-vous sur https://zoom.us/ et inscrivez-vous au moins 10 minutes avant le début de la réunion. Si vous utilisez un téléphone intelligent\, il se peut que vous deviez télécharger l’application avant de participer à la réunion. \nParticipez au webinaire   \n\nPar ordinateur ou téléphone intelligent — cliquez sur https://zoom.us/j/923097026.\nPar téléphone — appelez le 1 647 558 0588\, l’identifiant de la réunion est le 923 097 026.\n\nVeuillez vous joindre au webinaire avant 13h00\, heure de l’Est. Si vous êtes en dehors de l’Ontario ou du Québec\, ajustez votre fuseau horaire (voir https://www.timeanddate.com/time/zone/canada pour obtenir de l’aide). \nPour rester informé sur la campagne #SaveOurSeed et les questions relatives aux redevances sur les semences de ferme\, abonnez-vous au Groupe d’action SOS.
URL:https://www.nfu.ca/fr/event/save-our-seed-webinaire/
END:VEVENT
BEGIN:VEVENT
DTSTART;TZID=America/Toronto:20190227T183000
DTEND;TZID=America/Toronto:20190227T203000
DTSTAMP:20260424T215131
CREATED:20190213T195038Z
LAST-MODIFIED:20190213T195038Z
UID:10000238-1551292200-1551299400@www.nfu.ca
SUMMARY:Webinaire - Construire la solidarité avec les peuples autochtones pour la souveraineté alimentaire
DESCRIPTION:La série de webinaires 2019 de la Nationale des Fermiers sur la souveraineté alimentaire autochtone et le colonialisme de peuplement dans l’agriculture canadienne.   \nL’UNF invite tous ses membres et alliés à participer à une série de discussions en ligne (« webinaires ») sur la souveraineté alimentaire autochtone et le colonialisme de peuplement dans l’agriculture canadienne. Les discussions se dérouleront au cours de l’hiver et du printemps 2019. \nLe premier webinaire aura lieu en ligne le 27 février 2019 à 18h30\, heure de l’Est. Nous sommes très heureux d’accueillir Danielle Boissoneau et Adrianne Xavier. \nDanielle Boissoneau est écrivaine\, mère et gardienne de semences Anishnaabe kwe. Elle se réapproprie activement l’espace de la terre et de son esprit pour de nouveaux modes de vie. La décolonisation par la pratique intentionnelle de la construction de relations avec la terre\, la nourriture et les gens est une autre façon de se partager avec le monde. Danielle a partagé ses écrits avec Briarpatch Magazine\, GUTS Magazine\, et a contribué à la rédaction du Two Row Times. Elle fait grandir ses enfants et sa nourriture avec amour et puissance. \nAdrianne Lickers Xavier connaît le pouvoir de la nourriture ! Cette année\, en tant que boursière pré-doctorale à l’université de Queens\, elle s’efforce de compléter sa formation doctorale par des recherches sur la sécurité alimentaire dans sa communauté d’origine\, les Six Nations\, dans le sud de l’Ontario. Elle a de l’expérience dans le domaine de l’alimentation communautaire de base ainsi que dans le mouvement alimentaire au sens large. Les recherches d’Adrianne intègrent la sécurité alimentaire\, la culture\, le renforcement des communautés et le genre\, et elle est convaincue que ce sont les individus qui font la différence. \nObjectif de la série de webinaires : L’UNF s’est fermement engagée à établir des relations de solidarité avec les peuples autochtones du Canada. Nous espérons que ce webinaire vous aidera : \n\nApprofondir notre compréhension du colonialisme de peuplement en cours au Canada du point de vue des peuples indigènes qui sont les experts de leur propre histoire et de leurs expériences ;\nÉtablir des relations fondées sur des intérêts communs en matière de souveraineté alimentaire et sur la reconnaissance des différences ;\nDiscuter des voies de la solidarité et de l’action commune entre les peuples autochtones et non autochtones pour remettre en question le colonialisme colonial dans le système alimentaire et contribuer à la construction de la souveraineté alimentaire pour tous.\n\nCe webinaire se déroulera sur la plateforme de réunion en ligne Zoom. \nParticipez à la réunion par ordinateur ou téléphone intelligent en cliquant sur https://zoom.us/j/195771300. Si vous n’avez pas accès à un ordinateur ou à un téléphone intelligent\, vous pouvez appeler. Si vous disposez d’un plan interurbain\, veuillez appeler le 1 647 558 0588\, sinon vous pouvez appeler le numéro gratuit 1 855 703 8985. Le numéro d’appel de la réunion est 195 771 300. Si vous utilisez votre smartphone pour une réunion Zoom pour la première fois\, vous devrez télécharger l’application (disponible sur l’App store ou le Play store) avant de rejoindre la réunion. \nVeuillez vous joindre au webinaire avant 18h30\, heure de l’Est. Si vous êtes en dehors de l’Ontario ou du Québec\, ajustez votre fuseau horaire ( voir https://www.timeanddate.com/time/zone/canada pour obtenir de l’aide).
URL:https://www.nfu.ca/fr/event/webinaire-construire-la-solidarite-avec-les-peuples-indigenes-pour-la-souverainite-alimentaire/
END:VEVENT
END:VCALENDAR