
BEGIN:VCALENDAR
VERSION:2.0
PRODID:-//National Farmers Union - ECPv6.15.20//NONSGML v1.0//EN
CALSCALE:GREGORIAN
METHOD:PUBLISH
X-ORIGINAL-URL:https://www.nfu.ca/fr/
X-WR-CALDESC:Évènements pour National Farmers Union
REFRESH-INTERVAL;VALUE=DURATION:PT1H
X-Robots-Tag:noindex
X-PUBLISHED-TTL:PT1H
BEGIN:VTIMEZONE
TZID:America/Regina
BEGIN:STANDARD
TZOFFSETFROM:-0600
TZOFFSETTO:-0600
TZNAME:CST
DTSTART:20240101T000000
END:STANDARD
END:VTIMEZONE
BEGIN:VEVENT
DTSTART;TZID=America/Regina:20250501T000000
DTEND;TZID=America/Regina:20250501T000000
DTSTAMP:20260421T054411
CREATED:20241017T105806Z
LAST-MODIFIED:20250324T142920Z
UID:10000545-1746057600-1746057600@www.nfu.ca
SUMMARY:Test Cropper : Réunissez les éléments à petite échelle
DESCRIPTION:Les Test Croppers reçoivent une petite parcelle de terre afin de pouvoir continuer à développer leurs compétences en matière de culture. Ils continuent d’avoir accès aux produits de la ferme sur place et de collaborer avec d’autres fermières pour générer des ventes et développer leurs marchés.
URL:https://www.nfu.ca/fr/event/test-cropper-reunissez-les-elements-a-petite-echelle/
CATEGORIES:Centre D'échange,Formation
END:VEVENT
BEGIN:VEVENT
DTSTART;TZID=America/Regina:20250501T000000
DTEND;TZID=America/Regina:20250501T000000
DTSTAMP:20260421T054411
CREATED:20241017T105806Z
LAST-MODIFIED:20250324T142910Z
UID:10000546-1746057600-1746057600@www.nfu.ca
SUMMARY:Test Marketer : Construisez votre marché
DESCRIPTION:Au cours des mois d’avril et de mai\, en tant que « Test Marketer »\, vous développerez votre marché et vos canaux de vente tout en travaillant un minimum de 5 heures par semaine à la production des légumes de votre choix. Lorsque les produits seront disponibles au début du mois de juin\, vous vous concentrerez sur l’approvisionnement de vos marchés en produits frais. Notre approche innovante se concentre d’abord sur l’aspect marketing et vente de l’entreprise agricole\, ce qui garantit que votre entreprise agricole sera en mesure de générer suffisamment de revenus pour être rentable.
URL:https://www.nfu.ca/fr/event/test-marketer-construire-votre-marche/
CATEGORIES:Centre D'échange,Formation
END:VEVENT
BEGIN:VEVENT
DTSTART;TZID=America/Regina:20250501T000000
DTEND;TZID=America/Regina:20250501T000000
DTSTAMP:20260421T054411
CREATED:20241017T105807Z
LAST-MODIFIED:20250324T151913Z
UID:10000544-1746057600-1746057600@www.nfu.ca
SUMMARY:Fermiere en phase de démarrage
DESCRIPTION:Les fermières débutantes ont achevé une année réussie en tant que Test Cropper et ont acquis les outils\, les machines et les compétences dont elles ont besoin pour gérer seules une plus grande parcelle de terre. Ils sont de plus en plus capables de cultiver des volumes importants de produits de manière économique. Ils continueront à établir leurs marchés et leurs circuits de vente et sont de mieux en mieux placés pour acquérir leurs propres terres et mener une carrière agricole fructueuse.
URL:https://www.nfu.ca/fr/event/fermiere-en-phase-de-demarrage/
CATEGORIES:Centre D'échange,Formation
END:VEVENT
END:VCALENDAR