
BEGIN:VCALENDAR
VERSION:2.0
PRODID:-//National Farmers Union - ECPv6.15.20//NONSGML v1.0//EN
CALSCALE:GREGORIAN
METHOD:PUBLISH
X-WR-CALNAME:National Farmers Union
X-ORIGINAL-URL:https://www.nfu.ca/fr/
X-WR-CALDESC:Évènements pour National Farmers Union
REFRESH-INTERVAL;VALUE=DURATION:PT1H
X-Robots-Tag:noindex
X-PUBLISHED-TTL:PT1H
BEGIN:VTIMEZONE
TZID:America/Regina
BEGIN:STANDARD
TZOFFSETFROM:-0600
TZOFFSETTO:-0600
TZNAME:CST
DTSTART:20240101T000000
END:STANDARD
END:VTIMEZONE
BEGIN:VEVENT
DTSTART;TZID=America/Regina:20250107T000000
DTEND;TZID=America/Regina:20250107T000000
DTSTAMP:20260421T121422
CREATED:20241017T105750Z
LAST-MODIFIED:20241021T061030Z
UID:10000552-1736208000-1736208000@www.nfu.ca
SUMMARY:Fondation Holistic Management
DESCRIPTION:Apprenez à gérer plus efficacement votre ferme ou votre ranch en fonction du triple bilan (durabilité sociale\, environnementale et financière). Améliorer votre capacité à observer et à comprendre les relations au sein de votre exploitation. Prendre des décisions et contrôler les résultats afin d’éviter les conséquences imprévues et d’atteindre vos objectifs plus rapidement avec moins de ressources.
URL:https://www.nfu.ca/fr/event/fondation-pour-une-gestion-holistique/
CATEGORIES:Centre D'échange,Formation
END:VEVENT
BEGIN:VEVENT
DTSTART;TZID=America/Regina:20250113T000000
DTEND;TZID=America/Regina:20250113T000000
DTSTAMP:20260421T121422
CREATED:20241017T105751Z
LAST-MODIFIED:20241021T061030Z
UID:10000551-1736726400-1736726400@www.nfu.ca
SUMMARY:Partie 4 : Obstacles financiers à la mise en œuvre de l'action climatique
DESCRIPTION:Le financement est l’un des défis les plus courants auxquels sont confrontées les collectivités locales lorsqu’elles cherchent à mettre en œuvre leurs plans climatiques. Les gouvernements municipaux disposent d’outils limités pour lever des fonds\, car ils dépendent largement des impôts fonciers\, des frais d’utilisation et des financements provenant d’autres niveaux de gouvernement. Bien que l’atténuation du changement climatique et l’adaptation à ses effets se traduisent en fin de compte par des économies pour les gouvernements et les habitants\, de nombreux projets nécessitent un investissement initial important\, ce qui peut être dissuasif pour les municipalités à court d’argent.     \nCependant\, les municipalités créent également des solutions nouvelles et innovantes\, créent des structures fiscales\, travaillent avec de nouveaux partenaires et exploitent de nouvelles sources de revenus. Ce webinaire proposera une discussion sur les différentes options de financement climatique disponibles pour les municipalités\, ainsi qu’une étude de cas sur l’approche réussie d’une collectivité en matière de financement de l’action climatique.
URL:https://www.nfu.ca/fr/event/partie-4-obstacles-financiers-a-la-mise-en-oeuvre-de-laction-climatique/
CATEGORIES:Centre D'échange,Formation
END:VEVENT
BEGIN:VEVENT
DTSTART;TZID=America/Regina:20250122T000000
DTEND;TZID=America/Regina:20250122T000000
DTSTAMP:20260421T121422
CREATED:20241017T105751Z
LAST-MODIFIED:20241031T175521Z
UID:10000550-1737504000-1737504000@www.nfu.ca
SUMMARY:Planification holistique du pâturage
DESCRIPTION:Dans ce cours\, vous apprendrez les principes et les pratiques clés de la planification des pâturages pour améliorer la santé et la productivité des terres. Vous apprendrez les étapes de cette approche simple de la planification du pâturage afin de mieux analyser et traiter les considérations critiques du pâturage\, ainsi que de déterminer les stocks de fourrage\, les besoins des animaux et les périodes de pâturage et de récupération. Une fois que vous aurez clarifié ces paramètres\, vous apprendrez à élaborer un plan de pâturage écrit et à le communiquer à d’autres. Ce cours dure sept semaines et vous devez prévoir environ 2 à 4 heures par semaine pour participer aux webinaires et réaliser les travaux.
URL:https://www.nfu.ca/fr/event/planification-du-paturage/
CATEGORIES:Centre D'échange,Formation
END:VEVENT
END:VCALENDAR