
BEGIN:VCALENDAR
VERSION:2.0
PRODID:-//National Farmers Union - ECPv6.15.20//NONSGML v1.0//EN
CALSCALE:GREGORIAN
METHOD:PUBLISH
X-ORIGINAL-URL:https://www.nfu.ca/fr/
X-WR-CALDESC:Évènements pour National Farmers Union
REFRESH-INTERVAL;VALUE=DURATION:PT1H
X-Robots-Tag:noindex
X-PUBLISHED-TTL:PT1H
BEGIN:VTIMEZONE
TZID:America/Regina
BEGIN:STANDARD
TZOFFSETFROM:-0600
TZOFFSETTO:-0600
TZNAME:CST
DTSTART:20240101T000000
END:STANDARD
END:VTIMEZONE
BEGIN:VEVENT
DTSTART;TZID=America/Regina:20250515T040000
DTEND;TZID=America/Regina:20260401T035959
DTSTAMP:20260423T081344
CREATED:20250515T170542Z
LAST-MODIFIED:20250515T170602Z
UID:10000665-1747281600-1775015999@www.nfu.ca
SUMMARY:Programme de paiements anticipés
DESCRIPTION:Le programme de paiements anticipés est un programme fédéral de garantie de prêts qui permet aux producteurs agricoles d’accéder facilement à des avances de trésorerie à faible coût.\n\nDans le cadre de ce programme\, vous pouvez obtenir jusqu’à 1 000 000 $ d’avances totales en fonction de la valeur des produits agricoles admissibles que vous produirez ou que vous avez en stock. Le gouvernement du Canada paie les intérêts sur la première tranche de 100 000 $ de votre avance (la première tranche de 250 000 $ pour 2024 et 2025). Vous remboursez votre avance au fur et à mesure que vous vendez les produits agricoles. Vous avez jusqu’à 18 mois pour rembourser entièrement l’avance pour la plupart des produits (jusqu’à 24 mois pour les bovins et les bisons).  \n\nLes avances du PPA peuvent vous fournir des liquidités pour répondre à vos besoins financiers jusqu’à ce que vous soyez en mesure de vendre vos produits agricoles. Le programme peut vous offrir une certaine souplesse de commercialisation en vous permettant de vendre vos produits agricoles en fonction des conditions du marché plutôt que d’un besoin de liquidités. \n\nLes avances du PPA sont disponibles par l’intermédiaire de 26 organisations de producteurs participantes\, c’est-à-dire les administrateurs du PPA\, dans tout le Canada.
URL:https://www.nfu.ca/fr/event/advance-payments-program/
LOCATION:online
CATEGORIES:Bourse
END:VEVENT
BEGIN:VEVENT
DTSTART;TZID=America/Regina:20251001T040000
DTEND;TZID=America/Regina:20260320T035959
DTSTAMP:20260423T081344
CREATED:20250515T170603Z
LAST-MODIFIED:20250515T174832Z
UID:10000668-1759291200-1773979199@www.nfu.ca
SUMMARY:RÉSEAU DE MENTORAT D'ENTREPRISE
DESCRIPTION:Que vous ayez besoin de connaissances de base en gestion d’entreprise ou d’une planification stratégique pour une croissance à long terme\, les Jeunes Agriculteurs savent que l’acquisition de compétences en matière de développement d’entreprise est l’un des plus grands défis auxquels sont confrontés les nouveaux fermiers. Notre objectif est d’offrir aux nouveaux fermiers\, aux fermiers de la nouvelle génération ou aux fermiers qui ajoutent une nouvelle entreprise à une exploitation agricole existante\, la possibilité d’acquérir des connaissances en gestion d’entreprise et de les utiliser pour développer leur exploitation agricole afin d’en assurer la viabilité à long terme. \n\nLes mentorés bénéficieront d’environ 30 heures de mentorat\, principalement à la fin de l’hiver et pendant la saison de planification du printemps\, d’une série de webinaires en ligne sur l’entreprise agricole avec des séances de questions et réponses en direct pendant l’hiver\, de contrôles pendant la saison estivale et d’un processus de synthèse de la réflexion à l’automne. Les mentors adoptent une approche de coach pour vous aider à tracer une voie vers la viabilité à long terme de votre entreprise. Les mentorats se feront par téléphone\, par courrier électronique et\, si possible\, par des visites sur place.
URL:https://www.nfu.ca/fr/event/business-mentorship-network-2/
LOCATION:online
CATEGORIES:Formation
END:VEVENT
END:VCALENDAR